Uber Exif Photo
By-line : Po Yin Ho
Make : Canon
Camera Model Name : Canon EOS 20D
Orientation : Horizontal (normal)
Software : Adobe Photoshop CS5 Macintosh
Modify Date : 2011:08:31 23:18:47
Artist : Po Yin Ho
Exposure Time : 1/320
F Number : 2.0
Exposure Program : Aperture-priority AE
ISO : 400
Date/Time Original : 2011:08:25 17:33:00
Create Date : 2011:08:25 17:33:00
Shutter Speed Value : 1/320
Aperture Value : 2.0
Exposure Compensation : 0
Max Aperture Value : 2.0
Metering Mode : Multi-segment
Flash : Off, Did not fire
Focal Length : 85.0 mm
Color Space : Uncalibrated
Exif Image Width : 800
Exif Image Height : 1200
Custom Rendered : Normal
Exposure Mode : Auto
White Balance : Auto
Scene Capture Type : Standard
Owner Name : Po Yin Ho
Serial Number : 730415708
Lens Info : 50mm f/?
Lens Model : 50.0 mm
Profile Description : Adobe RGB (1998)
Format : image/jpeg
Lens : 50.0 mm
Image Number : 205
Flash Compensation : 0
Firmware : 2.0.3
Rating : 0
Creator Tool : Adobe Photoshop CS5 Macintosh
Date Created : 2011:08:25 17:33
Color Mode : RGB
ICC Profile Name : Adobe RGB (1998)
Raw File Name : IMG_0205.CR2
Version : 6.4.1
Process Version : 5.7
Color Temperature : 5000
Tint : +8
Exposure : +1.55
Shadows : 5
Brightness : +50
Contrast : +31
Saturation : 0
Sharpness : 25
Luminance Smoothing : 0
Color Noise Reduction : 25
Chromatic Aberration R : 0
Chromatic Aberration B : 0
Vignette Amount : 0
Shadow Tint : 0
Red Hue : 0
Red Saturation : 0
Green Hue : 0
Green Saturation : 0
Blue Hue : 0
Blue Saturation : 0
Fill Light : 10
Vibrance : 0
Highlight Recovery : 18
Clarity : +10
Defringe : 0
Hue Adjustment Red : 0
Hue Adjustment Orange : 0
Hue Adjustment Yellow : 0
Hue Adjustment Green : 0
Hue Adjustment Aqua : 0
Hue Adjustment Blue : 0
Hue Adjustment Purple : 0
Hue Adjustment Magenta : 0
Saturation Adjustment Red : 0
Saturation Adjustment Orange : 0
Saturation Adjustment Yellow : 0
Saturation Adjustment Green : 0
Saturation Adjustment Aqua : 0
Saturation Adjustment Blue : 0
Saturation Adjustment Purple : 0
Saturation Adjustment Magenta : 0
Luminance Adjustment Red : 0
Luminance Adjustment Orange : 0
Luminance Adjustment Yellow : 0
Luminance Adjustment Green : 0
Luminance Adjustment Aqua : 0
Luminance Adjustment Blue : 0
Luminance Adjustment Purple : 0
Luminance Adjustment Magenta : 0
Split Toning Shadow Hue : 0
Split Toning Shadow Saturation : 0
Split Toning Highlight Hue : 0
Split Toning Highlight Saturation : 0
Split Toning Balance : 0
Parametric Shadows : 0
Parametric Darks : 0
Parametric Lights : 0
Parametric Highlights : 0
Parametric Shadow Split : 25
Parametric Midtone Split : 50
Parametric Highlight Split : 75
Sharpen Radius : +1.0
Sharpen Detail : 25
Sharpen Edge Masking : 0
Post Crop Vignette Amount : 0
Grain Amount : 0
Color Noise Reduction Detail : 50
Lens Profile Enable : 0
Lens Manual Distortion Amount : 0
Perspective Vertical : 0
Perspective Horizontal : 0
Perspective Rotate : 0.0
Perspective Scale : 100
Convert To Grayscale : False
Tone Curve Name : Medium Contrast
Camera Profile : Adobe Standard
Lens Profile Setup : LensDefaults
Has Settings : True
Has Crop : False
Already Applied : True
Creator : Po Yin Ho
Tone Curve : 0, 0, 32, 22, 64, 56, 128, 128, 192, 196, 255, 255
Image Width : 200
Image Height : 300
Bits Per Sample : 8
Color Components : 3
Aperture : 2.0
Image Size : 200x300
Megapixels : 0.060
Scale Factor To 35 mm Equivalent : 1.6
Shutter Speed : 1/320
Circle Of Confusion : 0.019 mm
Field Of View : 15.1 deg
Focal Length : 85.0 mm (35 mm equivalent: 136.1 mm)
Hyperfocal Distance : 192.55 m
Light Value : 8.3
Lens ID : 50.0mm