Uber Exif Photo
Photometric Interpretation : BlackIsZero
Make : Canon
Camera Model Name : Canon EOS 5D Mark II
Orientation : Horizontal (normal)
Samples Per Pixel : 4
Software : Adobe Photoshop CS5 Macintosh
Modify Date : 2011:09:15 21:22:17
Exposure Time : 1/80
F Number : 1.4
Exposure Program : Aperture-priority AE
ISO : 320
Date/Time Original : 2011:08:14 16:37:42
Create Date : 2011:08:14 16:37:42
Shutter Speed Value : 1/80
Aperture Value : 1.4
Exposure Compensation : +2/3
Max Aperture Value : 1.4
Metering Mode : Multi-segment
Flash : Off, Did not fire
Focal Length : 35.0 mm
Color Space : Uncalibrated
Exif Image Width : 607
Exif Image Height : 758
Custom Rendered : Normal
Exposure Mode : Auto
White Balance : Auto
Scene Capture Type : Standard
Serial Number : 1120701927
Lens Info : 35mm f/?
Lens Model : 35mm
Lens : 35mm
Image Number : 0
Flash Compensation : 0
Firmware : 2.0.4
Creator Tool : Adobe Photoshop Camera Raw 6.4.1
Date Created : 2011:08:14 16:37:42.011
Color Mode : Grayscale
ICC Profile Name : Gray Gamma 2.2
Format : image/jpeg
Raw File Name : IMG_0773 copy.CR2
Version : 6.4.1
Process Version : 5.7
Color Temperature : 4500
Tint : +28
Exposure : +0.40
Shadows : 13
Brightness : +34
Contrast : +83
Sharpness : 76
Luminance Smoothing : 0
Color Noise Reduction : 25
Chromatic Aberration R : 0
Chromatic Aberration B : 0
Vignette Amount : 0
Shadow Tint : 0
Red Hue : 0
Red Saturation : 0
Green Hue : 0
Green Saturation : 0
Blue Hue : 0
Blue Saturation : 0
Fill Light : 4
Highlight Recovery : 0
Clarity : +93
Defringe : 0
Gray Mixer Red : -8
Gray Mixer Orange : -14
Gray Mixer Yellow : -16
Gray Mixer Green : -21
Gray Mixer Aqua : -17
Gray Mixer Blue : +6
Gray Mixer Purple : +11
Gray Mixer Magenta : +2
Split Toning Shadow Hue : 0
Split Toning Shadow Saturation : 0
Split Toning Highlight Hue : 0
Split Toning Highlight Saturation : 0
Split Toning Balance : 0
Parametric Shadows : 0
Parametric Darks : +47
Parametric Lights : 0
Parametric Highlights : 0
Parametric Shadow Split : 25
Parametric Midtone Split : 50
Parametric Highlight Split : 75
Sharpen Radius : +1.0
Sharpen Detail : 25
Sharpen Edge Masking : 0
Post Crop Vignette Amount : 0
Grain Amount : 0
Color Noise Reduction Detail : 50
Lens Profile Enable : 0
Lens Manual Distortion Amount : 0
Perspective Vertical : 0
Perspective Horizontal : 0
Perspective Rotate : 0.0
Perspective Scale : 100
Convert To Grayscale : True
Tone Curve Name : Medium Contrast
Camera Profile : Adobe Standard
Lens Profile Setup : LensDefaults
Has Settings : True
Crop Top : 0.012425
Crop Left : 0.245726
Crop Bottom : 0.810096
Crop Right : 0.927433
Crop Angle : -0.70298
Crop Constrain To Warp : 1
Crop Width : 4
Crop Height : 5
Crop Unit : Unknown (3)
Has Crop : True
Already Applied : True
Tone Curve : 0, 0, 32, 22, 64, 56, 128, 128, 192, 196, 255, 255
Image Width : 240
Image Height : 300
Bits Per Sample : 8
Color Components : 1
Aperture : 1.4
Image Size : 240x300
Megapixels : 0.072
Scale Factor To 35 mm Equivalent : 1.0
Shutter Speed : 1/80
Create Date : 2011:08:14 16:37:42.11
Date/Time Original : 2011:08:14 16:37:42.11
Circle Of Confusion : 0.031 mm
Field Of View : 55.6 deg
Focal Length : 35.0 mm (35 mm equivalent: 34.2 mm)
Hyperfocal Distance : 28.42 m
Light Value : 5.6
Lens ID : Carl Zeiss Distagon T* 35mm f/1.4 ZE