Uber Exif Photo
By-line : Steve Long
Caption-Abstract : SONY DSC
Image Description : SONY DSC
Make : SONY
Camera Model Name : DSLR-A850
Software : Adobe Photoshop Camera Raw 6.5 (Windows)
Modify Date : 2011:09:18 21:44:47
Artist : Steve Long
Exposure Time : 1/640
F Number : 9.0
Exposure Program : Program AE
ISO : 200
Date/Time Original : 2011:09:11 15:16:42
Create Date : 2011:09:11 15:16:42
Shutter Speed Value : 1/640
Aperture Value : 9.0
Brightness Value : 9.62
Exposure Compensation : 0
Max Aperture Value : 2.8
Metering Mode : Multi-segment
Light Source : Unknown
Flash : Auto, Did not fire
Focal Length : 35.0 mm
Scene Type : Directly photographed
Custom Rendered : Normal
Exposure Mode : Auto
White Balance : Auto
Focal Length In 35mm Format : 35 mm
Scene Capture Type : Standard
Contrast : Normal
Saturation : Normal
Sharpness : Normal
Lens Info : 24-70mm f/2.8
Lens Model : 24-70mm F2.8 ZA SSM
Profile Description : Adobe RGB (1998)
Creator Tool : Adobe Photoshop Camera Raw 6.5 (Windows)
Lens : 24-70mm F2.8 ZA SSM
Date Created : 2011:09:11 15:16:42-07:00
Preserved File Name : DSC06486.ARW
Format : image/jpeg
Raw File Name : Sep112011_2566.dng
Version : 6.5
Process Version : 5.7
Color Temperature : 5700
Tint : +20
Exposure : 0.00
Shadows : 8
Brightness : +29
Luminance Smoothing : 0
Color Noise Reduction : 25
Chromatic Aberration R : 0
Chromatic Aberration B : 0
Vignette Amount : 0
Shadow Tint : 0
Red Hue : 0
Red Saturation : 0
Green Hue : 0
Green Saturation : 0
Blue Hue : 0
Blue Saturation : 0
Fill Light : 47
Vibrance : +4
Highlight Recovery : 0
Clarity : +36
Defringe : 0
Hue Adjustment Red : 0
Hue Adjustment Orange : 0
Hue Adjustment Yellow : 0
Hue Adjustment Green : 0
Hue Adjustment Aqua : 0
Hue Adjustment Blue : 0
Hue Adjustment Purple : 0
Hue Adjustment Magenta : 0
Saturation Adjustment Red : 0
Saturation Adjustment Orange : 0
Saturation Adjustment Yellow : 0
Saturation Adjustment Green : 0
Saturation Adjustment Aqua : 0
Saturation Adjustment Blue : 0
Saturation Adjustment Purple : 0
Saturation Adjustment Magenta : 0
Luminance Adjustment Red : 0
Luminance Adjustment Orange : 0
Luminance Adjustment Yellow : 0
Luminance Adjustment Green : 0
Luminance Adjustment Aqua : 0
Luminance Adjustment Blue : 0
Luminance Adjustment Purple : 0
Luminance Adjustment Magenta : 0
Split Toning Shadow Hue : 0
Split Toning Shadow Saturation : 0
Split Toning Highlight Hue : 0
Split Toning Highlight Saturation : 0
Split Toning Balance : 0
Parametric Shadows : 0
Parametric Darks : 0
Parametric Lights : 0
Parametric Highlights : 0
Parametric Shadow Split : 25
Parametric Midtone Split : 50
Parametric Highlight Split : 75
Sharpen Radius : +1.0
Sharpen Detail : 25
Sharpen Edge Masking : 0
Post Crop Vignette Amount : 0
Grain Amount : 0
Color Noise Reduction Detail : 50
Lens Profile Enable : 0
Lens Manual Distortion Amount : 0
Perspective Vertical : 0
Perspective Horizontal : 0
Perspective Rotate : 0.0
Perspective Scale : 100
Convert To Grayscale : False
Tone Curve Name : Medium Contrast
Camera Profile : Adobe Standard
Lens Profile Setup : LensDefaults
Has Settings : True
Crop Top : 0.010638
Crop Left : 0.057624
Crop Bottom : 0.989362
Crop Right : 0.942376
Crop Angle : -0.462053
Crop Constrain To Warp : 1
Crop Width : 3
Crop Height : 4
Crop Unit : Unknown (3)
Has Crop : True
Already Applied : True
Description : SONY DSC
Creator : Steve Long
Creator Address : 32 Danvers
Creator City : San Francisco
Creator Region : CA
Creator Postal Code : 94114
Creator Country : US
Creator Work Telephone : 415 621-1765
Creator Work Email : slong@sfopera.com
Tone Curve : 0, 0, 32, 22, 64, 56, 128, 128, 192, 196, 255, 255
Image Width : 300
Image Height : 225
Bits Per Sample : 8
Color Components : 3
Aperture : 9.0
Image Size : 300x225
Megapixels : 0.068
Scale Factor To 35 mm Equivalent : 1.0
Shutter Speed : 1/640
Circle Of Confusion : 0.030 mm
Field Of View : 54.4 deg
Focal Length : 35.0 mm (35 mm equivalent: 35.0 mm)
Hyperfocal Distance : 4.53 m
Light Value : 14.7
Lens ID : Carl Zeiss Vario-Sonnar T* 24-70mm F2.8 ZA SSM (SAL2470Z) or Carl Zeiss Vario-Sonnar T* 24-70mm F2.8 ZA SSM II (SAL2470Z2) or Tamron SP 24-70mm F2.8 Di USD