Uber Exif Photo
Keywords : People, Portraits__ Others people, Portraits__ family & friends
By-line : Petr Travnicek
Caption-Abstract : Olomouc_Den_zeleznice_2010
Image Description : Olomouc_Den_zeleznice_2010
Make : Canon
Camera Model Name : Canon EOS 5D Mark II
Modify Date : 2011:09:06 21:17:27
Artist : Petr Travnicek
Exposure Time : 1/160
F Number : 4.0
Exposure Program : Aperture-priority AE
ISO : 200
Sensitivity Type : Unknown
Date/Time Original : 2010:09:25 15:48:44
Create Date : 2010:09:25 15:48:44
Shutter Speed Value : 1/160
Aperture Value : 4.0
Exposure Compensation : -2/3
Max Aperture Value : 2.8
Metering Mode : Multi-segment
Focal Length : 21.0 mm
Custom Rendered : Normal
Exposure Mode : Auto
White Balance : Manual
Scene Capture Type : Standard
Owner Name : Petr Travnicek
Serial Number : 1030714727
Lens Info : 21mm f/?
Lens Model : Zeiss Distagon T* 2.8/21 ZE
Profile Description : sRGB IEC61966-2.1
Date/Time Digitized : 2010:09:25 15:48:44.29+02:00
Exif Image Width : 1120
Exif Image Height : 1680
Rating : 3
Label : Převod do BW
Creator Tool : Adobe Photoshop Lightroom
Lens : Zeiss Distagon T* 2.8/21 ZE
Image Number : 0
Flash Compensation : 0
Firmware : 2.0.7
Version : 6.3
Process Version : 5.7
Color Temperature : 12500
Tint : +35
Exposure : +0.75
Shadows : 5
Brightness : +57
Contrast : +25
Saturation : -71
Sharpness : 26
Luminance Smoothing : 0
Color Noise Reduction : 25
Chromatic Aberration R : 0
Chromatic Aberration B : 0
Vignette Amount : -61
Vignette Midpoint : 34
Shadow Tint : +8
Red Hue : +96
Red Saturation : +3
Green Hue : +11
Green Saturation : +25
Blue Hue : +11
Blue Saturation : -70
Fill Light : 0
Vibrance : 0
Highlight Recovery : 0
Clarity : +44
Defringe : 0
Hue Adjustment Red : 0
Hue Adjustment Orange : 0
Hue Adjustment Yellow : 0
Hue Adjustment Green : 0
Hue Adjustment Aqua : 0
Hue Adjustment Blue : 0
Hue Adjustment Purple : 0
Hue Adjustment Magenta : 0
Saturation Adjustment Red : 0
Saturation Adjustment Orange : 0
Saturation Adjustment Yellow : 0
Saturation Adjustment Green : 0
Saturation Adjustment Aqua : 0
Saturation Adjustment Blue : 0
Saturation Adjustment Purple : 0
Saturation Adjustment Magenta : 0
Luminance Adjustment Red : 0
Luminance Adjustment Orange : 0
Luminance Adjustment Yellow : 0
Luminance Adjustment Green : 0
Luminance Adjustment Aqua : 0
Luminance Adjustment Blue : 0
Luminance Adjustment Purple : 0
Luminance Adjustment Magenta : 0
Split Toning Shadow Hue : 0
Split Toning Shadow Saturation : 0
Split Toning Highlight Hue : 0
Split Toning Highlight Saturation : 0
Split Toning Balance : 0
Parametric Shadows : -14
Parametric Darks : -3
Parametric Lights : 0
Parametric Highlights : 0
Parametric Shadow Split : 25
Parametric Midtone Split : 50
Parametric Highlight Split : 75
Sharpen Radius : +0.9
Sharpen Detail : 25
Sharpen Edge Masking : 0
Post Crop Vignette Amount : -32
Post Crop Vignette Midpoint : 34
Post Crop Vignette Feather : 63
Post Crop Vignette Roundness : -17
Post Crop Vignette Style : Highlight Priority
Post Crop Vignette Highlight Contrast : 0
Grain Amount : 0
Color Noise Reduction Detail : 50
Lens Profile Enable : 1
Lens Manual Distortion Amount : 0
Perspective Vertical : 0
Perspective Horizontal : 0
Perspective Rotate : 0.0
Perspective Scale : 100
Convert To Grayscale : False
Tone Curve Name : Linear
Camera Profile : Adobe Standard
Lens Profile Setup : LensDefaults
Lens Profile Name : Adobe (Zeiss Distagon T* 2,8/21 ZE)
Lens Profile Filename : Canon (Zeiss Distagon T 21 f28 ZE).lcp
Lens Profile Distortion Scale : 100
Lens Profile Chromatic Aberration Scale : 100
Lens Profile Vignetting Scale : 100
Has Settings : True
Crop Top : 0.059376
Crop Left : 0.023498
Crop Bottom : 1
Crop Right : 0.964121
Crop Angle : 0
Crop Constrain To Warp : 0
Crop Width : 1680
Crop Height : 1120
Crop Unit : pixels
Has Crop : True
Already Applied : True
Flash Fired : False
Flash Return : No return detection
Flash Mode : Off
Flash Function : False
Flash Red Eye Mode : False
Creator : Petr Travnicek
Description : Olomouc_Den_zeleznice_2010
Subject : People, Portraits__ Others people, Portraits__ family & friends
Hierarchical Subject : People|Portraits__ Others people, People|Portraits__ family & friends
Tone Curve : 0, 0, 255, 255
Gradient Based Corr What : Correction
Gradient Based Corr Amount : 1.000000
Gradient Based Corr Active : true
Gradient Based Corr Exposure : -0.772000
Gradient Based Corr Saturation : 0.000000
Gradient Based Corr Contrast : 0.000000
Gradient Based Corr Clarity : 0.000000
Gradient Based Corr Sharpness : -0.570000
Gradient Based Corr Brightness : 0.000000
Gradient Based Corr Toning Hue : 138.000000
Gradient Based Corr Toning Saturation : 0.000000
Gradient Based Corr Mask What : Mask/Gradient
Gradient Based Corr Mask Value : 1.000000
Gradient Based Corr Mask Zero X : 0.683450
Gradient Based Corr Mask Zero Y : 0.578801
Gradient Based Corr Mask Full X : 0.952604
Gradient Based Corr Mask Full Y : 0.442082
Image Width : 200
Image Height : 300
Bits Per Sample : 8
Color Components : 3
Aperture : 4.0
Image Size : 200x300
Megapixels : 0.060
Scale Factor To 35 mm Equivalent : 1.0
Shutter Speed : 1/160
Create Date : 2010:09:25 15:48:44.29
Date/Time Original : 2010:09:25 15:48:44.29
Flash : Off, Did not fire
Circle Of Confusion : 0.031 mm
Field Of View : 82.6 deg
Focal Length : 21.0 mm (35 mm equivalent: 20.5 mm)
Hyperfocal Distance : 3.58 m
Light Value : 10.3
Lens ID : Carl Zeiss Distagon T* 21mm f/2.8 ZE