Uber Exif Photo
Keywords : Africa, Europe, Madeira, Portugal, Tokina AT-X 90mm F2.5 Bokina, Zeiss Planar 50mm F1.4
By-line : Jakub Mach 2011
Province-State : Madeira
Country-Primary Location Name : Portugal
Copyright Notice : © Jakub Mach 2011
Caption-Abstract : z Pico do Areiro (1816m) na Pico Ruivo (1862m)
Copyright Flag : True
Image Description : z Pico do Areiro (1816m) na Pico Ruivo (1862m)
Make : Canon
Camera Model Name : Canon EOS-1D Mark III
Software : Autopano Giga
Modify Date : 2011:10:20 23:37:29
Artist : Jakub Mach 2011
Copyright : (C) Jakub Mach 2011
Exposure Time : 1/200
F Number : 1.4
Exposure Program : Aperture-priority AE
ISO : 200
Date/Time Original : 2011:09:18 16:23:20
Create Date : 2011:09:18 16:23:20
Shutter Speed Value : 1/200
Aperture Value : 1.4
Exposure Compensation : 0
Max Aperture Value : 1.4
Metering Mode : Center-weighted average
Focal Length : 50.0 mm
User Comment : Kolor stitching | 5 pictures | Size: 6239 x 4154 | FOV: 56.14 x 37.53 ~ 11.32 | RMS: 4.14 | Lens: Standard | Projection: Planar | Color: LDR |
Custom Rendered : Normal
Exposure Mode : Auto
White Balance : Manual
Scene Capture Type : Standard
Profile Description : sRGB IEC61966-2.1
State : Madeira
Country : Portugal
Date/Time Digitized : 2011:09:18 16:23:20.00+02:00
Exif Image Width : 1800
Exif Image Height : 1198
Creator Tool : Adobe Photoshop Lightroom
Rating : 4
Marked : True
Version : 6.1
Process Version : 5.7
Incremental Temperature : 0
Incremental Tint : 0
Exposure : 0.00
Shadows : 0
Brightness : 0
Contrast : 0
Saturation : 0
Sharpness : 0
Luminance Smoothing : 0
Color Noise Reduction : 0
Chromatic Aberration R : 0
Chromatic Aberration B : 0
Vignette Amount : 0
Shadow Tint : 0
Red Hue : 0
Red Saturation : 0
Green Hue : 0
Green Saturation : 0
Blue Hue : 0
Blue Saturation : 0
Fill Light : 0
Vibrance : 0
Highlight Recovery : 0
Clarity : 0
Defringe : 0
Hue Adjustment Red : 0
Hue Adjustment Orange : 0
Hue Adjustment Yellow : 0
Hue Adjustment Green : 0
Hue Adjustment Aqua : 0
Hue Adjustment Blue : 0
Hue Adjustment Purple : 0
Hue Adjustment Magenta : 0
Saturation Adjustment Red : +48
Saturation Adjustment Orange : +48
Saturation Adjustment Yellow : +48
Saturation Adjustment Green : 0
Saturation Adjustment Aqua : 0
Saturation Adjustment Blue : 0
Saturation Adjustment Purple : 0
Saturation Adjustment Magenta : 0
Luminance Adjustment Red : 0
Luminance Adjustment Orange : 0
Luminance Adjustment Yellow : 0
Luminance Adjustment Green : 0
Luminance Adjustment Aqua : 0
Luminance Adjustment Blue : 0
Luminance Adjustment Purple : 0
Luminance Adjustment Magenta : 0
Split Toning Shadow Hue : 0
Split Toning Shadow Saturation : 0
Split Toning Highlight Hue : 0
Split Toning Highlight Saturation : 0
Split Toning Balance : 0
Parametric Shadows : 0
Parametric Darks : 0
Parametric Lights : 0
Parametric Highlights : 0
Parametric Shadow Split : 25
Parametric Midtone Split : 50
Parametric Highlight Split : 75
Sharpen Radius : +1.0
Sharpen Detail : 25
Sharpen Edge Masking : 0
Post Crop Vignette Amount : 0
Grain Amount : 0
Lens Profile Enable : 0
Lens Manual Distortion Amount : 0
Perspective Vertical : 0
Perspective Horizontal : 0
Perspective Rotate : 0.0
Perspective Scale : 100
Convert To Grayscale : False
Tone Curve Name : Linear
Camera Profile : Embedded
Lens Profile Setup : LensDefaults
Has Settings : True
Has Crop : False
Already Applied : True
Flash Fired : False
Flash Return : No return detection
Flash Mode : Off
Flash Function : False
Flash Red Eye Mode : False
Description : z Pico do Areiro (1816m) na Pico Ruivo (1862m)
Creator : Jakub Mach 2011
Rights : © Jakub Mach 2011
Subject : Africa, Europe, Madeira, Portugal, Tokina AT-X 90mm F2.5 Bokina, Zeiss Planar 50mm F1.4
Creator Country : Czech republic
Tone Curve : 0, 0, 255, 255
Paint Correction What : Correction
Paint Correction Amount : 1.000000
Paint Correction Active : true
Paint Correction Exposure : -0.044000
Paint Correction Saturation : 0.000000
Paint Correction Contrast : 0.000000
Paint Correction Clarity : 0.000000
Paint Correction Sharpness : 0.000000
Paint Correction Brightness : 0.000000
Paint Correction Toning Hue : 240.000000
Paint Correction Toning Saturation : 0.000000
Paint Correction Mask What : Mask/Paint
Paint Correction Mask Value : 1.000000
Paint Correction Mask Radius : 0.062947
Paint Correction Mask Flow : 1.000000
Paint Correction Mask Center Weight : 0.108060
Image Width : 300
Image Height : 200
Bits Per Sample : 8
Color Components : 3
Aperture : 1.4
Image Size : 300x200
Megapixels : 0.060
Scale Factor To 35 mm Equivalent : 1.3
Shutter Speed : 1/200
Create Date : 2011:09:18 16:23:20.00
Date/Time Original : 2011:09:18 16:23:20.00
Flash : Off, Did not fire
Circle Of Confusion : 0.023 mm
Field Of View : 31.4 deg
Focal Length : 50.0 mm (35 mm equivalent: 64.1 mm)
Hyperfocal Distance : 76.16 m
Light Value : 7.6