Uber Exif Photo
Keywords : Africa, Europe, Madeira, Portugal, Zeiss Planar 50mm F1.4
By-line : Jakub Mach 2011
Sub-location : Ponta de Sao Laurenco
Province-State : Madeira
Country-Primary Location Name : Portugal
Copyright Notice : © Jakub Mach 2011
Copyright Flag : True
Make : Canon
Camera Model Name : Canon EOS-1D Mark III
Modify Date : 2011:10:21 08:16:53
Artist : Jakub Mach 2011
Copyright : (C) Jakub Mach 2011
Exposure Time : 1/200
F Number : 1.4
Exposure Program : Aperture-priority AE
ISO : 100
Date/Time Original : 2011:09:26 19:39:56
Create Date : 2011:09:26 19:39:56
Shutter Speed Value : 1/200
Aperture Value : 1.4
Exposure Compensation : -2/3
Max Aperture Value : 1.4
Metering Mode : Center-weighted average
Focal Length : 50.0 mm
Custom Rendered : Normal
Exposure Mode : Auto
White Balance : Manual
Scene Capture Type : Standard
Profile Description : sRGB IEC61966-2.1
Date/Time Digitized : 2011:09:26 19:39:56.00+02:00
Exif Image Width : 1100
Exif Image Height : 733
Rating : 3
Creator Tool : Adobe Photoshop Lightroom
Serial Number : 544291
Lens Info : 50mm f/?
Lens : 50-50mm
Image Number : 0
Flash Compensation : 0
Owner Name : Jakub Mach
Firmware : 1.2.5
Location : Ponta de Sao Laurenco
State : Madeira
Country : Portugal
Marked : True
Version : 6.1
Process Version : 5.7
Color Temperature : 5650
Tint : +1
Exposure : 0.00
Shadows : 5
Brightness : +50
Contrast : +38
Saturation : 0
Sharpness : 77
Luminance Smoothing : 0
Color Noise Reduction : 25
Chromatic Aberration R : 0
Chromatic Aberration B : 0
Vignette Amount : 0
Shadow Tint : 0
Red Hue : 0
Red Saturation : 0
Green Hue : 0
Green Saturation : 0
Blue Hue : 0
Blue Saturation : 0
Fill Light : 0
Vibrance : 0
Highlight Recovery : 0
Clarity : 0
Defringe : 0
Hue Adjustment Red : 0
Hue Adjustment Orange : 0
Hue Adjustment Yellow : 0
Hue Adjustment Green : 0
Hue Adjustment Aqua : 0
Hue Adjustment Blue : 0
Hue Adjustment Purple : 0
Hue Adjustment Magenta : 0
Saturation Adjustment Red : +64
Saturation Adjustment Orange : +64
Saturation Adjustment Yellow : +64
Saturation Adjustment Green : 0
Saturation Adjustment Aqua : 0
Saturation Adjustment Blue : 0
Saturation Adjustment Purple : 0
Saturation Adjustment Magenta : 0
Luminance Adjustment Red : 0
Luminance Adjustment Orange : 0
Luminance Adjustment Yellow : 0
Luminance Adjustment Green : 0
Luminance Adjustment Aqua : 0
Luminance Adjustment Blue : 0
Luminance Adjustment Purple : 0
Luminance Adjustment Magenta : 0
Split Toning Shadow Hue : 0
Split Toning Shadow Saturation : 0
Split Toning Highlight Hue : 0
Split Toning Highlight Saturation : 0
Split Toning Balance : 0
Parametric Shadows : 0
Parametric Darks : 0
Parametric Lights : 0
Parametric Highlights : 0
Parametric Shadow Split : 25
Parametric Midtone Split : 50
Parametric Highlight Split : 75
Sharpen Radius : +0.7
Sharpen Detail : 24
Sharpen Edge Masking : 90
Post Crop Vignette Amount : 0
Grain Amount : 0
Color Noise Reduction Detail : 50
Lens Profile Enable : 0
Lens Manual Distortion Amount : 0
Perspective Vertical : 0
Perspective Horizontal : 0
Perspective Rotate : 0.0
Perspective Scale : 100
Convert To Grayscale : False
Tone Curve Name : Medium Contrast
Camera Profile : Camera Neutral
Lens Profile Setup : LensDefaults
Has Settings : True
Has Crop : False
Already Applied : True
Creator : Jakub Mach 2011
Rights : © Jakub Mach 2011
Subject : Africa, Europe, Madeira, Portugal, Zeiss Planar 50mm F1.4
Flash Fired : False
Flash Return : No return detection
Flash Mode : Off
Flash Function : False
Flash Red Eye Mode : False
Creator Country : Czech republic
Creator Work Email : machjakub@seznam.cz
Tone Curve : 0, 0, 32, 22, 64, 56, 128, 128, 192, 196, 255, 255
Image Width : 300
Image Height : 200
Bits Per Sample : 8
Color Components : 3
Aperture : 1.4
Image Size : 300x200
Megapixels : 0.060
Scale Factor To 35 mm Equivalent : 1.3
Shutter Speed : 1/200
Create Date : 2011:09:26 19:39:56.00
Date/Time Original : 2011:09:26 19:39:56.00
Flash : Off, Did not fire
Circle Of Confusion : 0.023 mm
Field Of View : 31.4 deg
Focal Length : 50.0 mm (35 mm equivalent: 64.1 mm)
Hyperfocal Distance : 76.16 m
Light Value : 8.6
Lens ID : Canon EF 35-80mm f/4-5.6