Uber Exif Photo
Object Name : Port Meadow Sunset
Keywords : 0.6S GND, 0.9H GND, D300s, Distagon T* 2.8/21, Lee, Nikkor, Nikon, Oxford, Port Meadow, ZF.2, Zeiss, colour, plants, sunset, water
By-line : Gabriel Lenagh-Snow
Copyright Notice : Gabriel Lenagh-Snow
Copyright Flag : True
Make : NIKON CORPORATION
Camera Model Name : NIKON D300S
Software : Adobe Photoshop Lightroom 3.4.1
Modify Date : 2011:11:06 21:06:20
Artist : Gabriel Lenagh-Snow
Copyright : Gabriel Lenagh-Snow
Exposure Time : 1/13
F Number : 8.0
Exposure Program : Aperture-priority AE
ISO : 200
Date/Time Original : 2011:05:20 20:51:23
Create Date : 2011:05:20 20:51:23
Shutter Speed Value : 1/13
Aperture Value : 8.0
Exposure Compensation : +2/3
Max Aperture Value : 2.8
Metering Mode : Multi-segment
Light Source : Shade
Flash : No Flash
Focal Length : 21.0 mm
Sensing Method : One-chip color area
Scene Type : Directly photographed
CFA Pattern : [Red,Green][Green,Blue]
Custom Rendered : Normal
Exposure Mode : Auto
White Balance : Manual
Digital Zoom Ratio : 1
Focal Length In 35mm Format : 31 mm
Scene Capture Type : Standard
Gain Control : None
Contrast : Normal
Saturation : Normal
Sharpness : Normal
Subject Distance Range : Unknown
Serial Number : 7402549
Lens Info : 21mm f/2.8
Lens Model : Zeiss Distagon T* 2.8/21 ZF.2
Profile Description : sRGB IEC61966-2.1
Creator Tool : Adobe Photoshop Lightroom 3.4.1
Rating : 5
Lens : Zeiss Distagon T* 2.8/21 ZF.2
Image Number : 12437
Date Created : 2011:05:20 20:51:23.79
Marked : True
Version : 6.4.1
Process Version : 5.7
Color Temperature : 6253
Tint : +9
Exposure : -0.32
Shadows : 5
Brightness : +50
Luminance Smoothing : 11
Color Noise Reduction : 18
Chromatic Aberration R : 0
Chromatic Aberration B : 0
Vignette Amount : 0
Shadow Tint : 0
Red Hue : 0
Red Saturation : 0
Green Hue : 0
Green Saturation : 0
Blue Hue : 0
Blue Saturation : 0
Fill Light : 0
Vibrance : +22
Highlight Recovery : 0
Clarity : +13
Defringe : 0
Hue Adjustment Red : 0
Hue Adjustment Orange : 0
Hue Adjustment Yellow : 0
Hue Adjustment Green : 0
Hue Adjustment Aqua : 0
Hue Adjustment Blue : 0
Hue Adjustment Purple : 0
Hue Adjustment Magenta : 0
Saturation Adjustment Red : +53
Saturation Adjustment Orange : 0
Saturation Adjustment Yellow : +4
Saturation Adjustment Green : +54
Saturation Adjustment Aqua : 0
Saturation Adjustment Blue : 0
Saturation Adjustment Purple : 0
Saturation Adjustment Magenta : +4
Luminance Adjustment Red : -48
Luminance Adjustment Orange : -16
Luminance Adjustment Yellow : +14
Luminance Adjustment Green : +89
Luminance Adjustment Aqua : 0
Luminance Adjustment Blue : +7
Luminance Adjustment Purple : -48
Luminance Adjustment Magenta : +9
Split Toning Shadow Hue : 0
Split Toning Shadow Saturation : 0
Split Toning Highlight Hue : 0
Split Toning Highlight Saturation : 0
Split Toning Balance : 0
Parametric Shadows : 0
Parametric Darks : 0
Parametric Lights : -33
Parametric Highlights : 0
Parametric Shadow Split : 25
Parametric Midtone Split : 50
Parametric Highlight Split : 75
Sharpen Radius : +1.3
Sharpen Detail : 0
Sharpen Edge Masking : 23
Post Crop Vignette Amount : 0
Grain Amount : 0
Luminance Noise Reduction Detail : 50
Color Noise Reduction Detail : 50
Luminance Noise Reduction Contrast : 0
Lens Profile Enable : 0
Lens Manual Distortion Amount : 0
Perspective Vertical : 0
Perspective Horizontal : 0
Perspective Rotate : 0.0
Perspective Scale : 100
Convert To Grayscale : False
Tone Curve Name : Medium Contrast
Camera Profile : Adobe Standard
Lens Profile Setup : LensDefaults
Has Settings : True
Has Crop : False
Already Applied : True
Creator : Gabriel Lenagh-Snow
Title : Port Meadow Sunset
Rights : Gabriel Lenagh-Snow
Subject : 0.6S GND, 0.9H GND, D300s, Distagon T* 2.8/21, Lee, Nikkor, Nikon, Oxford, Port Meadow, ZF.2, Zeiss, colour, plants, sunset, water
Tone Curve : 0, 0, 32, 22, 64, 56, 128, 128, 192, 196, 255, 255
Image Width : 199
Image Height : 300
Bits Per Sample : 8
Color Components : 3
Aperture : 8.0
Image Size : 199x300
Megapixels : 0.060
Scale Factor To 35 mm Equivalent : 1.5
Shutter Speed : 1/13
Create Date : 2011:05:20 20:51:23.79
Date/Time Original : 2011:05:20 20:51:23.79
Circle Of Confusion : 0.020 mm
Field Of View : 60.3 deg
Focal Length : 21.0 mm (35 mm equivalent: 31.0 mm)
Hyperfocal Distance : 2.71 m
Light Value : 8.7