Uber Exif Photo
By-line : Steve Long
Caption-Abstract : SONY DSC
Image Description : SONY DSC
Make : SONY
Camera Model Name : DSLR-A850
Software : Adobe Photoshop Camera Raw 6.6 (Windows)
Modify Date : 2011:11:13 13:59:06
Artist : Steve Long
Exposure Time : 1/100
F Number : 9.0
Exposure Program : Program AE
ISO : 200
Date/Time Original : 2011:10:26 15:10:08
Create Date : 2011:10:26 15:10:08
Shutter Speed Value : 1/100
Aperture Value : 9.0
Brightness Value : 8.5
Exposure Compensation : +1.7
Max Aperture Value : 2.8
Metering Mode : Multi-segment
Light Source : Unknown
Flash : Auto, Did not fire
Focal Length : 50.0 mm
Scene Type : Directly photographed
Custom Rendered : Normal
Exposure Mode : Auto bracket
White Balance : Auto
Focal Length In 35mm Format : 50 mm
Scene Capture Type : Standard
Contrast : Normal
Saturation : Normal
Sharpness : Normal
Lens Info : 24-70mm f/2.8
Lens Model : 24-70mm F2.8 ZA SSM
Profile Description : Adobe RGB (1998)
Creator Tool : Adobe Photoshop Camera Raw 6.6 (Windows)
Rating : 4
Label : Approved
Lens : 24-70mm F2.8 ZA SSM
Date Created : 2011:10:26 15:10:08-07:00
Preserved File Name : DSC08771.ARW
Format : image/jpeg
Raw File Name : Oct262011_Seattle3_2106.dng
Version : 6.6
Process Version : 5.7
Color Temperature : 6600
Tint : +13
Exposure : -1.65
Shadows : 5
Brightness : +59
Luminance Smoothing : 35
Color Noise Reduction : 25
Chromatic Aberration R : 0
Chromatic Aberration B : 0
Vignette Amount : 0
Shadow Tint : 0
Red Hue : 0
Red Saturation : 0
Green Hue : 0
Green Saturation : 0
Blue Hue : 0
Blue Saturation : 0
Fill Light : 44
Vibrance : +22
Highlight Recovery : 50
Clarity : +81
Defringe : 0
Hue Adjustment Red : 0
Hue Adjustment Orange : 0
Hue Adjustment Yellow : 0
Hue Adjustment Green : 0
Hue Adjustment Aqua : 0
Hue Adjustment Blue : 0
Hue Adjustment Purple : 0
Hue Adjustment Magenta : 0
Saturation Adjustment Red : 0
Saturation Adjustment Orange : 0
Saturation Adjustment Yellow : 0
Saturation Adjustment Green : 0
Saturation Adjustment Aqua : 0
Saturation Adjustment Blue : 0
Saturation Adjustment Purple : 0
Saturation Adjustment Magenta : 0
Luminance Adjustment Red : 0
Luminance Adjustment Orange : 0
Luminance Adjustment Yellow : 0
Luminance Adjustment Green : 0
Luminance Adjustment Aqua : 0
Luminance Adjustment Blue : 0
Luminance Adjustment Purple : 0
Luminance Adjustment Magenta : 0
Split Toning Shadow Hue : 0
Split Toning Shadow Saturation : 0
Split Toning Highlight Hue : 0
Split Toning Highlight Saturation : 0
Split Toning Balance : 0
Parametric Shadows : 0
Parametric Darks : 0
Parametric Lights : 0
Parametric Highlights : 0
Parametric Shadow Split : 25
Parametric Midtone Split : 50
Parametric Highlight Split : 75
Sharpen Radius : +1.0
Sharpen Detail : 25
Sharpen Edge Masking : 0
Post Crop Vignette Amount : 0
Grain Amount : 0
Luminance Noise Reduction Detail : 50
Color Noise Reduction Detail : 50
Luminance Noise Reduction Contrast : 0
Lens Profile Enable : 1
Lens Manual Distortion Amount : 0
Perspective Vertical : 0
Perspective Horizontal : 0
Perspective Rotate : 0.0
Perspective Scale : 100
Convert To Grayscale : False
Tone Curve Name : Medium Contrast
Camera Profile : Adobe Standard
Lens Profile Setup : LensDefaults
Lens Profile Name : DSLR-A900 - 24-70mm F2.8 ZA SSM
Lens Profile Filename : Adobe profiles.lcp
Lens Profile Distortion Scale : 100
Lens Profile Chromatic Aberration Scale : 100
Lens Profile Vignetting Scale : 100
Has Settings : True
Crop Top : 0
Crop Left : 0.024345
Crop Bottom : 1
Crop Right : 0.975655
Crop Angle : 1.33222
Crop Constrain To Warp : 1
Crop Width : 2
Crop Height : 3
Crop Unit : Unknown (3)
Has Crop : True
Already Applied : True
Description : SONY DSC
Creator : Steve Long
Creator Address : 32 Danvers
Creator City : San Francisco
Creator Region : CA
Creator Postal Code : 94114
Creator Country : US
Creator Work Telephone : 415 621-1765
Creator Work Email : slong@sfopera.com
Tone Curve : 0, 0, 32, 22, 64, 56, 128, 128, 192, 196, 255, 255
Image Width : 300
Image Height : 200
Bits Per Sample : 8
Color Components : 3
Aperture : 9.0
Image Size : 300x200
Megapixels : 0.060
Scale Factor To 35 mm Equivalent : 1.0
Shutter Speed : 1/100
Circle Of Confusion : 0.030 mm
Field Of View : 39.6 deg
Focal Length : 50.0 mm (35 mm equivalent: 50.0 mm)
Hyperfocal Distance : 9.25 m
Light Value : 12.0
Lens ID : Carl Zeiss Vario-Sonnar T* 24-70mm F2.8 ZA SSM (SAL2470Z) or Carl Zeiss Vario-Sonnar T* 24-70mm F2.8 ZA SSM II (SAL2470Z2) or Tamron SP 24-70mm F2.8 Di USD