Uber Exif Photo
By-line : Photographer:
Make : Canon
Camera Model Name : Canon EOS 5D Mark II
Software : Adobe Photoshop Lightroom 3.5 (Windows)
Modify Date : 2011:12:12 07:32:36
Artist : Photographer:
Exposure Time : 3.2
F Number : 8.0
Exposure Program : Manual
ISO : 200
Date/Time Original : 2011:12:11 08:04:26
Create Date : 2011:12:11 08:04:26
Shutter Speed Value : 3.2
Aperture Value : 8.0
Exposure Compensation : 0
Max Aperture Value : 2.8
Metering Mode : Spot
Flash : Off, Did not fire
Focal Length : 21.0 mm
Custom Rendered : Normal
Exposure Mode : Manual
White Balance : Auto
Scene Capture Type : Standard
Serial Number : 2731504112
Lens Info : 21mm f/?
Lens Model : Zeiss Distagon T* 2.8/21 ZE
Profile Description : sRGB IEC61966-2.1
Lens : Zeiss Distagon T* 2.8/21 ZE
Image Number : 0
Flash Compensation : 0
Firmware : 2.1.1
Rating : 2
Creator Tool : Adobe Photoshop Lightroom 3.5 (Windows)
Date Created : 2011:12:11 08:04:26.32
Version : 6.5
Process Version : 5.7
Color Temperature : 9011
Tint : -9
Exposure : 0.00
Shadows : 5
Brightness : +28
Contrast : 0
Saturation : 0
Sharpness : 46
Luminance Smoothing : 14
Color Noise Reduction : 25
Chromatic Aberration R : 0
Chromatic Aberration B : 0
Vignette Amount : -20
Vignette Midpoint : 40
Shadow Tint : 0
Red Hue : 0
Red Saturation : 0
Green Hue : 0
Green Saturation : 0
Blue Hue : 0
Blue Saturation : 0
Fill Light : 35
Vibrance : +10
Highlight Recovery : 26
Clarity : +23
Defringe : 2
Hue Adjustment Red : 0
Hue Adjustment Orange : 0
Hue Adjustment Yellow : 0
Hue Adjustment Green : 0
Hue Adjustment Aqua : 0
Hue Adjustment Blue : 0
Hue Adjustment Purple : 0
Hue Adjustment Magenta : 0
Saturation Adjustment Red : +36
Saturation Adjustment Orange : +77
Saturation Adjustment Yellow : +66
Saturation Adjustment Green : +21
Saturation Adjustment Aqua : 0
Saturation Adjustment Blue : +21
Saturation Adjustment Purple : -36
Saturation Adjustment Magenta : -62
Luminance Adjustment Red : 0
Luminance Adjustment Orange : 0
Luminance Adjustment Yellow : 0
Luminance Adjustment Green : 0
Luminance Adjustment Aqua : 0
Luminance Adjustment Blue : -60
Luminance Adjustment Purple : 0
Luminance Adjustment Magenta : 0
Split Toning Shadow Hue : 24
Split Toning Shadow Saturation : 9
Split Toning Highlight Hue : 43
Split Toning Highlight Saturation : 43
Split Toning Balance : 0
Parametric Shadows : -1
Parametric Darks : -6
Parametric Lights : +9
Parametric Highlights : +25
Parametric Shadow Split : 25
Parametric Midtone Split : 50
Parametric Highlight Split : 75
Sharpen Radius : +1.2
Sharpen Detail : 28
Sharpen Edge Masking : 15
Post Crop Vignette Amount : 0
Grain Amount : 0
Luminance Noise Reduction Detail : 50
Color Noise Reduction Detail : 50
Luminance Noise Reduction Contrast : 0
Lens Profile Enable : 1
Lens Manual Distortion Amount : 0
Perspective Vertical : -1
Perspective Horizontal : -1
Perspective Rotate : -0.1
Perspective Scale : 100
Convert To Grayscale : False
Tone Curve Name : Medium Contrast
Camera Profile : Camera Standard
Lens Profile Setup : LensDefaults
Lens Profile Name : Adobe (Zeiss Distagon T* 2,8/21 ZE)
Lens Profile Filename : Canon (Zeiss Distagon T 21 f28 ZE).lcp
Lens Profile Distortion Scale : 100
Lens Profile Chromatic Aberration Scale : 100
Lens Profile Vignetting Scale : 100
Has Settings : True
Crop Top : 0.074761
Crop Left : 0.020823
Crop Bottom : 0.880741
Crop Right : 0.976054
Crop Angle : 0
Crop Constrain To Warp : 1
Crop Width : 1280
Crop Height : 720
Crop Unit : pixels
Has Crop : True
Already Applied : True
Creator : Photographer:
Tone Curve : 0, 0, 32, 22, 64, 56, 128, 128, 192, 196, 255, 255
Gradient Based Corr What : Correction
Gradient Based Corr Amount : 1.000000
Gradient Based Corr Active : true
Gradient Based Corr Exposure : 0.042000
Gradient Based Corr Saturation : 0.058820
Gradient Based Corr Contrast : -0.042020
Gradient Based Corr Clarity : 0.042020
Gradient Based Corr Sharpness : 0.000000
Gradient Based Corr Brightness : 0.109245
Gradient Based Corr Toning Hue : 240.000000
Gradient Based Corr Toning Saturation : 0.000000
Gradient Based Corr Mask What : Mask/Gradient
Gradient Based Corr Mask Value : 1.000000
Gradient Based Corr Mask Zero X : 0.844941
Gradient Based Corr Mask Zero Y : 0.363402
Gradient Based Corr Mask Full X : 0.959341
Gradient Based Corr Mask Full Y : 0.274031
Image Width : 300
Image Height : 169
Bits Per Sample : 8
Color Components : 3
Aperture : 8.0
Image Size : 300x169
Megapixels : 0.051
Scale Factor To 35 mm Equivalent : 1.0
Shutter Speed : 3.2
Create Date : 2011:12:11 08:04:26.32
Date/Time Original : 2011:12:11 08:04:26.32
Circle Of Confusion : 0.031 mm
Field Of View : 82.6 deg
Focal Length : 21.0 mm (35 mm equivalent: 20.5 mm)
Hyperfocal Distance : 1.79 m
Light Value : 3.3
Lens ID : Carl Zeiss Distagon T* 21mm f/2.8 ZE