Uber Exif Photo
By-line : Photographer:
Make : Canon
Camera Model Name : Canon EOS 5D Mark II
Software : Adobe Photoshop Lightroom 3.6 (Windows)
Modify Date : 2012:01:14 09:39:46
Artist : Photographer:
Exposure Time : 25
F Number : 22.0
Exposure Program : Manual
ISO : 50
Date/Time Original : 2012:01:13 14:06:39
Create Date : 2012:01:13 14:06:39
Shutter Speed Value : 25
Aperture Value : 22.0
Exposure Compensation : 0
Max Aperture Value : 2.0
Metering Mode : Multi-segment
Flash : Off, Did not fire
Focal Length : 35.0 mm
Custom Rendered : Normal
Exposure Mode : Manual
White Balance : Auto
Scene Capture Type : Standard
Serial Number : 2731504112
Lens Info : 35mm f/?
Lens Model : Zeiss Distagon T* 2/35 ZE
Profile Description : sRGB IEC61966-2.1
Format : image/jpeg
Lens : Zeiss Distagon T* 2/35 ZE
Image Number : 0
Flash Compensation : 0
Firmware : 2.1.1
Rating : 5
Creator Tool : Adobe Photoshop Lightroom 3.6 (Windows)
Date Created : 2012:01:13 14:06:39.19
Version : 6.6
Process Version : 5.7
Color Temperature : 5300
Tint : +6
Exposure : +0.56
Shadows : 15
Brightness : +32
Contrast : +41
Saturation : +6
Sharpness : 42
Luminance Smoothing : 6
Color Noise Reduction : 25
Chromatic Aberration R : 0
Chromatic Aberration B : 0
Vignette Amount : 0
Shadow Tint : 0
Red Hue : 0
Red Saturation : 0
Green Hue : 0
Green Saturation : 0
Blue Hue : 0
Blue Saturation : 0
Fill Light : 14
Vibrance : +16
Highlight Recovery : 51
Clarity : +39
Defringe : 0
Hue Adjustment Red : 0
Hue Adjustment Orange : 0
Hue Adjustment Yellow : 0
Hue Adjustment Green : 0
Hue Adjustment Aqua : 0
Hue Adjustment Blue : +16
Hue Adjustment Purple : 0
Hue Adjustment Magenta : 0
Saturation Adjustment Red : 0
Saturation Adjustment Orange : 0
Saturation Adjustment Yellow : 0
Saturation Adjustment Green : 0
Saturation Adjustment Aqua : 0
Saturation Adjustment Blue : +22
Saturation Adjustment Purple : 0
Saturation Adjustment Magenta : 0
Luminance Adjustment Red : 0
Luminance Adjustment Orange : 0
Luminance Adjustment Yellow : 0
Luminance Adjustment Green : 0
Luminance Adjustment Aqua : 0
Luminance Adjustment Blue : -42
Luminance Adjustment Purple : 0
Luminance Adjustment Magenta : 0
Split Toning Shadow Hue : 214
Split Toning Shadow Saturation : 10
Split Toning Highlight Hue : 219
Split Toning Highlight Saturation : 24
Split Toning Balance : +49
Parametric Shadows : +6
Parametric Darks : +20
Parametric Lights : -6
Parametric Highlights : -9
Parametric Shadow Split : 25
Parametric Midtone Split : 50
Parametric Highlight Split : 75
Sharpen Radius : +0.9
Sharpen Detail : 95
Sharpen Edge Masking : 47
Post Crop Vignette Amount : 0
Grain Amount : 0
Luminance Noise Reduction Detail : 50
Color Noise Reduction Detail : 50
Luminance Noise Reduction Contrast : 0
Lens Profile Enable : 1
Lens Manual Distortion Amount : 0
Perspective Vertical : 0
Perspective Horizontal : 0
Perspective Rotate : 0.0
Perspective Scale : 100
Convert To Grayscale : False
Tone Curve Name : Strong Contrast
Camera Profile : Adobe Standard
Lens Profile Setup : LensDefaults
Lens Profile Name : Adobe (Zeiss Distagon T* 2/35 ZE)
Lens Profile Filename : Canon (Zeiss Distagon T 35 f2 ZE).lcp
Lens Profile Distortion Scale : 100
Lens Profile Chromatic Aberration Scale : 100
Lens Profile Vignetting Scale : 100
Has Settings : True
Crop Top : 0.041843
Crop Left : 0.008212
Crop Bottom : 0.95839
Crop Right : 0.976444
Crop Angle : -1.4349
Crop Constrain To Warp : 0
Crop Width : 1600
Crop Height : 1067
Crop Unit : pixels
Has Crop : True
Already Applied : True
Creator : Photographer:
Tone Curve : 0, 0, 32, 16, 64, 50, 128, 128, 192, 202, 255, 255
Gradient Based Corr What : Correction
Gradient Based Corr Amount : 1.000000
Gradient Based Corr Active : true
Gradient Based Corr Exposure : -0.025250
Gradient Based Corr Saturation : 0.058820
Gradient Based Corr Contrast : -0.411760
Gradient Based Corr Clarity : -0.176470
Gradient Based Corr Sharpness : 0.000000
Gradient Based Corr Brightness : -0.008405
Gradient Based Corr Toning Hue : 225.000000
Gradient Based Corr Toning Saturation : 0.360000
Gradient Based Corr Mask What : Mask/Gradient
Gradient Based Corr Mask Value : 1.000000
Gradient Based Corr Mask Zero X : 0.835317
Gradient Based Corr Mask Zero Y : 0.456909
Gradient Based Corr Mask Full X : 0.861128
Gradient Based Corr Mask Full Y : 0.333775
Image Width : 300
Image Height : 200
Bits Per Sample : 8
Color Components : 3
Aperture : 22.0
Image Size : 300x200
Megapixels : 0.060
Scale Factor To 35 mm Equivalent : 1.0
Shutter Speed : 25
Create Date : 2012:01:13 14:06:39.19
Date/Time Original : 2012:01:13 14:06:39.19
Circle Of Confusion : 0.031 mm
Field Of View : 55.6 deg
Focal Length : 35.0 mm (35 mm equivalent: 34.2 mm)
Hyperfocal Distance : 1.81 m
Light Value : 5.3
Lens ID : Carl Zeiss Distagon T* 35mm f/2 ZE