Uber Exif Photo
Caption-Abstract : Blueman Photography 2009 | Pinky
By-line : Bruce Kwan
Keywords : Pinky, Portrait, ZM C Biogon 35mm
Copyright Notice : Photo by Bruce Kwan (Blueman) 2009
Image Description : Blueman Photography 2009 | Pinky
Make : Leica Camera AG
Camera Model Name : M8 Digital Camera
Orientation : Horizontal (normal)
Software : Adobe Photoshop CS5 Macintosh
Modify Date : 2012:01:29 02:12:53
Artist : Bruce Kwan
Copyright : Photo by Bruce Kwan (Blueman) 2009
Exposure Time : 1/250
F Number : 4.0
Exposure Program : Manual
ISO : 160
Date/Time Original : 2009:06:03 19:06:59
Create Date : 2009:06:03 19:06:59
Shutter Speed Value : 1/250
Aperture Value : 4.0
Exposure Compensation : 0
Max Aperture Value : 1.0
Metering Mode : Center-weighted average
Light Source : Unknown
Flash : On, Did not fire
Color Space : sRGB
Exif Image Width : 1029
Exif Image Height : 1570
Scene Type : Directly photographed
White Balance : Manual
Digital Zoom Ratio : 0
Scene Capture Type : Standard
Serial Number : 3332696
Profile Description : sRGB IEC61966-2.1
Rating : 5
Label :
Creator Tool : Adobe Photoshop CS5 Macintosh
Format : image/jpeg
Date Created : 2009:06:03 19:06:59+08:00
Color Mode : RGB
ICC Profile Name : sRGB IEC61966-2.1
Raw File Name : L1000995.DNG
Version : 6.5
Process Version : 5.7
Color Temperature : 5300
Tint : +1
Exposure : +0.90
Shadows : 5
Brightness : +50
Contrast : +25
Saturation : 0
Sharpness : 25
Luminance Smoothing : 0
Color Noise Reduction : 25
Chromatic Aberration R : 0
Chromatic Aberration B : 0
Vignette Amount : 0
Shadow Tint : 0
Red Hue : 0
Red Saturation : 0
Green Hue : 0
Green Saturation : 0
Blue Hue : 0
Blue Saturation : 0
Fill Light : 0
Vibrance : +10
Highlight Recovery : 0
Clarity : +20
Defringe : 0
Hue Adjustment Red : 0
Hue Adjustment Orange : 0
Hue Adjustment Yellow : 0
Hue Adjustment Green : 0
Hue Adjustment Aqua : 0
Hue Adjustment Blue : 0
Hue Adjustment Purple : 0
Hue Adjustment Magenta : 0
Saturation Adjustment Red : 0
Saturation Adjustment Orange : 0
Saturation Adjustment Yellow : 0
Saturation Adjustment Green : 0
Saturation Adjustment Aqua : 0
Saturation Adjustment Blue : 0
Saturation Adjustment Purple : 0
Saturation Adjustment Magenta : 0
Luminance Adjustment Red : 0
Luminance Adjustment Orange : 0
Luminance Adjustment Yellow : 0
Luminance Adjustment Green : 0
Luminance Adjustment Aqua : 0
Luminance Adjustment Blue : 0
Luminance Adjustment Purple : 0
Luminance Adjustment Magenta : 0
Split Toning Shadow Hue : 0
Split Toning Shadow Saturation : 0
Split Toning Highlight Hue : 0
Split Toning Highlight Saturation : 0
Split Toning Balance : 0
Parametric Shadows : 0
Parametric Darks : 0
Parametric Lights : 0
Parametric Highlights : 0
Parametric Shadow Split : 25
Parametric Midtone Split : 50
Parametric Highlight Split : 75
Sharpen Radius : +1.0
Sharpen Detail : 25
Sharpen Edge Masking : 0
Post Crop Vignette Amount : 0
Grain Amount : 0
Color Noise Reduction Detail : 50
Lens Profile Enable : 0
Lens Manual Distortion Amount : 0
Perspective Vertical : 0
Perspective Horizontal : 0
Perspective Rotate : 0.0
Perspective Scale : 100
Convert To Grayscale : False
Tone Curve Name : Medium Contrast
Camera Profile : Camera Standard
Lens Profile Setup : LensDefaults
Has Settings : True
Crop Top : 0
Crop Left : 0
Crop Bottom : 1
Crop Right : 1
Crop Angle : 0
Crop Constrain To Warp : 0
Has Crop : True
Already Applied : True
Creator City : Hong Kong
Creator Work Email : brucekwan@gmail.com
Creator Work URL : http://public.fotki.com/brucekwan/
Creator : Bruce Kwan
Description : Blueman Photography 2009 | Pinky
Rights : Photo by Bruce Kwan (Blueman) 2009
Subject : Pinky, Portrait, ZM C Biogon 35mm
Hierarchical Subject : Pinky, Portrait, ZM C Biogon 35mm
Tone Curve : 0, 0, 32, 22, 64, 56, 128, 128, 192, 196, 255, 255
Image Width : 197
Image Height : 300
Bits Per Sample : 8
Color Components : 3
Aperture : 4.0
Image Size : 197x300
Megapixels : 0.059
Scale Factor To 35 mm Equivalent : 3.4
Shutter Speed : 1/250
Circle Of Confusion : 0.009 mm
Light Value : 11.3