Uber Exif Photo
By-line : Ivan Ana Rankovic
Copyright Notice : Copyright (C) Ivan&Ana Rankovic
Make : Canon
Camera Model Name : Canon EOS 60D
Software : Adobe Photoshop Lightroom 3.5 (Windows)
Modify Date : 2012:03:12 15:42:21
Artist : Ivan Ana Rankovic
Copyright : Copyright (C) Ivan&Ana Rankovic
Exposure Time : 1/40
F Number : 4.5
Exposure Program : Aperture-priority AE
ISO : 400
Sensitivity Type : Recommended Exposure Index
Recommended Exposure Index : 400
Date/Time Original : 2012:03:12 02:13:35
Create Date : 2012:03:12 02:13:35
Shutter Speed Value : 1/40
Aperture Value : 4.5
Exposure Compensation : +2/3
Max Aperture Value : 2.0
Metering Mode : Multi-segment
Flash : Off, Did not fire
Focal Length : 100.0 mm
Custom Rendered : Normal
Exposure Mode : Auto
White Balance : Auto
Scene Capture Type : Standard
Serial Number : 0780401362
Lens Info : 100mm f/?
Lens Model : Zeiss Makro-Planar T* 2/100 ZE
Lens Serial Number : 0000000000
Profile Description : sRGB IEC61966-2.1
Creator Tool : Adobe Photoshop Lightroom 3.5 (Windows)
Lens : Zeiss Makro-Planar T* 2/100 ZE
Image Number : 0
Flash Compensation : 0
Firmware : 1.0.9
Date Created : 2012:03:12 02:13:35.34
Version : 6.5
Process Version : 5.7
Color Temperature : 4414
Tint : +12
Exposure : +0.14
Shadows : 10
Brightness : +50
Contrast : +28
Saturation : 0
Sharpness : 31
Luminance Smoothing : 17
Color Noise Reduction : 25
Chromatic Aberration R : 0
Chromatic Aberration B : 0
Vignette Amount : +13
Vignette Midpoint : 50
Shadow Tint : -8
Red Hue : 0
Red Saturation : -3
Green Hue : 0
Green Saturation : +31
Blue Hue : +26
Blue Saturation : +3
Fill Light : 0
Vibrance : -6
Highlight Recovery : 26
Clarity : +13
Defringe : 0
Hue Adjustment Red : 0
Hue Adjustment Orange : 0
Hue Adjustment Yellow : 0
Hue Adjustment Green : 0
Hue Adjustment Aqua : 0
Hue Adjustment Blue : 0
Hue Adjustment Purple : 0
Hue Adjustment Magenta : 0
Saturation Adjustment Red : 0
Saturation Adjustment Orange : 0
Saturation Adjustment Yellow : 0
Saturation Adjustment Green : 0
Saturation Adjustment Aqua : 0
Saturation Adjustment Blue : 0
Saturation Adjustment Purple : 0
Saturation Adjustment Magenta : 0
Luminance Adjustment Red : 0
Luminance Adjustment Orange : 0
Luminance Adjustment Yellow : 0
Luminance Adjustment Green : 0
Luminance Adjustment Aqua : 0
Luminance Adjustment Blue : 0
Luminance Adjustment Purple : 0
Luminance Adjustment Magenta : 0
Split Toning Shadow Hue : 223
Split Toning Shadow Saturation : 0
Split Toning Highlight Hue : 62
Split Toning Highlight Saturation : 0
Split Toning Balance : 0
Parametric Shadows : 0
Parametric Darks : 0
Parametric Lights : 0
Parametric Highlights : 0
Parametric Shadow Split : 25
Parametric Midtone Split : 50
Parametric Highlight Split : 75
Sharpen Radius : +1.7
Sharpen Detail : 15
Sharpen Edge Masking : 22
Post Crop Vignette Amount : -8
Post Crop Vignette Midpoint : 37
Post Crop Vignette Feather : 100
Post Crop Vignette Roundness : 0
Post Crop Vignette Style : Highlight Priority
Post Crop Vignette Highlight Contrast : 33
Grain Amount : 0
Luminance Noise Reduction Detail : 41
Color Noise Reduction Detail : 50
Luminance Noise Reduction Contrast : 16
Lens Profile Enable : 1
Lens Manual Distortion Amount : 0
Perspective Vertical : 0
Perspective Horizontal : 0
Perspective Rotate : 0.0
Perspective Scale : 100
Convert To Grayscale : False
Tone Curve Name : Medium Contrast
Camera Profile : Adobe Standard
Lens Profile Setup : LensDefaults
Lens Profile Name : Adobe (Zeiss Makro-Planar T* 2/100 ZE)
Lens Profile Filename : Canon (Zeiss Makro-Planar T 100 f2 ZE).lcp
Lens Profile Distortion Scale : 100
Lens Profile Chromatic Aberration Scale : 100
Lens Profile Vignetting Scale : 100
Has Settings : True
Crop Top : 0.151788
Crop Left : 0.027495
Crop Bottom : 0.979144
Crop Right : 0.917296
Crop Angle : 0.942973
Crop Constrain To Warp : 0
Crop Width : 1024
Crop Height : 612
Crop Unit : pixels
Has Crop : True
Already Applied : True
Creator : Ivan Ana Rankovic
Rights : Copyright (C) Ivan&Ana Rankovic
Tone Curve : 0, 0, 32, 22, 64, 56, 128, 128, 192, 196, 255, 255
Image Width : 300
Image Height : 179
Bits Per Sample : 8
Color Components : 3
Aperture : 4.5
Image Size : 300x179
Megapixels : 0.054
Scale Factor To 35 mm Equivalent : 1.6
Shutter Speed : 1/40
Create Date : 2012:03:12 02:13:35.34
Date/Time Original : 2012:03:12 02:13:35.34
Circle Of Confusion : 0.019 mm
Field Of View : 13.1 deg
Focal Length : 100.0 mm (35 mm equivalent: 157.3 mm)
Hyperfocal Distance : 116.32 m
Light Value : 7.7
Lens ID : Carl Zeiss Makro-Planar T* 100mm f/2 ZE