Uber Exif Photo
By-line : unknown
Make : Canon
Camera Model Name : Canon EOS DIGITAL REBEL XT
Orientation : Horizontal (normal)
Software : Adobe Photoshop CS6 (13.0 20120305.m.415 2012/03/05:21:00:00) (Windows)
Modify Date : 2012:04:11 15:32:02
Artist : unknown
Exposure Time : 1/10
F Number : 19.0
Exposure Program : Aperture-priority AE
ISO : 200
Date/Time Original : 2007:08:26 05:37:36
Create Date : 2007:08:26 05:37:36
Shutter Speed Value : 1/10
Aperture Value : 19.0
Exposure Compensation : 0
Metering Mode : Multi-segment
Flash : Off, Did not fire
Focal Length : 60.0 mm
Color Space : Uncalibrated
Exif Image Width : 1500
Exif Image Height : 1000
Custom Rendered : Normal
Exposure Mode : Auto
White Balance : Auto
Scene Capture Type : Standard
Owner Name : unknown
Serial Number : 420211673
Lens Info : 60mm f/?
Lens Model : 60.0 mm
Profile Description : ProPhoto RGB
Format : image/jpeg
Lens : 60.0 mm
Image Number : 108
Flash Compensation : 0
Firmware : 1.0.1
Rating : 0
Date Created : 2007:08:26 05:37:36
Color Mode : RGB
ICC Profile Name : ProPhoto RGB
Raw File Name : IMG_3436.CR2
Version : 7.0
Process Version : 6.7
Color Temperature : 4400
Tint : -8
Exposure : 0.00
Shadows : 5
Brightness : +50
Contrast : +25
Saturation : 0
Sharpness : 25
Luminance Smoothing : 0
Color Noise Reduction : 25
Vignette Amount : 0
Shadow Tint : 0
Red Hue : 0
Red Saturation : 0
Green Hue : 0
Green Saturation : 0
Blue Hue : 0
Blue Saturation : 0
Fill Light : 0
Vibrance : +30
Highlight Recovery : 0
Clarity : 0
Defringe : 0
Hue Adjustment Red : 0
Hue Adjustment Orange : 0
Hue Adjustment Yellow : 0
Hue Adjustment Green : 0
Hue Adjustment Aqua : 0
Hue Adjustment Blue : 0
Hue Adjustment Purple : 0
Hue Adjustment Magenta : 0
Saturation Adjustment Red : 0
Saturation Adjustment Orange : 0
Saturation Adjustment Yellow : 0
Saturation Adjustment Green : 0
Saturation Adjustment Aqua : 0
Saturation Adjustment Blue : 0
Saturation Adjustment Purple : 0
Saturation Adjustment Magenta : 0
Luminance Adjustment Red : 0
Luminance Adjustment Orange : 0
Luminance Adjustment Yellow : 0
Luminance Adjustment Green : 0
Luminance Adjustment Aqua : 0
Luminance Adjustment Blue : 0
Luminance Adjustment Purple : 0
Luminance Adjustment Magenta : 0
Split Toning Shadow Hue : 0
Split Toning Shadow Saturation : 0
Split Toning Highlight Hue : 0
Split Toning Highlight Saturation : 0
Split Toning Balance : 0
Parametric Shadows : 0
Parametric Darks : 0
Parametric Lights : 0
Parametric Highlights : 0
Parametric Shadow Split : 25
Parametric Midtone Split : 50
Parametric Highlight Split : 75
Sharpen Radius : +1.0
Sharpen Detail : 25
Sharpen Edge Masking : 0
Post Crop Vignette Amount : 0
Grain Amount : 0
Color Noise Reduction Detail : 50
Lens Profile Enable : 0
Lens Manual Distortion Amount : 0
Perspective Vertical : 0
Perspective Horizontal : 0
Perspective Rotate : 0.0
Perspective Scale : 100
Auto Lateral CA : 0
Exposure 2012 : 0.00
Contrast 2012 : 0
Highlights 2012 : 0
Shadows 2012 : 0
Whites 2012 : +51
Blacks 2012 : 0
Clarity 2012 : +56
Convert To Grayscale : False
Tone Curve Name : Medium Contrast
Tone Curve Name 2012 : Linear
Camera Profile : Adobe Standard
Lens Profile Setup : LensDefaults
Has Settings : True
Has Crop : False
Already Applied : True
Creator : unknown
Tone Curve : 0, 0, 32, 22, 64, 56, 128, 128, 192, 196, 255, 255
Tone Curve Red : 0, 0, 255, 255
Tone Curve Green : 0, 0, 255, 255
Tone Curve Blue : 0, 0, 255, 255
Tone Curve PV2012 : 0, 0, 255, 255
Tone Curve PV2012 Red : 0, 0, 255, 255
Tone Curve PV2012 Green : 0, 0, 255, 255
Tone Curve PV2012 Blue : 0, 0, 255, 255
Image Width : 300
Image Height : 200
Bits Per Sample : 8
Color Components : 3
Aperture : 19.0
Image Size : 300x200
Megapixels : 0.060
Scale Factor To 35 mm Equivalent : 1.6
Shutter Speed : 1/10
Circle Of Confusion : 0.019 mm
Field Of View : 21.0 deg
Focal Length : 60.0 mm (35 mm equivalent: 97.3 mm)
Hyperfocal Distance : 10.23 m
Light Value : 10.8
Lens ID : 60.0mm