Uber Exif Photo
Make : Canon
Camera Model Name : Canon EOS 5D Mark II
Orientation : Horizontal (normal)
Software : Adobe Photoshop CS6 (13.0 20120305.m.415 2012/03/05:21:00:00) (Windows)
Modify Date : 2012:05:03 16:12:05
Exposure Time : 1/125
F Number : 13.0
Exposure Program : Manual
ISO : 100
Date/Time Original : 2012:03:17 12:27:14
Create Date : 2012:03:17 12:27:14
Shutter Speed Value : 1/125
Aperture Value : 13.0
Exposure Compensation : 0
Max Aperture Value : 1.2
Metering Mode : Partial
Flash : Off, Did not fire
Focal Length : 85.0 mm
Color Space : Uncalibrated
Exif Image Width : 5616
Exif Image Height : 3744
Custom Rendered : Normal
Exposure Mode : Manual
White Balance : Manual
Scene Capture Type : Standard
Serial Number : 220106067
Lens Info : 85mm f/?
Lens Model : EF85mm f/1.2L II USM
Profile Description : ProPhoto RGB
Lens : EF85mm f/1.2L II USM
Image Number : 0
Approximate Focus Distance : 3.04
Flash Compensation : 0
Firmware : 2.1.1
Rating : 0
Date Created : 2012:03:17 12:27:14.094
Color Mode : RGB
ICC Profile Name : ProPhoto RGB
Format : image/jpeg
Raw File Name : _MG_8376.CR2
Version : 7.0
Process Version : 6.7
Color Temperature : 4850
Tint : +1
Exposure : 0.00
Shadows : 5
Brightness : +50
Contrast : +25
Saturation : 0
Sharpness : 0
Luminance Smoothing : 0
Color Noise Reduction : 25
Vignette Amount : 0
Shadow Tint : 0
Red Hue : 0
Red Saturation : 0
Green Hue : 0
Green Saturation : 0
Blue Hue : 0
Blue Saturation : 0
Fill Light : 0
Vibrance : 0
Highlight Recovery : 0
Clarity : 0
Defringe : 0
Hue Adjustment Red : 0
Hue Adjustment Orange : 0
Hue Adjustment Yellow : 0
Hue Adjustment Green : 0
Hue Adjustment Aqua : 0
Hue Adjustment Blue : 0
Hue Adjustment Purple : 0
Hue Adjustment Magenta : 0
Saturation Adjustment Red : 0
Saturation Adjustment Orange : 0
Saturation Adjustment Yellow : 0
Saturation Adjustment Green : 0
Saturation Adjustment Aqua : 0
Saturation Adjustment Blue : 0
Saturation Adjustment Purple : 0
Saturation Adjustment Magenta : 0
Luminance Adjustment Red : 0
Luminance Adjustment Orange : 0
Luminance Adjustment Yellow : 0
Luminance Adjustment Green : 0
Luminance Adjustment Aqua : 0
Luminance Adjustment Blue : 0
Luminance Adjustment Purple : 0
Luminance Adjustment Magenta : 0
Split Toning Shadow Hue : 0
Split Toning Shadow Saturation : 0
Split Toning Highlight Hue : 0
Split Toning Highlight Saturation : 0
Split Toning Balance : 0
Parametric Shadows : 0
Parametric Darks : 0
Parametric Lights : 0
Parametric Highlights : 0
Parametric Shadow Split : 25
Parametric Midtone Split : 50
Parametric Highlight Split : 75
Sharpen Radius : +1.0
Sharpen Detail : 25
Sharpen Edge Masking : 0
Post Crop Vignette Amount : 0
Grain Amount : 0
Color Noise Reduction Detail : 50
Lens Profile Enable : 0
Lens Manual Distortion Amount : 0
Perspective Vertical : 0
Perspective Horizontal : 0
Perspective Rotate : 0.0
Perspective Scale : 100
Auto Lateral CA : 0
Exposure 2012 : 0.00
Contrast 2012 : 0
Highlights 2012 : +18
Shadows 2012 : +29
Whites 2012 : +48
Blacks 2012 : +23
Clarity 2012 : +42
Convert To Grayscale : False
Tone Curve Name : Medium Contrast
Tone Curve Name 2012 : Linear
Camera Profile : Adobe Standard
Lens Profile Setup : LensDefaults
Has Settings : True
Has Crop : False
Already Applied : True
Tone Curve : 0, 0, 32, 22, 64, 56, 128, 128, 192, 196, 255, 255
Tone Curve Red : 0, 0, 255, 255
Tone Curve Green : 0, 0, 255, 255
Tone Curve Blue : 0, 0, 255, 255
Tone Curve PV2012 : 0, 0, 255, 255
Tone Curve PV2012 Red : 0, 0, 255, 255
Tone Curve PV2012 Green : 0, 0, 255, 255
Tone Curve PV2012 Blue : 0, 0, 255, 255
Image Width : 300
Image Height : 200
Bits Per Sample : 8
Color Components : 3
Aperture : 13.0
Image Size : 300x200
Megapixels : 0.060
Scale Factor To 35 mm Equivalent : 1.0
Shutter Speed : 1/125
Create Date : 2012:03:17 12:27:14.94
Date/Time Original : 2012:03:17 12:27:14.94
Modify Date : 2012:05:03 16:12:05.94
Circle Of Confusion : 0.031 mm
Depth Of Field : 1.02 m (2.61 - 3.64 m)
Field Of View : 24.5 deg
Focal Length : 85.0 mm (35 mm equivalent: 83.0 mm)
Hyperfocal Distance : 18.05 m
Light Value : 14.4
Lens ID : Canon EF 85mm f/1.2L II USM