Uber Exif Photo
Make : Canon
Camera Model Name : Canon EOS 5D Mark II
Orientation : Horizontal (normal)
Software : Adobe Photoshop CS6 (Windows)
Modify Date : 2012:08:09 22:00:55
Exposure Time : 1/40
F Number : 13.0
Exposure Program : Aperture-priority AE
ISO : 400
Date/Time Original : 2012:08:09 09:54:08
Create Date : 2012:08:09 09:54:08
Shutter Speed Value : 1/40
Aperture Value : 13.0
Exposure Compensation : 0
Max Aperture Value : 2.8
Metering Mode : Multi-segment
Flash : Off, Did not fire
Focal Length : 100.0 mm
Color Space : Uncalibrated
Exif Image Width : 1680
Exif Image Height : 1120
Custom Rendered : Normal
Exposure Mode : Auto
White Balance : Manual
Scene Capture Type : Standard
Serial Number : 220106067
Lens Info : 100mm f/?
Lens Model : EF100mm f/2.8 Macro USM
Profile Description : ProPhoto RGB
Lens : EF100mm f/2.8 Macro USM
Image Number : 0
Approximate Focus Distance : 0.38
Flash Compensation : 0
Firmware : 2.1.1
Rating : 0
Creator Tool : Adobe Photoshop CS6 (Windows)
Date Created : 2012:08:09 09:54:08.031
Color Mode : RGB
ICC Profile Name : ProPhoto RGB
Format : image/jpeg
Raw File Name : _MG_9949.CR2
Version : 7.1
Process Version : 6.7
Color Temperature : 4850
Tint : +1
Saturation : 0
Sharpness : 25
Luminance Smoothing : 0
Color Noise Reduction : 25
Vignette Amount : 0
Shadow Tint : 0
Red Hue : 0
Red Saturation : 0
Green Hue : 0
Green Saturation : 0
Blue Hue : 0
Blue Saturation : 0
Vibrance : +25
Hue Adjustment Red : 0
Hue Adjustment Orange : 0
Hue Adjustment Yellow : 0
Hue Adjustment Green : 0
Hue Adjustment Aqua : 0
Hue Adjustment Blue : 0
Hue Adjustment Purple : 0
Hue Adjustment Magenta : 0
Saturation Adjustment Red : 0
Saturation Adjustment Orange : 0
Saturation Adjustment Yellow : 0
Saturation Adjustment Green : 0
Saturation Adjustment Aqua : 0
Saturation Adjustment Blue : 0
Saturation Adjustment Purple : 0
Saturation Adjustment Magenta : 0
Luminance Adjustment Red : 0
Luminance Adjustment Orange : 0
Luminance Adjustment Yellow : 0
Luminance Adjustment Green : 0
Luminance Adjustment Aqua : 0
Luminance Adjustment Blue : 0
Luminance Adjustment Purple : 0
Luminance Adjustment Magenta : 0
Split Toning Shadow Hue : 0
Split Toning Shadow Saturation : 0
Split Toning Highlight Hue : 0
Split Toning Highlight Saturation : 0
Split Toning Balance : 0
Parametric Shadows : 0
Parametric Darks : 0
Parametric Lights : 0
Parametric Highlights : 0
Parametric Shadow Split : 25
Parametric Midtone Split : 50
Parametric Highlight Split : 75
Sharpen Radius : +1.0
Sharpen Detail : 25
Sharpen Edge Masking : 0
Post Crop Vignette Amount : 0
Grain Amount : 0
Color Noise Reduction Detail : 50
Lens Profile Enable : 0
Lens Manual Distortion Amount : 0
Perspective Vertical : 0
Perspective Horizontal : 0
Perspective Rotate : 0.0
Perspective Scale : 100
Auto Lateral CA : 0
Exposure 2012 : 0.00
Contrast 2012 : 0
Highlights 2012 : 0
Shadows 2012 : 0
Whites 2012 : 0
Blacks 2012 : 0
Clarity 2012 : +48
Defringe Purple Amount : 0
Defringe Purple Hue Lo : 30
Defringe Purple Hue Hi : 70
Defringe Green Amount : 0
Defringe Green Hue Lo : 40
Defringe Green Hue Hi : 60
Convert To Grayscale : False
Tone Curve Name 2012 : Linear
Camera Profile : Adobe Standard
Lens Profile Setup : LensDefaults
Has Settings : True
Has Crop : False
Already Applied : True
Tone Curve PV2012 : 0, 0, 255, 255
Tone Curve PV2012 Red : 0, 0, 255, 255
Tone Curve PV2012 Green : 0, 0, 255, 255
Tone Curve PV2012 Blue : 0, 0, 255, 255
Image Width : 300
Image Height : 200
Bits Per Sample : 8
Color Components : 3
Aperture : 13.0
Image Size : 300x200
Megapixels : 0.060
Scale Factor To 35 mm Equivalent : 1.0
Shutter Speed : 1/40
Create Date : 2012:08:09 09:54:08.31
Date/Time Original : 2012:08:09 09:54:08.31
Modify Date : 2012:08:09 22:00:55.31
Circle Of Confusion : 0.031 mm
Depth Of Field : 0.009 m (0.376 - 0.384 m)
Field Of View : 20.9 deg
Focal Length : 100.0 mm (35 mm equivalent: 97.6 mm)
Hyperfocal Distance : 24.99 m
Light Value : 10.7
Lens ID : Canon EF 100mm f/2.8 Macro USM