Uber Exif Photo
Caption-Abstract : Stitched Panorama
By-line : Photographer: Po Yin Ho
Image Description : Stitched Panorama
Make : Canon
Camera Model Name : Canon EOS 5D Mark II
Orientation : Horizontal (normal)
Software : Adobe Photoshop CS5 Macintosh
Modify Date : 2012:08:31 23:32:25
Artist : Photographer: Po Yin Ho
Exposure Time : 1/250
F Number : 1.4
Exposure Program : Aperture-priority AE
ISO : 125
Date/Time Original : 2012:08:31 16:37:10
Create Date : 2012:08:31 16:37:10
Shutter Speed Value : 1/250
Aperture Value : 1.4
Exposure Compensation : -4/3
Metering Mode : Multi-segment
Flash : Off, Did not fire
Focal Length : 50.0 mm
User Comment : Kolor stitching | 27 pictures | Size: 17028 x 8239 | FOV: 86.93 x 42.78 ~ 21.12 | RMS: 2.79 | Lens: Standard | Projection: Planar | Color: LDR |
Color Space : Uncalibrated
Exif Image Width : 1965
Exif Image Height : 950
Custom Rendered : Normal
Exposure Mode : Auto
White Balance : Auto
Scene Capture Type : Standard
Format : image/jpeg
Creator Tool : Autopano Giga
Rating : 0
Date Created : 2012:08:31 16:37:10.078
Color Mode : RGB
ICC Profile Name : Adobe RGB (1998)
Raw File Name : [Group 1]-_MG_0917__MG_0943-27 imagess_DxO.jpg
Version : 6.7
Process Version : 5.7
Incremental Temperature : 0
Incremental Tint : 0
Exposure : +0.45
Shadows : 0
Brightness : 0
Contrast : +18
Saturation : 0
Sharpness : 0
Luminance Smoothing : 0
Color Noise Reduction : 0
Vignette Amount : 0
Shadow Tint : 0
Red Hue : 0
Red Saturation : 0
Green Hue : 0
Green Saturation : 0
Blue Hue : 0
Blue Saturation : 0
Fill Light : 0
Vibrance : +23
Highlight Recovery : 0
Clarity : +25
Defringe : 0
Hue Adjustment Red : 0
Hue Adjustment Orange : 0
Hue Adjustment Yellow : 0
Hue Adjustment Green : 0
Hue Adjustment Aqua : 0
Hue Adjustment Blue : 0
Hue Adjustment Purple : 0
Hue Adjustment Magenta : 0
Saturation Adjustment Red : 0
Saturation Adjustment Orange : 0
Saturation Adjustment Yellow : 0
Saturation Adjustment Green : 0
Saturation Adjustment Aqua : 0
Saturation Adjustment Blue : +47
Saturation Adjustment Purple : 0
Saturation Adjustment Magenta : 0
Luminance Adjustment Red : 0
Luminance Adjustment Orange : 0
Luminance Adjustment Yellow : 0
Luminance Adjustment Green : 0
Luminance Adjustment Aqua : 0
Luminance Adjustment Blue : -33
Luminance Adjustment Purple : 0
Luminance Adjustment Magenta : 0
Split Toning Shadow Hue : 0
Split Toning Shadow Saturation : 0
Split Toning Highlight Hue : 0
Split Toning Highlight Saturation : 0
Split Toning Balance : 0
Parametric Shadows : 0
Parametric Darks : 0
Parametric Lights : 0
Parametric Highlights : 0
Parametric Shadow Split : 25
Parametric Midtone Split : 50
Parametric Highlight Split : 75
Sharpen Radius : +1.0
Sharpen Detail : 25
Sharpen Edge Masking : 0
Post Crop Vignette Amount : 0
Grain Amount : 0
Lens Profile Enable : 0
Lens Manual Distortion Amount : 0
Perspective Vertical : 0
Perspective Horizontal : 0
Perspective Rotate : 0.0
Perspective Scale : 100
Auto Lateral CA : 0
Exposure 2012 : 0.00
Contrast 2012 : 0
Highlights 2012 : 0
Shadows 2012 : 0
Whites 2012 : 0
Blacks 2012 : 0
Clarity 2012 : 0
Convert To Grayscale : False
Tone Curve Name : Linear
Tone Curve Name 2012 : Linear
Camera Profile : Embedded
Lens Profile Setup : LensDefaults
Has Settings : True
Has Crop : False
Already Applied : True
Description : Stitched Panorama
Creator : Photographer: Po Yin Ho
Tone Curve : 0, 0, 255, 255
Tone Curve Red : 0, 0, 255, 255
Tone Curve Green : 0, 0, 255, 255
Tone Curve Blue : 0, 0, 255, 255
Tone Curve PV2012 : 0, 0, 255, 255
Tone Curve PV2012 Red : 0, 0, 255, 255
Tone Curve PV2012 Green : 0, 0, 255, 255
Tone Curve PV2012 Blue : 0, 0, 255, 255
Gradient Based Corr What : Correction
Gradient Based Corr Amount : 1.000000
Gradient Based Corr Active : true
Gradient Based Corr Exposure : -0.150000
Gradient Based Corr Saturation : -0.300000
Gradient Based Corr Contrast : 0.530000
Gradient Based Corr Clarity : 0.020000
Gradient Based Corr Sharpness : 0.000000
Gradient Based Corr Brightness : -0.410000
Gradient Based Corr Toning Hue : 230.000000
Gradient Based Corr Toning Saturation : 0.500000
Gradient Based Corr Exposure 2012 : 0.000000
Gradient Based Corr Contrast 2012 : 0.000000
Gradient Based Corr Highlights 2012 : 0.000000
Gradient Based Corr Shadows 2012 : 0.000000
Gradient Based Corr Clarity 2012 : 0.000000
Gradient Based Corr Luminance Noise : 0.000000
Gradient Based Corr Moire : 0.000000
Gradient Based Corr Temperature : 0.000000
Gradient Based Corr Tint : 0.000000
Gradient Based Corr Mask What : Mask/Gradient
Gradient Based Corr Mask Value : 1.000000
Gradient Based Corr Mask Zero X : 0.556849
Gradient Based Corr Mask Zero Y : 0.544444
Gradient Based Corr Mask Full X : 0.547896
Gradient Based Corr Mask Full Y : -0.057407
Image Width : 300
Image Height : 145
Bits Per Sample : 8
Color Components : 1
Aperture : 1.4
Image Size : 300x145
Megapixels : 0.043
Scale Factor To 35 mm Equivalent : 1.0
Shutter Speed : 1/250
Create Date : 2012:08:31 16:37:10.78
Date/Time Original : 2012:08:31 16:37:10.78
Circle Of Confusion : 0.031 mm
Field Of View : 40.5 deg
Focal Length : 50.0 mm (35 mm equivalent: 48.8 mm)
Hyperfocal Distance : 58.00 m
Light Value : 8.6