Uber Exif Photo
By-line : Carol How
By-line Title : Photographer
Object Name : Don't let the Sun go Down on Me
Province-State : BC
Country-Primary Location Name : Canada
Keywords : Canada, Vancouver, False Creek, Burrard Inlet, Nikon D800, night, night photography'; Zeiss; 100mm;
Copyright Notice : Copyright C Ann How, all rights reseved
Copyright Flag : True
Photometric Interpretation : RGB
Make : NIKON CORPORATION
Camera Model Name : NIKON D800
Orientation : Horizontal (normal)
Samples Per Pixel : 3
Planar Configuration : Chunky
Software : Adobe Photoshop CS5 Macintosh
Modify Date : 2012:09:08 21:45:24
Artist : Carol How
Copyright : Copyright C Ann How, all rights reseved
Exposure Time : 1/60
F Number : 5.6
Exposure Program : Manual
ISO : 800
Sensitivity Type : Recommended Exposure Index
Date/Time Original : 2012:09:02 20:06:46
Create Date : 2012:09:02 20:06:46
Shutter Speed Value : 1/60
Aperture Value : 5.6
Exposure Compensation : 0
Max Aperture Value : 2.0
Metering Mode : Multi-segment
Light Source : Unknown
Flash : Off, Did not fire
Focal Length : 100.0 mm
User Comment : (c)Carol How
Color Space : sRGB
Exif Image Width : 1068
Exif Image Height : 1600
Sensing Method : One-chip color area
Scene Type : Directly photographed
CFA Pattern : [Red,Green][Green,Blue]
Custom Rendered : Normal
Exposure Mode : Manual
White Balance : Auto
Digital Zoom Ratio : 1
Focal Length In 35mm Format : 100 mm
Scene Capture Type : Standard
Gain Control : Low gain up
Contrast : Normal
Saturation : Normal
Sharpness : Normal
Subject Distance Range : Unknown
Serial Number : 5000932
Lens Info : 100mm f/2
Lens Model : Zeiss Makro-Planar T* 2/100 ZF.2
Profile Description : sRGB IEC61966-2.1
Format : image/jpeg
Creator Tool : Adobe Photoshop CS5 Macintosh
Lens : Zeiss Makro-Planar T* 2/100 ZF.2
Image Number : 5768
ICC Profile Name : sRGB IEC61966-2.1
Authors Position : Photographer
State : BC
Country : Canada
Color Mode : RGB
Raw File Name : _CAH5481.NEF
Version : 6.7
Process Version : 5.7
Color Temperature : 5950
Tint : +13
Exposure : 0.00
Shadows : 4
Brightness : +50
Luminance Smoothing : 0
Color Noise Reduction : 25
Vignette Amount : 0
Shadow Tint : +1
Red Hue : +1
Red Saturation : 0
Green Hue : -16
Green Saturation : 0
Blue Hue : 0
Blue Saturation : 0
Fill Light : 6
Vibrance : +22
Highlight Recovery : 100
Clarity : +38
Defringe : 0
Hue Adjustment Red : 0
Hue Adjustment Orange : 0
Hue Adjustment Yellow : 0
Hue Adjustment Green : 0
Hue Adjustment Aqua : 0
Hue Adjustment Blue : 0
Hue Adjustment Purple : 0
Hue Adjustment Magenta : 0
Saturation Adjustment Red : 0
Saturation Adjustment Orange : 0
Saturation Adjustment Yellow : 0
Saturation Adjustment Green : 0
Saturation Adjustment Aqua : 0
Saturation Adjustment Blue : 0
Saturation Adjustment Purple : 0
Saturation Adjustment Magenta : 0
Luminance Adjustment Red : 0
Luminance Adjustment Orange : 0
Luminance Adjustment Yellow : 0
Luminance Adjustment Green : 0
Luminance Adjustment Aqua : 0
Luminance Adjustment Blue : 0
Luminance Adjustment Purple : 0
Luminance Adjustment Magenta : 0
Split Toning Shadow Hue : 0
Split Toning Shadow Saturation : 0
Split Toning Highlight Hue : 0
Split Toning Highlight Saturation : 0
Split Toning Balance : 0
Parametric Shadows : +61
Parametric Darks : -8
Parametric Lights : +14
Parametric Highlights : -41
Parametric Shadow Split : 25
Parametric Midtone Split : 50
Parametric Highlight Split : 75
Sharpen Radius : +1.0
Sharpen Detail : 25
Sharpen Edge Masking : 0
Post Crop Vignette Amount : 0
Grain Amount : 0
Color Noise Reduction Detail : 50
Lens Profile Enable : 1
Lens Manual Distortion Amount : 0
Perspective Vertical : 0
Perspective Horizontal : 0
Perspective Rotate : 0.0
Perspective Scale : 100
Auto Lateral CA : 0
Exposure 2012 : 0.00
Contrast 2012 : 0
Highlights 2012 : 0
Shadows 2012 : 0
Whites 2012 : 0
Blacks 2012 : 0
Clarity 2012 : 0
Convert To Grayscale : False
Tone Curve Name : Medium Contrast
Tone Curve Name 2012 : Linear
Camera Profile : Camera Landscape
Lens Profile Setup : LensDefaults
Lens Profile Name : Adobe (Zeiss Makro-Planar T* 2/100 ZF.2)
Lens Profile Filename : NIKON CORPORATION (Zeiss Makro-Planar T 2-100 ZF.2).lcp
Lens Profile Distortion Scale : 100
Lens Profile Chromatic Aberration Scale : 100
Lens Profile Vignetting Scale : 100
Has Settings : True
Has Crop : False
Already Applied : True
Intellectual Genre : Copyright, Carol How, All rights reserved
Marked : True
Creator : Carol How
Rights : Copyright C Ann How, all rights reseved
Title : Don't let the Sun go Down on Me
Subject : Canada, Vancouver, False Creek, Burrard Inlet, Nikon D800, night, night photography'; Zeiss; 100mm;
Tone Curve : 0, 0, 32, 22, 64, 56, 128, 128, 192, 196, 255, 255
Tone Curve Red : 0, 0, 255, 255
Tone Curve Green : 0, 0, 255, 255
Tone Curve Blue : 0, 0, 255, 255
Tone Curve PV2012 : 0, 0, 255, 255
Tone Curve PV2012 Red : 0, 0, 255, 255
Tone Curve PV2012 Green : 0, 0, 255, 255
Tone Curve PV2012 Blue : 0, 0, 255, 255
Gradient Based Corr What : Correction
Gradient Based Corr Amount : 1.000000
Gradient Based Corr Active : true
Gradient Based Corr Exposure : 0.025000
Gradient Based Corr Saturation : 0.000000
Gradient Based Corr Contrast : 0.010000
Gradient Based Corr Clarity : 0.120000
Gradient Based Corr Sharpness : 0.000000
Gradient Based Corr Brightness : -0.025000
Gradient Based Corr Toning Hue : 44.000000
Gradient Based Corr Toning Saturation : 0.300000
Gradient Based Corr Exposure 2012 : 0.000000
Gradient Based Corr Contrast 2012 : 0.000000
Gradient Based Corr Highlights 2012 : 0.000000
Gradient Based Corr Shadows 2012 : 0.000000
Gradient Based Corr Clarity 2012 : 0.000000
Gradient Based Corr Luminance Noise : 0.000000
Gradient Based Corr Moire : 0.000000
Gradient Based Corr Temperature : 0.000000
Gradient Based Corr Tint : 0.000000
Gradient Based Corr Mask What : Mask/Gradient
Gradient Based Corr Mask Value : 1.000000
Gradient Based Corr Mask Zero X : 0.515619
Gradient Based Corr Mask Zero Y : 0.868699
Gradient Based Corr Mask Full X : 0.515621
Gradient Based Corr Mask Full Y : 1.004557
Creator City : Surrey
Creator Region : BC
Creator Country : Canada
Creator Work Email : carolhow@shaw.ca; how.carol@yahoo.com
Usage Terms : all rights reserved
Image Width : 200
Image Height : 300
Bits Per Sample : 8
Color Components : 3
Aperture : 5.6
Image Size : 200x300
Megapixels : 0.060
Scale Factor To 35 mm Equivalent : 1.0
Shutter Speed : 1/60
Create Date : 2012:09:02 20:06:46.70
Date/Time Original : 2012:09:02 20:06:46.70
Modify Date : 2012:09:08 21:45:24.70
Circle Of Confusion : 0.030 mm
Field Of View : 20.4 deg
Focal Length : 100.0 mm (35 mm equivalent: 100.0 mm)
Hyperfocal Distance : 59.43 m
Light Value : 7.9