Uber Exif Photo
Photometric Interpretation : RGB
Make : Canon
Camera Model Name : Canon EOS 5D Mark II
Orientation : Horizontal (normal)
Samples Per Pixel : 3
Planar Configuration : Chunky
Software : Adobe Photoshop CS4 Windows
Modify Date : 2012:11:08 18:29:01
Exposure Time : 145
F Number : 16.0
Exposure Program : Bulb
ISO : 400
Date/Time Original : 2012:10:31 18:40:45
Create Date : 2012:10:31 18:40:45
Shutter Speed Value : 145
Aperture Value : 16.0
Exposure Compensation : 0
Max Aperture Value : 2.8
Metering Mode : Multi-segment
Focal Length : 15.0 mm
Color Space : sRGB
Exif Image Width : 533
Exif Image Height : 800
Custom Rendered : Normal
Exposure Mode : Auto
White Balance : Manual
Scene Capture Type : Standard
Serial Number : 3631719387
Lens Info : 15mm f/?
Lens Model : Zeiss Distagon T* 2.8/15 ZE
Profile Description : sRGB IEC61966-2.1
Lens : Zeiss Distagon T* 2.8/15 ZE
Image Number : 0
Flash Compensation : 0
Firmware : 2.0.9
Rating : 1
Creator Tool : Adobe Photoshop Lightroom 4.2 (Windows)
Date Created : 2012:10:31 18:40:45.47
Color Mode : RGB
ICC Profile Name : sRGB IEC61966-2.1
Format : image/jpeg
Version : 7.2
Process Version : 6.7
Color Temperature : 5030
Tint : +2
Saturation : 0
Sharpness : 25
Luminance Smoothing : 0
Color Noise Reduction : 25
Vignette Amount : 0
Shadow Tint : 0
Red Hue : 0
Red Saturation : 0
Green Hue : 0
Green Saturation : 0
Blue Hue : 0
Blue Saturation : 0
Vibrance : +8
Hue Adjustment Red : 0
Hue Adjustment Orange : 0
Hue Adjustment Yellow : 0
Hue Adjustment Green : 0
Hue Adjustment Aqua : 0
Hue Adjustment Blue : 0
Hue Adjustment Purple : 0
Hue Adjustment Magenta : 0
Saturation Adjustment Red : 0
Saturation Adjustment Orange : 0
Saturation Adjustment Yellow : 0
Saturation Adjustment Green : 0
Saturation Adjustment Aqua : 0
Saturation Adjustment Blue : 0
Saturation Adjustment Purple : 0
Saturation Adjustment Magenta : 0
Luminance Adjustment Red : 0
Luminance Adjustment Orange : 0
Luminance Adjustment Yellow : 0
Luminance Adjustment Green : 0
Luminance Adjustment Aqua : 0
Luminance Adjustment Blue : 0
Luminance Adjustment Purple : 0
Luminance Adjustment Magenta : 0
Split Toning Shadow Hue : 0
Split Toning Shadow Saturation : 0
Split Toning Highlight Hue : 0
Split Toning Highlight Saturation : 0
Split Toning Balance : 0
Parametric Shadows : -8
Parametric Darks : -9
Parametric Lights : +6
Parametric Highlights : +3
Parametric Shadow Split : 25
Parametric Midtone Split : 50
Parametric Highlight Split : 75
Sharpen Radius : +1.0
Sharpen Detail : 25
Sharpen Edge Masking : 0
Post Crop Vignette Amount : 0
Grain Amount : 0
Color Noise Reduction Detail : 50
Lens Profile Enable : 0
Lens Manual Distortion Amount : 0
Perspective Vertical : 0
Perspective Horizontal : 0
Perspective Rotate : 0.0
Perspective Scale : 100
Auto Lateral CA : 0
Exposure 2012 : -0.23
Contrast 2012 : -12
Highlights 2012 : -76
Shadows 2012 : +12
Whites 2012 : +5
Blacks 2012 : -6
Clarity 2012 : +27
Defringe Purple Amount : 0
Defringe Purple Hue Lo : 30
Defringe Purple Hue Hi : 70
Defringe Green Amount : 0
Defringe Green Hue Lo : 40
Defringe Green Hue Hi : 60
Convert To Grayscale : False
Tone Curve Name 2012 : Linear
Camera Profile : Adobe Standard
Lens Profile Setup : LensDefaults
Has Settings : True
Crop Top : 0.025515
Crop Left : 0.007087
Crop Bottom : 0.974485
Crop Right : 0.992913
Crop Angle : -1
Crop Constrain To Warp : 0
Crop Width : 5474
Crop Height : 3649
Crop Unit : pixels
Has Crop : True
Already Applied : True
Date/Time Digitized : 2012:10:31 18:40:45Z
Tone Curve PV2012 : 0, 0, 255, 255
Tone Curve PV2012 Red : 0, 0, 255, 255
Tone Curve PV2012 Green : 0, 0, 255, 255
Tone Curve PV2012 Blue : 0, 0, 255, 255
Flash Fired : False
Flash Return : No return detection
Flash Mode : Off
Flash Function : False
Flash Red Eye Mode : False
Image Width : 200
Image Height : 300
Bits Per Sample : 8
Color Components : 3
Aperture : 16.0
Image Size : 200x300
Megapixels : 0.060
Scale Factor To 35 mm Equivalent : 1.0
Shutter Speed : 145
Create Date : 2012:10:31 18:40:45.47
Date/Time Original : 2012:10:31 18:40:45.47
Flash : Off, Did not fire
Circle Of Confusion : 0.031 mm
Field Of View : 101.8 deg
Focal Length : 15.0 mm (35 mm equivalent: 14.6 mm)
Hyperfocal Distance : 0.46 m
Light Value : -1.2
Lens ID : Carl Zeiss Distagon T* 15mm f/2.8 ZE