Uber Exif Photo
Keywords : Browncounty Trip Nov. 2012
By-line : James P Wills Copyright 2012
Make : Canon
Camera Model Name : Canon EOS-1Ds Mark II
Software : Adobe Photoshop Lightroom 4.3 (Windows)
Modify Date : 2012:11:29 00:15:10
Artist : James P Wills Copyright 2012
Exposure Time : 1/125
F Number : 1.4
Exposure Program : Aperture-priority AE
ISO : 100
Date/Time Original : 2012:11:06 17:46:38
Create Date : 2012:11:06 17:46:38
Shutter Speed Value : 1/125
Aperture Value : 1.4
Exposure Compensation : +1/3
Max Aperture Value : 1.4
Metering Mode : Multi-segment
Flash : Off, Did not fire
Focal Length : 50.0 mm
Custom Rendered : Normal
Exposure Mode : Auto
White Balance : Auto
Scene Capture Type : Standard
Owner Name : James P Wills Copyright 2012
Serial Number : 342481
Lens Info : 50mm f/?
Lens Model : 50.0 mm
Profile Description : sRGB IEC61966-2.1
Format : image/jpeg
Lens : 50.0 mm
Image Number : 24126
Flash Compensation : 0
Firmware : 1.1.6
Creator Tool : Adobe Photoshop Lightroom 4.3 (Windows)
Label : Blue
Rating : 4
Date Created : 2012:11:06 17:46:38
Version : 7.3
Process Version : 6.7
Color Temperature : 4800
Tint : +4
Saturation : +5
Sharpness : 64
Luminance Smoothing : 0
Color Noise Reduction : 25
Vignette Amount : 0
Shadow Tint : 0
Red Hue : 0
Red Saturation : 0
Green Hue : 0
Green Saturation : 0
Blue Hue : 0
Blue Saturation : 0
Vibrance : +10
Hue Adjustment Red : 0
Hue Adjustment Orange : 0
Hue Adjustment Yellow : 0
Hue Adjustment Green : 0
Hue Adjustment Aqua : 0
Hue Adjustment Blue : 0
Hue Adjustment Purple : 0
Hue Adjustment Magenta : 0
Saturation Adjustment Red : 0
Saturation Adjustment Orange : 0
Saturation Adjustment Yellow : 0
Saturation Adjustment Green : 0
Saturation Adjustment Aqua : 0
Saturation Adjustment Blue : 0
Saturation Adjustment Purple : 0
Saturation Adjustment Magenta : 0
Luminance Adjustment Red : 0
Luminance Adjustment Orange : 0
Luminance Adjustment Yellow : 0
Luminance Adjustment Green : 0
Luminance Adjustment Aqua : 0
Luminance Adjustment Blue : 0
Luminance Adjustment Purple : 0
Luminance Adjustment Magenta : 0
Split Toning Shadow Hue : 0
Split Toning Shadow Saturation : 0
Split Toning Highlight Hue : 0
Split Toning Highlight Saturation : 0
Split Toning Balance : 0
Parametric Shadows : -22
Parametric Darks : +5
Parametric Lights : 0
Parametric Highlights : 0
Parametric Shadow Split : 25
Parametric Midtone Split : 50
Parametric Highlight Split : 75
Sharpen Radius : +1.0
Sharpen Detail : 25
Sharpen Edge Masking : 56
Post Crop Vignette Amount : -5
Post Crop Vignette Midpoint : 50
Post Crop Vignette Feather : 50
Post Crop Vignette Roundness : 0
Post Crop Vignette Style : Highlight Priority
Post Crop Vignette Highlight Contrast : 0
Grain Amount : 0
Color Noise Reduction Detail : 50
Lens Profile Enable : 0
Lens Manual Distortion Amount : 0
Perspective Vertical : 0
Perspective Horizontal : 0
Perspective Rotate : 0.0
Perspective Scale : 100
Auto Lateral CA : 0
Exposure 2012 : -0.50
Contrast 2012 : +25
Highlights 2012 : 0
Shadows 2012 : 0
Whites 2012 : +49
Blacks 2012 : -45
Clarity 2012 : +10
Defringe Purple Amount : 0
Defringe Purple Hue Lo : 30
Defringe Purple Hue Hi : 70
Defringe Green Amount : 0
Defringe Green Hue Lo : 40
Defringe Green Hue Hi : 60
Convert To Grayscale : False
Tone Curve Name 2012 : Strong Contrast
Camera Profile : 1Ds MkII - Dual 2850K/6500K
Lens Profile Setup : LensDefaults
Has Settings : True
Crop Top : 0.028986
Crop Left : 0.122007
Crop Bottom : 1
Crop Right : 0.931186
Crop Angle : 0
Crop Constrain To Warp : 0
Crop Width : 4039
Crop Height : 3232
Crop Unit : pixels
Has Crop : True
Already Applied : True
Creator : James P Wills Copyright 2012
Subject : Browncounty Trip Nov. 2012
Tone Curve PV2012 : 0, 0, 32, 16, 64, 50, 128, 128, 192, 202, 255, 255
Tone Curve PV2012 Red : 0, 0, 255, 255
Tone Curve PV2012 Green : 0, 0, 255, 255
Tone Curve PV2012 Blue : 0, 0, 255, 255
Image Width : 240
Image Height : 300
Bits Per Sample : 8
Color Components : 3
Aperture : 1.4
Image Size : 240x300
Megapixels : 0.072
Scale Factor To 35 mm Equivalent : 1.0
Shutter Speed : 1/125
Circle Of Confusion : 0.030 mm
Field Of View : 39.6 deg
Focal Length : 50.0 mm (35 mm equivalent: 49.9 mm)
Hyperfocal Distance : 59.35 m
Light Value : 7.9
Lens ID : Carl Zeiss Planar T* 50mm f/1.4