Uber Exif Photo
By-line : Perry Wong
Make : Canon
Camera Model Name : Canon EOS 5D Mark III
Software : Adobe Photoshop Lightroom 4.1 (Macintosh)
Modify Date : 2012:11:29 23:07:55
Artist : Perry Wong
Exposure Time : 1/30
F Number : 3.5
Exposure Program : Aperture-priority AE
ISO : 12800
Sensitivity Type : Recommended Exposure Index
Recommended Exposure Index : 12800
Date/Time Original : 2012:11:10 20:50:53
Create Date : 2012:11:10 20:50:53
Shutter Speed Value : 1/30
Aperture Value : 3.5
Exposure Compensation : 0
Max Aperture Value : 3.5
Metering Mode : Multi-segment
Flash : Off, Did not fire
Focal Length : 18.0 mm
Custom Rendered : Normal
Exposure Mode : Auto
White Balance : Auto
Scene Capture Type : Standard
Owner Name : Perry Wong
Serial Number : 053024020376
Lens Info : 18mm f/?
Lens Model : Zeiss Distagon T* 3.5/18 ZE
Lens Serial Number : 0000000000
Profile Description : sRGB IEC61966-2.1
Creator Tool : Adobe Photoshop Lightroom 4.1 (Macintosh)
Format : image/jpeg
Lens : Zeiss Distagon T* 3.5/18 ZE
Image Number : 0
Flash Compensation : 0
Firmware : 1.1.3
Date Created : 2012:11:10 20:50:53.00
Version : 7.1
Process Version : 6.7
Incremental Temperature : +2
Incremental Tint : 0
Saturation : 0
Sharpness : 0
Luminance Smoothing : 0
Color Noise Reduction : 0
Vignette Amount : 0
Shadow Tint : 0
Red Hue : 0
Red Saturation : 0
Green Hue : 0
Green Saturation : 0
Blue Hue : 0
Blue Saturation : 0
Vibrance : 0
Hue Adjustment Red : 0
Hue Adjustment Orange : 0
Hue Adjustment Yellow : 0
Hue Adjustment Green : 0
Hue Adjustment Aqua : 0
Hue Adjustment Blue : 0
Hue Adjustment Purple : 0
Hue Adjustment Magenta : 0
Saturation Adjustment Red : 0
Saturation Adjustment Orange : 0
Saturation Adjustment Yellow : 0
Saturation Adjustment Green : 0
Saturation Adjustment Aqua : 0
Saturation Adjustment Blue : 0
Saturation Adjustment Purple : 0
Saturation Adjustment Magenta : 0
Luminance Adjustment Red : 0
Luminance Adjustment Orange : 0
Luminance Adjustment Yellow : 0
Luminance Adjustment Green : 0
Luminance Adjustment Aqua : 0
Luminance Adjustment Blue : 0
Luminance Adjustment Purple : 0
Luminance Adjustment Magenta : 0
Split Toning Shadow Hue : 0
Split Toning Shadow Saturation : 0
Split Toning Highlight Hue : 0
Split Toning Highlight Saturation : 0
Split Toning Balance : 0
Parametric Shadows : -13
Parametric Darks : -19
Parametric Lights : -5
Parametric Highlights : -23
Parametric Shadow Split : 10
Parametric Midtone Split : 50
Parametric Highlight Split : 75
Sharpen Radius : +1.0
Sharpen Detail : 25
Sharpen Edge Masking : 0
Post Crop Vignette Amount : 0
Grain Amount : 0
Lens Profile Enable : 0
Lens Manual Distortion Amount : 0
Perspective Vertical : 0
Perspective Horizontal : 0
Perspective Rotate : 0.0
Perspective Scale : 100
Auto Lateral CA : 0
Exposure 2012 : +0.20
Contrast 2012 : -7
Highlights 2012 : 0
Shadows 2012 : 0
Whites 2012 : -16
Blacks 2012 : -7
Clarity 2012 : +24
Defringe Purple Amount : 0
Defringe Purple Hue Lo : 30
Defringe Purple Hue Hi : 70
Defringe Green Amount : 0
Defringe Green Hue Lo : 40
Defringe Green Hue Hi : 60
Convert To Grayscale : False
Tone Curve Name 2012 : Linear
Camera Profile : Embedded
Lens Profile Setup : LensDefaults
Has Settings : True
Crop Top : 0.052694
Crop Left : 0.093155
Crop Bottom : 0.874645
Crop Right : 0.991218
Crop Angle : -2.3
Crop Constrain To Warp : 0
Crop Width : 1440
Crop Height : 960
Crop Unit : pixels
Has Crop : True
Already Applied : True
Creator : Perry Wong
Tone Curve PV2012 : 0, 0, 255, 255
Tone Curve PV2012 Red : 0, 0, 255, 255
Tone Curve PV2012 Green : 0, 0, 255, 255
Tone Curve PV2012 Blue : 0, 0, 255, 255
Image Width : 300
Image Height : 200
Bits Per Sample : 8
Color Components : 3
Aperture : 3.5
Image Size : 300x200
Megapixels : 0.060
Scale Factor To 35 mm Equivalent : 1.0
Shutter Speed : 1/30
Create Date : 2012:11:10 20:50:53.00
Date/Time Original : 2012:11:10 20:50:53.00
Circle Of Confusion : 0.031 mm
Field Of View : 91.7 deg
Focal Length : 18.0 mm (35 mm equivalent: 17.5 mm)
Hyperfocal Distance : 2.99 m
Light Value : 1.5
Lens ID : Carl Zeiss Distagon T* 18mm f/3.5 ZE