Uber Exif Photo
By-line : Donn Anning jones
Copyright Notice : Donn Anning Jones
Caption-Abstract : Rolleiflex, Kodak film
Copyright Flag : True
Image Description : Rolleiflex, Kodak film
Make : Microtek
Camera Model Name : ScanMaker i900
Software : Adobe Photoshop Lightroom 3.6 (Macintosh)
Modify Date : 2012:12:01 17:28:28
Artist : Donn Anning jones
Copyright : Donn Anning Jones
Date/Time Original : 2011:12:01 12:00:00
Create Date : 2012:01:01 17:46:58
Profile Description : ProPhoto RGB
Format : image/jpeg
Creator Tool : Adobe Photoshop Lightroom 3.6 (Macintosh)
Date Created : 2011:12:01 12:00:00
Marked : True
Version : 6.6
Process Version : 5.7
White Balance : Custom
Incremental Temperature : 0
Incremental Tint : 0
Exposure : +0.10
Shadows : 0
Brightness : 0
Contrast : 0
Saturation : 0
Sharpness : 0
Luminance Smoothing : 0
Color Noise Reduction : 0
Chromatic Aberration R : 0
Chromatic Aberration B : 0
Vignette Amount : 0
Shadow Tint : 0
Red Hue : 0
Red Saturation : 0
Green Hue : 0
Green Saturation : 0
Blue Hue : 0
Blue Saturation : 0
Fill Light : 0
Vibrance : 0
Highlight Recovery : 0
Clarity : 0
Defringe : 0
Hue Adjustment Red : 0
Hue Adjustment Orange : 0
Hue Adjustment Yellow : 0
Hue Adjustment Green : 0
Hue Adjustment Aqua : 0
Hue Adjustment Blue : 0
Hue Adjustment Purple : 0
Hue Adjustment Magenta : 0
Saturation Adjustment Red : 0
Saturation Adjustment Orange : 0
Saturation Adjustment Yellow : 0
Saturation Adjustment Green : 0
Saturation Adjustment Aqua : 0
Saturation Adjustment Blue : 0
Saturation Adjustment Purple : 0
Saturation Adjustment Magenta : 0
Luminance Adjustment Red : 0
Luminance Adjustment Orange : 0
Luminance Adjustment Yellow : 0
Luminance Adjustment Green : 0
Luminance Adjustment Aqua : 0
Luminance Adjustment Blue : 0
Luminance Adjustment Purple : 0
Luminance Adjustment Magenta : 0
Split Toning Shadow Hue : 0
Split Toning Shadow Saturation : 0
Split Toning Highlight Hue : 0
Split Toning Highlight Saturation : 0
Split Toning Balance : 0
Parametric Shadows : -100
Parametric Darks : -11
Parametric Lights : +17
Parametric Highlights : +25
Parametric Shadow Split : 25
Parametric Midtone Split : 50
Parametric Highlight Split : 75
Sharpen Radius : +1.0
Sharpen Detail : 25
Sharpen Edge Masking : 0
Post Crop Vignette Amount : 0
Grain Amount : 0
Lens Profile Enable : 0
Lens Manual Distortion Amount : 0
Perspective Vertical : 0
Perspective Horizontal : 0
Perspective Rotate : 0.0
Perspective Scale : 100
Convert To Grayscale : False
Tone Curve Name : Linear
Camera Profile : Embedded
Lens Profile Setup : LensDefaults
Has Settings : True
Crop Top : 0.017468
Crop Left : 0
Crop Bottom : 0.982532
Crop Right : 1
Crop Angle : -1.01816
Crop Constrain To Warp : 0
Crop Width : 1056
Crop Height : 1110
Crop Unit : pixels
Has Crop : True
Already Applied : True
Description : Rolleiflex, Kodak film
Creator : Donn Anning jones
Rights : Donn Anning Jones
Usage Terms : Do not use without prior written permission
Creator Region : OR
Creator City : Portland
Creator Work Email : daj@inklight.net
Tone Curve : 0, 0, 255, 255
Paint Correction What : Correction
Paint Correction Amount : 1.000000
Paint Correction Active : true
Paint Correction Exposure : 0.075000
Paint Correction Saturation : 0.000000
Paint Correction Contrast : 0.000000
Paint Correction Clarity : 0.000000
Paint Correction Sharpness : 0.000000
Paint Correction Brightness : 0.000000
Paint Correction Toning Hue : 0.000000
Paint Correction Toning Saturation : 0.000000
Paint Correction Mask What : Mask/Paint
Paint Correction Mask Value : 1.000000
Paint Correction Mask Radius : 0.272723
Paint Correction Mask Flow : 1.000000
Paint Correction Mask Center Weight : 0.000000
Image Width : 285
Image Height : 300
Bits Per Sample : 8
Color Components : 3
Image Size : 285x300
Megapixels : 0.086