Uber Exif Photo
By-line : EdbE PhOToGraphY (Nihed Baouab)
Copyright Notice : Copyright: EdbE PhOToGraphY
Photometric Interpretation : RGB
Make : Canon
Camera Model Name : Canon EOS 5D Mark II
Orientation : Horizontal (normal)
Samples Per Pixel : 3
Software : Adobe Photoshop CS6 (Macintosh)
Modify Date : 2012:12:10 20:00:49
Artist : EdbE PhOToGraphY (Nihed Baouab)
Copyright : Copyright: EdbE PhOToGraphY
Exposure Time : 30
F Number : 5.6
Exposure Program : Aperture-priority AE
ISO : 100
Date/Time Original : 2012:12:02 00:21:37
Create Date : 2012:12:02 00:21:37
Shutter Speed Value : 30
Aperture Value : 5.6
Exposure Compensation : +7/3
Max Aperture Value : 2.8
Metering Mode : Multi-segment
Flash : Off, Did not fire
Focal Length : 21.0 mm
Color Space : sRGB
Exif Image Width : 2000
Exif Image Height : 1440
Custom Rendered : Normal
Exposure Mode : Auto
White Balance : Auto
Scene Capture Type : Standard
Owner Name : Nihed Baouab
Serial Number : 3661713537
Lens Info : 21mm f/?
Lens Model : Zeiss Distagon T* 2.8/21 ZE
Profile Description : sRGB IEC61966-2.1
Creator Tool : Adobe Photoshop Lightroom 3.6 (Macintosh)
Format : image/jpeg
Lens : Zeiss Distagon T* 2.8/21 ZE
Image Number : 0
Flash Compensation : 0
Firmware : 2.1.2
Date Created : 2012:12:02 00:21:37.033
Color Mode : RGB
ICC Profile Name : sRGB IEC61966-2.1
Version : 6.6
Process Version : 5.7
Incremental Temperature : 0
Incremental Tint : 0
Exposure : 0.00
Shadows : 0
Brightness : 0
Contrast : 0
Saturation : +11
Sharpness : 0
Luminance Smoothing : 32
Color Noise Reduction : 0
Chromatic Aberration R : 0
Chromatic Aberration B : 0
Vignette Amount : 0
Shadow Tint : 0
Red Hue : 0
Red Saturation : 0
Green Hue : 0
Green Saturation : 0
Blue Hue : 0
Blue Saturation : 0
Fill Light : 0
Vibrance : -32
Highlight Recovery : 7
Clarity : +5
Defringe : 0
Hue Adjustment Red : 0
Hue Adjustment Orange : 0
Hue Adjustment Yellow : 0
Hue Adjustment Green : 0
Hue Adjustment Aqua : 0
Hue Adjustment Blue : 0
Hue Adjustment Purple : 0
Hue Adjustment Magenta : 0
Saturation Adjustment Red : 0
Saturation Adjustment Orange : 0
Saturation Adjustment Yellow : 0
Saturation Adjustment Green : 0
Saturation Adjustment Aqua : 0
Saturation Adjustment Blue : 0
Saturation Adjustment Purple : 0
Saturation Adjustment Magenta : 0
Luminance Adjustment Red : 0
Luminance Adjustment Orange : 0
Luminance Adjustment Yellow : 0
Luminance Adjustment Green : 0
Luminance Adjustment Aqua : 0
Luminance Adjustment Blue : 0
Luminance Adjustment Purple : 0
Luminance Adjustment Magenta : 0
Split Toning Shadow Hue : 0
Split Toning Shadow Saturation : 0
Split Toning Highlight Hue : 0
Split Toning Highlight Saturation : 0
Split Toning Balance : 0
Parametric Shadows : -1
Parametric Darks : -1
Parametric Lights : +3
Parametric Highlights : -17
Parametric Shadow Split : 25
Parametric Midtone Split : 50
Parametric Highlight Split : 75
Sharpen Radius : +1.0
Sharpen Detail : 25
Sharpen Edge Masking : 0
Post Crop Vignette Amount : 0
Grain Amount : 0
Luminance Noise Reduction Detail : 50
Luminance Noise Reduction Contrast : 0
Lens Profile Enable : 0
Lens Manual Distortion Amount : 0
Perspective Vertical : 0
Perspective Horizontal : 0
Perspective Rotate : 0.0
Perspective Scale : 100
Convert To Grayscale : False
Tone Curve Name : Linear
Camera Profile : Embedded
Lens Profile Setup : LensDefaults
Has Settings : True
Crop Top : 0
Crop Left : 0
Crop Bottom : 0.982808
Crop Right : 0.909611
Crop Angle : 0
Crop Constrain To Warp : 0
Crop Width : 5000
Crop Height : 3601
Crop Unit : pixels
Has Crop : True
Already Applied : True
Creator : EdbE PhOToGraphY (Nihed Baouab)
Rights : Copyright: EdbE PhOToGraphY
Tone Curve : 0, 0, 255, 255
Image Width : 300
Image Height : 216
Bits Per Sample : 8
Color Components : 3
Aperture : 5.6
Image Size : 300x216
Megapixels : 0.065
Scale Factor To 35 mm Equivalent : 1.0
Shutter Speed : 30
Date/Time Original : 2012:12:02 00:21:37.33
Circle Of Confusion : 0.031 mm
Field Of View : 82.6 deg
Focal Length : 21.0 mm (35 mm equivalent: 20.5 mm)
Hyperfocal Distance : 2.56 m
Light Value : 0.1
Lens ID : Carl Zeiss Distagon T* 21mm f/2.8 ZE