Uber Exif Photo
Make : SONY
Camera Model Name : NEX-7
Orientation : Horizontal (normal)
Software : Adobe Photoshop CS6 (Windows)
Modify Date : 2013:04:20 11:07:25
Exposure Time : 1/20
F Number : 2.2
Exposure Program : Manual
ISO : 800
Sensitivity Type : Recommended Exposure Index
Recommended Exposure Index : 800
Date/Time Original : 2013:04:17 22:23:13
Create Date : 2013:04:17 22:23:13
Shutter Speed Value : 1/20
Aperture Value : 2.2
Brightness Value : -2.2484375
Exposure Compensation : 0
Max Aperture Value : 2.0
Metering Mode : Multi-segment
Light Source : Other
Flash : Off, Did not fire
Focal Length : 24.0 mm
Color Space : Uncalibrated
Exif Image Width : 2686
Exif Image Height : 4303
Scene Type : Directly photographed
Custom Rendered : Normal
Exposure Mode : Manual
White Balance : Manual
Focal Length In 35mm Format : 36 mm
Scene Capture Type : Standard
Contrast : Low
Saturation : Low
Sharpness : Hard
Lens Info : 24mm f/2
Lens Model : 24mm F2 ZA SSM
Profile Description : Adobe RGB (1998)
Creator Tool : NEX-7 v1.02
Rating : 0
Lens : 24mm F2 ZA SSM
Date Created : 2013:04:17 22:23:13
Color Mode : RGB
ICC Profile Name : Adobe RGB (1998)
Raw File Name : _DSC9376.ARW
Version : 7.0
Process Version : 6.7
Color Temperature : 3750
Tint : +54
Exposure : 0.00
Shadows : 5
Brightness : +50
Luminance Smoothing : 83
Color Noise Reduction : 55
Vignette Amount : 0
Shadow Tint : 0
Red Hue : 0
Red Saturation : 0
Green Hue : 0
Green Saturation : 0
Blue Hue : 0
Blue Saturation : 0
Fill Light : 0
Vibrance : +10
Highlight Recovery : 0
Clarity : 0
Defringe : 2
Hue Adjustment Red : 0
Hue Adjustment Orange : 0
Hue Adjustment Yellow : 0
Hue Adjustment Green : 0
Hue Adjustment Aqua : 0
Hue Adjustment Blue : 0
Hue Adjustment Purple : 0
Hue Adjustment Magenta : 0
Saturation Adjustment Red : 0
Saturation Adjustment Orange : 0
Saturation Adjustment Yellow : 0
Saturation Adjustment Green : 0
Saturation Adjustment Aqua : 0
Saturation Adjustment Blue : 0
Saturation Adjustment Purple : 0
Saturation Adjustment Magenta : 0
Luminance Adjustment Red : 0
Luminance Adjustment Orange : 0
Luminance Adjustment Yellow : 0
Luminance Adjustment Green : 0
Luminance Adjustment Aqua : 0
Luminance Adjustment Blue : 0
Luminance Adjustment Purple : 0
Luminance Adjustment Magenta : 0
Split Toning Shadow Hue : 0
Split Toning Shadow Saturation : 0
Split Toning Highlight Hue : 0
Split Toning Highlight Saturation : 0
Split Toning Balance : 0
Parametric Shadows : 0
Parametric Darks : 0
Parametric Lights : 0
Parametric Highlights : 0
Parametric Shadow Split : 25
Parametric Midtone Split : 50
Parametric Highlight Split : 75
Sharpen Radius : +1.0
Sharpen Detail : 25
Sharpen Edge Masking : 0
Post Crop Vignette Amount : 0
Grain Amount : 0
Luminance Noise Reduction Detail : 50
Color Noise Reduction Detail : 50
Luminance Noise Reduction Contrast : 0
Lens Profile Enable : 0
Lens Manual Distortion Amount : 0
Perspective Vertical : 0
Perspective Horizontal : +35
Perspective Rotate : -4.0
Perspective Scale : 76
Auto Lateral CA : 1
Exposure 2012 : 0.00
Contrast 2012 : -25
Highlights 2012 : -24
Shadows 2012 : +24
Whites 2012 : 0
Blacks 2012 : -3
Clarity 2012 : +10
Convert To Grayscale : False
Tone Curve Name : Medium Contrast
Tone Curve Name 2012 : Linear
Camera Profile : Adobe Standard
Lens Profile Setup : LensDefaults
Has Settings : True
Crop Top : 0.124756
Crop Left : 0.224967
Crop Bottom : 0.863548
Crop Right : 0.993498
Crop Angle : 0
Crop Constrain To Warp : 0
Has Crop : True
Already Applied : True
Format : image/jpeg
Tone Curve : 0, 0, 32, 22, 64, 56, 128, 128, 192, 196, 255, 255
Tone Curve Red : 0, 0, 255, 255
Tone Curve Green : 0, 0, 255, 255
Tone Curve Blue : 0, 0, 255, 255
Tone Curve PV2012 : 0, 0, 255, 255
Tone Curve PV2012 Red : 0, 0, 255, 255
Tone Curve PV2012 Green : 0, 0, 255, 255
Tone Curve PV2012 Blue : 0, 0, 255, 255
Image Width : 187
Image Height : 300
Bits Per Sample : 8
Color Components : 3
Aperture : 2.2
Image Size : 187x300
Megapixels : 0.056
Scale Factor To 35 mm Equivalent : 1.5
Shutter Speed : 1/20
Circle Of Confusion : 0.020 mm
Field Of View : 53.1 deg
Focal Length : 24.0 mm (35 mm equivalent: 36.0 mm)
Hyperfocal Distance : 13.07 m
Light Value : 3.6
Lens ID : Carl Zeiss Distagon T* 24mm F2 ZA SSM (SAL24F20Z)