Uber Exif Photo
By-line : EdbE PhOToGraphY (Nihed Baouab)
Copyright Notice : Copyright: EdbE PhOToGraphY
Photometric Interpretation : RGB
Make : Canon
Camera Model Name : Canon EOS 5D Mark II
Orientation : Horizontal (normal)
Samples Per Pixel : 3
Software : Adobe Photoshop CS6 (Macintosh)
Modify Date : 2013:05:10 16:02:08
Artist : EdbE PhOToGraphY (Nihed Baouab)
Copyright : Copyright: EdbE PhOToGraphY
Exposure Time : 6
F Number : 16.0
Exposure Program : Manual
ISO : 100
Date/Time Original : 2013:01:11 18:06:36
Create Date : 2013:01:11 18:06:36
Shutter Speed Value : 6
Aperture Value : 16.0
Exposure Compensation : 0
Max Aperture Value : 2.8
Metering Mode : Multi-segment
Flash : Off, Did not fire
Focal Length : 21.0 mm
Color Space : sRGB
Exif Image Width : 900
Exif Image Height : 506
Custom Rendered : Normal
Exposure Mode : Manual
White Balance : Auto
Scene Capture Type : Standard
Owner Name : Nihed Baouab
Serial Number : 3661713537
Lens Info : 21mm f/?
Lens Model : Zeiss Distagon T* 2.8/21 ZE
Profile Description : sRGB IEC61966-2.1
Creator Tool : Adobe Photoshop Lightroom 4.4 (Macintosh)
Format : image/jpeg
Lens : Zeiss Distagon T* 2.8/21 ZE
Image Number : 0
Flash Compensation : 0
Firmware : 2.1.2
Date Created : 2013:01:11 18:06:36.022
Color Mode : RGB
ICC Profile Name : sRGB IEC61966-2.1
Version : 7.4
Process Version : 6.7
Incremental Temperature : -20
Incremental Tint : -35
Saturation : -30
Sharpness : 9
Luminance Smoothing : 16
Color Noise Reduction : 25
Vignette Amount : 0
Shadow Tint : 0
Red Hue : 0
Red Saturation : 0
Green Hue : 0
Green Saturation : 0
Blue Hue : 0
Blue Saturation : 0
Vibrance : -10
Hue Adjustment Red : 0
Hue Adjustment Orange : 0
Hue Adjustment Yellow : 0
Hue Adjustment Green : 0
Hue Adjustment Aqua : 0
Hue Adjustment Blue : 0
Hue Adjustment Purple : 0
Hue Adjustment Magenta : 0
Saturation Adjustment Red : -60
Saturation Adjustment Orange : -55
Saturation Adjustment Yellow : -50
Saturation Adjustment Green : -70
Saturation Adjustment Aqua : -60
Saturation Adjustment Blue : -40
Saturation Adjustment Purple : -55
Saturation Adjustment Magenta : -20
Luminance Adjustment Red : +20
Luminance Adjustment Orange : +20
Luminance Adjustment Yellow : +20
Luminance Adjustment Green : +20
Luminance Adjustment Aqua : +20
Luminance Adjustment Blue : +20
Luminance Adjustment Purple : +20
Luminance Adjustment Magenta : +20
Split Toning Shadow Hue : 0
Split Toning Shadow Saturation : 0
Split Toning Highlight Hue : 0
Split Toning Highlight Saturation : 0
Split Toning Balance : 0
Parametric Shadows : 0
Parametric Darks : 0
Parametric Lights : 0
Parametric Highlights : 0
Parametric Shadow Split : 25
Parametric Midtone Split : 50
Parametric Highlight Split : 75
Sharpen Radius : +1.0
Sharpen Detail : 25
Sharpen Edge Masking : 0
Post Crop Vignette Amount : 0
Grain Amount : 0
Luminance Noise Reduction Detail : 50
Color Noise Reduction Detail : 50
Luminance Noise Reduction Contrast : 0
Lens Profile Enable : 0
Lens Manual Distortion Amount : 0
Perspective Vertical : 0
Perspective Horizontal : 0
Perspective Rotate : 0.0
Perspective Scale : 100
Auto Lateral CA : 0
Exposure 2012 : 0.00
Contrast 2012 : 0
Highlights 2012 : 0
Shadows 2012 : 0
Whites 2012 : 0
Blacks 2012 : 0
Clarity 2012 : +20
Defringe Purple Amount : 0
Defringe Purple Hue Lo : 30
Defringe Purple Hue Hi : 70
Defringe Green Amount : 0
Defringe Green Hue Lo : 40
Defringe Green Hue Hi : 60
Convert To Grayscale : False
Tone Curve Name 2012 : Linear
Camera Profile : Adobe Standard
Lens Profile Setup : LensDefaults
Has Settings : True
Crop Top : 0
Crop Left : 0
Crop Bottom : 0.834934
Crop Right : 1
Crop Angle : 0
Crop Constrain To Warp : 0
Crop Width : 5351
Crop Height : 3010
Crop Unit : pixels
Has Crop : True
Already Applied : True
Creator : EdbE PhOToGraphY (Nihed Baouab)
Rights : Copyright: EdbE PhOToGraphY
Tone Curve PV2012 : 0, 0, 255, 255
Tone Curve PV2012 Red : 0, 0, 255, 255
Tone Curve PV2012 Green : 0, 0, 255, 255
Tone Curve PV2012 Blue : 0, 0, 255, 255
Image Width : 300
Image Height : 169
Bits Per Sample : 8
Color Components : 3
Aperture : 16.0
Image Size : 300x169
Megapixels : 0.051
Scale Factor To 35 mm Equivalent : 1.0
Shutter Speed : 6
Date/Time Original : 2013:01:11 18:06:36.22
Circle Of Confusion : 0.031 mm
Field Of View : 82.6 deg
Focal Length : 21.0 mm (35 mm equivalent: 20.5 mm)
Hyperfocal Distance : 0.90 m
Light Value : 5.4
Lens ID : Carl Zeiss Distagon T* 21mm f/2.8 ZE