Uber Exif Photo
Caption-Abstract : SONY DSC
Image Description : SONY DSC
Make : SONY
Camera Model Name : DSLR-A850
Software : Adobe Photoshop Lightroom 4.4 (Windows)
Modify Date : 2013:05:12 02:42:06
Exposure Time : 1/125
F Number : 2.0
Exposure Program : Manual
ISO : 200
Date/Time Original : 2013:05:06 17:07:16
Create Date : 2013:05:06 17:07:16
Shutter Speed Value : 1/125
Aperture Value : 2.0
Brightness Value : 6.75
Exposure Compensation : 0
Max Aperture Value : 2.0
Metering Mode : Spot
Light Source : Unknown
Flash : Off, Did not fire
Focal Length : 24.0 mm
Scene Type : Directly photographed
Custom Rendered : Normal
Exposure Mode : Manual
White Balance : Manual
Focal Length In 35mm Format : 24 mm
Scene Capture Type : Standard
Contrast : Normal
Saturation : Normal
Sharpness : Normal
Lens Info : 24mm f/2
Lens Model : 24mm F2.0 ZA SSM
Profile Description : sRGB IEC61966-2.1
Creator Tool : Adobe Photoshop Lightroom 4.4 (Windows)
Lens : 24mm F2.0 ZA SSM
Date Created : 2013:05:06 17:07:16
Format : image/jpeg
Version : 7.4
Process Version : 6.7
Color Temperature : 7848
Tint : +27
Luminance Smoothing : 0
Color Noise Reduction : 25
Vignette Amount : 0
Shadow Tint : -3
Red Hue : 0
Red Saturation : 0
Green Hue : 0
Green Saturation : 0
Blue Hue : 0
Blue Saturation : +15
Vibrance : -8
Hue Adjustment Red : +3
Hue Adjustment Orange : +13
Hue Adjustment Yellow : 0
Hue Adjustment Green : 0
Hue Adjustment Aqua : 0
Hue Adjustment Blue : 0
Hue Adjustment Purple : 0
Hue Adjustment Magenta : 0
Saturation Adjustment Red : -16
Saturation Adjustment Orange : -21
Saturation Adjustment Yellow : -9
Saturation Adjustment Green : -28
Saturation Adjustment Aqua : 0
Saturation Adjustment Blue : 0
Saturation Adjustment Purple : -18
Saturation Adjustment Magenta : -18
Luminance Adjustment Red : +17
Luminance Adjustment Orange : +19
Luminance Adjustment Yellow : 0
Luminance Adjustment Green : 0
Luminance Adjustment Aqua : 0
Luminance Adjustment Blue : 0
Luminance Adjustment Purple : +4
Luminance Adjustment Magenta : +11
Split Toning Shadow Hue : 259
Split Toning Shadow Saturation : 5
Split Toning Highlight Hue : 52
Split Toning Highlight Saturation : 5
Split Toning Balance : +20
Parametric Shadows : 0
Parametric Darks : +2
Parametric Lights : 0
Parametric Highlights : -18
Parametric Shadow Split : 25
Parametric Midtone Split : 50
Parametric Highlight Split : 75
Sharpen Radius : +1.0
Sharpen Detail : 0
Sharpen Edge Masking : 0
Post Crop Vignette Amount : 0
Grain Amount : 19
Grain Size : 34
Grain Frequency : 34
Color Noise Reduction Detail : 50
Lens Profile Enable : 1
Lens Manual Distortion Amount : 0
Perspective Vertical : 0
Perspective Horizontal : 0
Perspective Rotate : 0.0
Perspective Scale : 100
Auto Lateral CA : 0
Exposure 2012 : -1.20
Contrast 2012 : +20
Highlights 2012 : -65
Shadows 2012 : +19
Whites 2012 : -14
Blacks 2012 : -11
Clarity 2012 : +11
Defringe Purple Amount : 0
Defringe Purple Hue Lo : 30
Defringe Purple Hue Hi : 70
Defringe Green Amount : 0
Defringe Green Hue Lo : 40
Defringe Green Hue Hi : 60
Convert To Grayscale : False
Tone Curve Name 2012 : Custom
Camera Profile : Adobe Standard
Lens Profile Setup : Custom
Lens Profile Name : Adobe (Zeiss Distagon T* 2/25 ZF.2)
Lens Profile Filename : NIKON CORPORATION (Zeiss Distagon T 2-25 ZF.2) - RAW.lcp
Lens Profile Distortion Scale : 100
Lens Profile Chromatic Aberration Scale : 100
Lens Profile Vignetting Scale : 100
Has Settings : True
Crop Top : 0.13017
Crop Left : 0
Crop Bottom : 0.931212
Crop Right : 1
Crop Angle : -1.25429
Crop Constrain To Warp : 0
Crop Width : 1200
Crop Height : 675
Crop Unit : pixels
Has Crop : True
Already Applied : True
Description : SONY DSC
Tone Curve PV2012 : 0, 27, 18, 34, 35, 44, 52, 55, 68, 67, 85, 81, 102, 98, 119, 116, 136, 135, 153, 154, 170, 172, 187, 189, 204, 205, 221, 219, 238, 232, 255, 243
Tone Curve PV2012 Red : 0, 0, 255, 255
Tone Curve PV2012 Green : 0, 0, 255, 255
Tone Curve PV2012 Blue : 0, 0, 255, 255
Image Width : 300
Image Height : 169
Bits Per Sample : 8
Color Components : 3
Aperture : 2.0
Image Size : 300x169
Megapixels : 0.051
Scale Factor To 35 mm Equivalent : 1.0
Shutter Speed : 1/125
Circle Of Confusion : 0.030 mm
Field Of View : 73.7 deg
Focal Length : 24.0 mm (35 mm equivalent: 24.0 mm)
Hyperfocal Distance : 9.59 m
Light Value : 8.0
Lens ID : Carl Zeiss Distagon T* 24mm F2 ZA SSM (SAL24F20Z)