Uber Exif Photo
Caption-Abstract : Korn Dog Family Reunion; Davis and Taryn
By-line : Darron Spohn
By-line Title : Photographer
Object Name : King and Princess
Keywords : kff, kerrville, folk festival, korndog, trailer trash, davis, korn dog king, taryn grimm
Copyright Notice : © 2013 Darron Spohn
Copyright Flag : True
Image Description : Korn Dog Family Reunion; Davis and Taryn
Make : SONY
Camera Model Name : DSC-RX100
Orientation : Horizontal (normal)
Software : Adobe Photoshop CS6 (Macintosh)
Modify Date : 2013:06:11 16:07:51
Artist : Darron Spohn
Copyright : © 2013 Darron Spohn
Exposure Time : 1/250
F Number : 8.0
Exposure Program : Aperture-priority AE
ISO : 200
Sensitivity Type : Recommended Exposure Index
Recommended Exposure Index : 200
Date/Time Original : 2013:06:07 16:27:17
Create Date : 2013:06:07 16:27:17
Shutter Speed Value : 1/250
Aperture Value : 8.0
Brightness Value : 9.446875
Exposure Compensation : -0.7
Max Aperture Value : 4.5
Metering Mode : Spot
Light Source : Unknown
Flash : Off, Did not fire
Focal Length : 32.2 mm
Color Space : sRGB
Exif Image Width : 960
Exif Image Height : 698
Scene Type : Directly photographed
Custom Rendered : Normal
Exposure Mode : Auto
White Balance : Auto
Digital Zoom Ratio : 1
Focal Length In 35mm Format : 87 mm
Scene Capture Type : Standard
Contrast : Normal
Saturation : Normal
Sharpness : Normal
Lens Info : 10.4-37.1mm f/1.8-4.9
Lens Model : 28-100mm F1.8-4.9
Profile Description : sRGB IEC61966-2.1
Creator Tool : DSC-RX100 v1.00
Rating : 0
Lens : 28-100mm F1.8-4.9
Date Created : 2012:05:05 03:28:21.041
Authors Position : Photographer
Color Mode : RGB
ICC Profile Name : sRGB IEC61966-2.1
Marked : True
Format : image/jpeg
Raw File Name : _DSC2914.ARW
Version : 8.1
Process Version : 6.7
Color Temperature : 4950
Tint : +3
Luminance Smoothing : 0
Color Noise Reduction : 25
Vignette Amount : 0
Shadow Tint : 0
Red Hue : 0
Red Saturation : 0
Green Hue : 0
Green Saturation : 0
Blue Hue : 0
Blue Saturation : 0
Vibrance : +25
Hue Adjustment Red : 0
Hue Adjustment Orange : 0
Hue Adjustment Yellow : 0
Hue Adjustment Green : 0
Hue Adjustment Aqua : 0
Hue Adjustment Blue : 0
Hue Adjustment Purple : 0
Hue Adjustment Magenta : 0
Saturation Adjustment Red : 0
Saturation Adjustment Orange : 0
Saturation Adjustment Yellow : 0
Saturation Adjustment Green : 0
Saturation Adjustment Aqua : 0
Saturation Adjustment Blue : 0
Saturation Adjustment Purple : 0
Saturation Adjustment Magenta : 0
Luminance Adjustment Red : 0
Luminance Adjustment Orange : 0
Luminance Adjustment Yellow : 0
Luminance Adjustment Green : 0
Luminance Adjustment Aqua : 0
Luminance Adjustment Blue : 0
Luminance Adjustment Purple : 0
Luminance Adjustment Magenta : 0
Split Toning Shadow Hue : 0
Split Toning Shadow Saturation : 0
Split Toning Highlight Hue : 0
Split Toning Highlight Saturation : 0
Split Toning Balance : 0
Parametric Shadows : 0
Parametric Darks : 0
Parametric Lights : 0
Parametric Highlights : 0
Parametric Shadow Split : 25
Parametric Midtone Split : 50
Parametric Highlight Split : 75
Sharpen Radius : +1.0
Sharpen Detail : 25
Sharpen Edge Masking : 0
Post Crop Vignette Amount : 0
Grain Amount : 0
Color Noise Reduction Detail : 50
Lens Profile Enable : 1
Lens Manual Distortion Amount : 0
Perspective Vertical : 0
Perspective Horizontal : 0
Perspective Rotate : 0.0
Perspective Scale : 100
Perspective Aspect : 0
Perspective Upright : Off
Auto Lateral CA : 1
Exposure 2012 : 0.00
Contrast 2012 : 0
Highlights 2012 : -15
Shadows 2012 : 0
Whites 2012 : 0
Blacks 2012 : 0
Clarity 2012 : +25
Defringe Purple Amount : 10
Defringe Purple Hue Lo : 30
Defringe Purple Hue Hi : 70
Defringe Green Amount : 10
Defringe Green Hue Lo : 40
Defringe Green Hue Hi : 60
Convert To Grayscale : False
Tone Curve Name 2012 : Linear
Camera Profile : Adobe Standard
Lens Profile Setup : LensDefaults
Has Settings : True
Has Crop : False
Already Applied : True
Rights : © 2013 Darron Spohn
Creator : Darron Spohn
Description : Korn Dog Family Reunion; Davis and Taryn
Title : King and Princess
Subject : kff, kerrville, folk festival, korndog, trailer trash, davis, korn dog king, taryn grimm
Tone Curve PV2012 : 0, 0, 255, 255
Tone Curve PV2012 Red : 0, 0, 255, 255
Tone Curve PV2012 Green : 0, 0, 255, 255
Tone Curve PV2012 Blue : 0, 0, 255, 255
Creator Address : 3304 Cantera Way
Creator City : Round Rock
Creator Region : Texas
Creator Postal Code : 78681
Creator Country : USA
Creator Work Telephone : 512.246.2107.512.560.0075
Creator Work Email : darron@lightcraftsman.com
Creator Work URL : http://www.lightcraftsman.com
Image Width : 300
Image Height : 218
Bits Per Sample : 8
Color Components : 3
Aperture : 8.0
Image Size : 300x218
Megapixels : 0.065
Scale Factor To 35 mm Equivalent : 2.7
Shutter Speed : 1/250
Circle Of Confusion : 0.011 mm
Field Of View : 23.4 deg
Focal Length : 32.2 mm (35 mm equivalent: 87.0 mm)
Hyperfocal Distance : 11.64 m
Light Value : 13.0
Lens ID : 28-100mm F1.8-4.9