Uber Exif Photo
By-line : Pandelakis
Copyright Notice : george pandelakis
Make : NIKON CORPORATION
Camera Model Name : NIKON D800
Orientation : Horizontal (normal)
Software : Adobe Photoshop CS6 (Windows)
Modify Date : 2013:09:23 22:28:35
Artist : Pandelakis
Copyright : george pandelakis
Exposure Time : 1/250
F Number : 4.0
Exposure Program : Manual
ISO : 100
Sensitivity Type : Recommended Exposure Index
Date/Time Original : 2013:01:12 14:07:24
Create Date : 2013:01:12 14:07:24
Shutter Speed Value : 1/250
Aperture Value : 4.0
Exposure Compensation : 0
Max Aperture Value : 1.0
Metering Mode : Center-weighted average
Light Source : Unknown
Flash : On, Return not detected
Focal Length : 85.0 mm
Color Space : Uncalibrated
Exif Image Width : 4509
Exif Image Height : 3816
Sensing Method : One-chip color area
Scene Type : Directly photographed
CFA Pattern : [Red,Green][Green,Blue]
Custom Rendered : Normal
Exposure Mode : Manual
White Balance : Auto
Digital Zoom Ratio : 1
Focal Length In 35mm Format : 85 mm
Scene Capture Type : Standard
Gain Control : None
Contrast : Normal
Saturation : Normal
Sharpness : Hard
Subject Distance Range : Unknown
Serial Number : 3024928
Lens Info : 0mm f/0
Lens Model : 0.0 mm f/0.0
Format : image/jpeg
Creator Tool : Ver.1.01
Rating : 0
Lens : 0.0 mm f/0.0
Image Number : 4844
Date Created : 2013:01:12 14:07:24.007-05:00
Color Mode : RGB
ICC Profile Name : Adobe RGB (1998)
Raw File Name : _DSC4823.NEF
Version : 8.1
Process Version : 6.7
Color Temperature : 5000
Tint : +3
Luminance Smoothing : 0
Color Noise Reduction : 25
Vignette Amount : 0
Shadow Tint : -18
Red Hue : -20
Red Saturation : +26
Green Hue : 0
Green Saturation : -24
Blue Hue : 0
Blue Saturation : 0
Vibrance : 0
Hue Adjustment Red : 0
Hue Adjustment Orange : 0
Hue Adjustment Yellow : 0
Hue Adjustment Green : 0
Hue Adjustment Aqua : 0
Hue Adjustment Blue : 0
Hue Adjustment Purple : 0
Hue Adjustment Magenta : 0
Saturation Adjustment Red : 0
Saturation Adjustment Orange : 0
Saturation Adjustment Yellow : 0
Saturation Adjustment Green : -47
Saturation Adjustment Aqua : 0
Saturation Adjustment Blue : 0
Saturation Adjustment Purple : 0
Saturation Adjustment Magenta : 0
Luminance Adjustment Red : 0
Luminance Adjustment Orange : 0
Luminance Adjustment Yellow : 0
Luminance Adjustment Green : 0
Luminance Adjustment Aqua : 0
Luminance Adjustment Blue : 0
Luminance Adjustment Purple : 0
Luminance Adjustment Magenta : 0
Split Toning Shadow Hue : 0
Split Toning Shadow Saturation : 0
Split Toning Highlight Hue : 0
Split Toning Highlight Saturation : 0
Split Toning Balance : 0
Parametric Shadows : 0
Parametric Darks : 0
Parametric Lights : 0
Parametric Highlights : 0
Parametric Shadow Split : 25
Parametric Midtone Split : 50
Parametric Highlight Split : 75
Sharpen Radius : +1.6
Sharpen Detail : 52
Sharpen Edge Masking : 0
Post Crop Vignette Amount : 0
Grain Amount : 0
Color Noise Reduction Detail : 50
Lens Profile Enable : 0
Lens Manual Distortion Amount : 0
Perspective Vertical : 0
Perspective Horizontal : 0
Perspective Rotate : 0.0
Perspective Scale : 100
Perspective Aspect : 0
Perspective Upright : Off
Auto Lateral CA : 0
Exposure 2012 : +0.10
Contrast 2012 : +8
Highlights 2012 : 0
Shadows 2012 : +73
Whites 2012 : -23
Blacks 2012 : 0
Clarity 2012 : +33
Defringe Purple Amount : 0
Defringe Purple Hue Lo : 30
Defringe Purple Hue Hi : 70
Defringe Green Amount : 0
Defringe Green Hue Lo : 40
Defringe Green Hue Hi : 60
Convert To Grayscale : False
Tone Curve Name 2012 : Linear
Camera Profile : Adobe Standard
Lens Profile Setup : LensDefaults
Has Settings : True
Crop Top : 0.003571
Crop Left : 0.009535
Crop Bottom : 0.780357
Crop Right : 0.622169
Crop Angle : 0
Crop Constrain To Warp : 1
Has Crop : True
Already Applied : True
Creator : Pandelakis
Rights : george pandelakis
Tone Curve PV2012 : 0, 0, 255, 255
Tone Curve PV2012 Red : 0, 0, 255, 255
Tone Curve PV2012 Green : 0, 0, 255, 255
Tone Curve PV2012 Blue : 0, 0, 255, 255
Image Width : 300
Image Height : 254
Bits Per Sample : 8
Color Components : 1
Aperture : 4.0
Image Size : 300x254
Megapixels : 0.076
Scale Factor To 35 mm Equivalent : 1.0
Shutter Speed : 1/250
Create Date : 2013:01:12 14:07:24.70
Date/Time Original : 2013:01:12 14:07:24.70
Modify Date : 2013:09:23 22:28:35.70
Circle Of Confusion : 0.030 mm
Field Of View : 23.9 deg
Focal Length : 85.0 mm (35 mm equivalent: 85.0 mm)
Hyperfocal Distance : 60.12 m
Light Value : 12.0
Lens ID : 0.0mm f/0.0