Uber Exif Photo
By-line : Photographer: David Aguado
Copyright Notice : Copyright: David Aguado
Make : Canon
Camera Model Name : Canon EOS 5D Mark II
Orientation : Horizontal (normal)
Software : Adobe Photoshop CS6 (Windows)
Modify Date : 2013:10:03 20:22:18
Artist : Photographer: David Aguado
Copyright : Copyright: David Aguado
Exposure Time : 1/4
F Number : 8.0
Exposure Program : Manual
ISO : 800
Date/Time Original : 2012:04:06 10:32:15
Create Date : 2012:04:06 10:32:15
Shutter Speed Value : 1/4
Aperture Value : 8.0
Exposure Compensation : 0
Max Aperture Value : 1.4
Metering Mode : Spot
Flash : Off, Did not fire
Focal Length : 85.0 mm
Color Space : sRGB
Exif Image Width : 768
Exif Image Height : 1024
Custom Rendered : Normal
Exposure Mode : Manual
White Balance : Auto
Scene Capture Type : Standard
Owner Name : David Aguado Martin - Forero
Serial Number : 2231320313
Lens Info : 85mm f/?
Lens Model : Zeiss Planar T* 1.4/85 ZE
Profile Description : sRGB IEC61966-2.1
Format : image/jpeg
Lens : Zeiss Planar T* 1.4/85 ZE
Image Number : 0
Flash Compensation : 0
Firmware : 2.0.8
Rating : 0
Creator Tool : Adobe Photoshop CS6 (Windows)
Date Created : 2012:04:06 10:32:15.055
Color Mode : RGB
ICC Profile Name : sRGB IEC61966-2.1
Raw File Name : _MG_9253.CR2
Version : 8.1
Process Version : 6.7
Color Temperature : 4850
Tint : +9
Saturation : -3
Sharpness : 43
Luminance Smoothing : 12
Color Noise Reduction : 25
Vignette Amount : 0
Shadow Tint : 0
Red Hue : 0
Red Saturation : 0
Green Hue : 0
Green Saturation : 0
Blue Hue : 0
Blue Saturation : 0
Vibrance : -3
Hue Adjustment Red : 0
Hue Adjustment Orange : 0
Hue Adjustment Yellow : 0
Hue Adjustment Green : 0
Hue Adjustment Aqua : 0
Hue Adjustment Blue : 0
Hue Adjustment Purple : 0
Hue Adjustment Magenta : 0
Saturation Adjustment Red : 0
Saturation Adjustment Orange : 0
Saturation Adjustment Yellow : 0
Saturation Adjustment Green : 0
Saturation Adjustment Aqua : 0
Saturation Adjustment Blue : 0
Saturation Adjustment Purple : 0
Saturation Adjustment Magenta : 0
Luminance Adjustment Red : 0
Luminance Adjustment Orange : -11
Luminance Adjustment Yellow : -4
Luminance Adjustment Green : 0
Luminance Adjustment Aqua : -19
Luminance Adjustment Blue : -4
Luminance Adjustment Purple : 0
Luminance Adjustment Magenta : 0
Split Toning Shadow Hue : 0
Split Toning Shadow Saturation : 0
Split Toning Highlight Hue : 0
Split Toning Highlight Saturation : 0
Split Toning Balance : 0
Parametric Shadows : 0
Parametric Darks : 0
Parametric Lights : 0
Parametric Highlights : 0
Parametric Shadow Split : 25
Parametric Midtone Split : 50
Parametric Highlight Split : 75
Sharpen Radius : +1.5
Sharpen Detail : 20
Sharpen Edge Masking : 65
Post Crop Vignette Amount : -12
Post Crop Vignette Midpoint : 50
Post Crop Vignette Feather : 50
Post Crop Vignette Roundness : 0
Post Crop Vignette Style : Highlight Priority
Post Crop Vignette Highlight Contrast : 0
Grain Amount : 0
Luminance Noise Reduction Detail : 50
Color Noise Reduction Detail : 50
Luminance Noise Reduction Contrast : 12
Lens Profile Enable : 1
Lens Manual Distortion Amount : 0
Perspective Vertical : 0
Perspective Horizontal : 0
Perspective Rotate : 0.0
Perspective Scale : 100
Perspective Aspect : 0
Perspective Upright : Off
Auto Lateral CA : 1
Exposure 2012 : -0.45
Contrast 2012 : +23
Highlights 2012 : -28
Shadows 2012 : -21
Whites 2012 : +20
Blacks 2012 : -5
Clarity 2012 : +17
Defringe Purple Amount : 0
Defringe Purple Hue Lo : 30
Defringe Purple Hue Hi : 70
Defringe Green Amount : 0
Defringe Green Hue Lo : 40
Defringe Green Hue Hi : 60
Convert To Grayscale : False
Tone Curve Name 2012 : Linear
Camera Profile : Adobe Standard
Lens Profile Setup : LensDefaults
Lens Profile Name : Adobe (Zeiss Planar T* 1,4/85 ZE)
Lens Profile Filename : Canon (Zeiss Planar T 85 f14 ZE).lcp
Lens Profile Distortion Scale : 100
Lens Profile Chromatic Aberration Scale : 100
Lens Profile Vignetting Scale : 100
Has Settings : True
Crop Top : 0
Crop Left : 0
Crop Bottom : 1
Crop Right : 0.888889
Crop Angle : 0
Crop Constrain To Warp : 1
Crop Width : 3
Crop Height : 4
Crop Unit : Unknown (3)
Has Crop : True
Already Applied : True
Creator : Photographer: David Aguado
Rights : Copyright: David Aguado
Tone Curve PV2012 : 0, 0, 255, 255
Tone Curve PV2012 Red : 0, 0, 255, 255
Tone Curve PV2012 Green : 0, 0, 255, 255
Tone Curve PV2012 Blue : 0, 0, 255, 255
Gradient Based Corr What : Correction
Gradient Based Corr Amount : 1.000000
Gradient Based Corr Active : true
Gradient Based Corr Exposure : 0.000000
Gradient Based Corr Saturation : 0.000000
Gradient Based Corr Contrast : 0.000000
Gradient Based Corr Clarity : 0.000000
Gradient Based Corr Sharpness : 0.000000
Gradient Based Corr Brightness : 0.000000
Gradient Based Corr Toning Hue : 0.000000
Gradient Based Corr Toning Saturation : 0.000000
Gradient Based Corr Exposure 2012 : -0.100000
Gradient Based Corr Contrast 2012 : 0.000000
Gradient Based Corr Highlights 2012 : -0.160000
Gradient Based Corr Shadows 2012 : 0.000000
Gradient Based Corr Clarity 2012 : -0.120000
Gradient Based Corr Luminance Noise : 0.000000
Gradient Based Corr Moire : 0.000000
Gradient Based Corr Defringe : 0.000000
Gradient Based Corr Temperature : 0.000000
Gradient Based Corr Tint : 0.000000
Gradient Based Corr Mask What : Mask/Gradient
Gradient Based Corr Mask Value : 1.000000
Gradient Based Corr Mask Zero X : 0.430715
Gradient Based Corr Mask Zero Y : 0.436708
Gradient Based Corr Mask Full X : 0.430700
Gradient Based Corr Mask Full Y : 0.998499
Image Width : 225
Image Height : 300
Bits Per Sample : 8
Color Components : 3
Aperture : 8.0
Image Size : 225x300
Megapixels : 0.068
Scale Factor To 35 mm Equivalent : 1.0
Shutter Speed : 1/4
Create Date : 2012:04:06 10:32:15.55
Date/Time Original : 2012:04:06 10:32:15.55
Modify Date : 2013:10:03 20:22:18.55
Circle Of Confusion : 0.031 mm
Field Of View : 24.5 deg
Focal Length : 85.0 mm (35 mm equivalent: 83.0 mm)
Hyperfocal Distance : 29.33 m
Light Value : 5.0
Lens ID : Unknown (33) 85mm