Uber Exif Photo
Caption-Abstract : KONICA MINOLTA DIGITAL CAMERA
Image Description : KONICA MINOLTA DIGITAL CAMERA
Make : KONICA MINOLTA
Camera Model Name : MAXXUM 7D
Software : Adobe Photoshop Lightroom 5.0 (Windows)
Modify Date : 2013:10:02 11:47:38
Exposure Time : 1/100
F Number : 8.0
Exposure Program : Manual
ISO : 100
Date/Time Original : 2013:10:01 15:06:52
Create Date : 2013:10:01 15:06:52
Shutter Speed Value : 1/100
Aperture Value : 8.0
Brightness Value : 2.25
Exposure Compensation : +0.7
Max Aperture Value : 2.8
Metering Mode : Multi-segment
Light Source : Flash
Flash : Off, Did not fire
Focal Length : 16.0 mm
Subject Area : 1504 1000 256 304
Color Space : sRGB
Custom Rendered : Normal
Exposure Mode : Manual
White Balance : Manual
Digital Zoom Ratio : 0
Focal Length In 35mm Format : 24 mm
Scene Capture Type : Standard
Gain Control : None
Contrast : Normal
Saturation : High
Sharpness : Hard
Profile Description : sRGB IEC61966-2.1
Format : image/jpeg
Creator Tool : Adobe Photoshop Lightroom 5.0 (Windows)
Flash Compensation : 0.5
Date Created : 2013:10:01 15:06:52
Version : 8.2
Process Version : 6.7
Auto White Version : 134348800
Color Temperature : 5691
Tint : +18
Luminance Smoothing : 0
Color Noise Reduction : 25
Vignette Amount : 0
Shadow Tint : 0
Red Hue : 0
Red Saturation : 0
Green Hue : 0
Green Saturation : 0
Blue Hue : 0
Blue Saturation : 0
Vibrance : 0
Hue Adjustment Red : 0
Hue Adjustment Orange : 0
Hue Adjustment Yellow : 0
Hue Adjustment Green : 0
Hue Adjustment Aqua : 0
Hue Adjustment Blue : 0
Hue Adjustment Purple : 0
Hue Adjustment Magenta : 0
Saturation Adjustment Red : 0
Saturation Adjustment Orange : 0
Saturation Adjustment Yellow : 0
Saturation Adjustment Green : 0
Saturation Adjustment Aqua : 0
Saturation Adjustment Blue : 0
Saturation Adjustment Purple : 0
Saturation Adjustment Magenta : 0
Luminance Adjustment Red : 0
Luminance Adjustment Orange : 0
Luminance Adjustment Yellow : 0
Luminance Adjustment Green : 0
Luminance Adjustment Aqua : 0
Luminance Adjustment Blue : 0
Luminance Adjustment Purple : 0
Luminance Adjustment Magenta : 0
Split Toning Shadow Hue : 0
Split Toning Shadow Saturation : 0
Split Toning Highlight Hue : 0
Split Toning Highlight Saturation : 0
Split Toning Balance : 0
Parametric Shadows : 0
Parametric Darks : 0
Parametric Lights : 0
Parametric Highlights : 0
Parametric Shadow Split : 25
Parametric Midtone Split : 50
Parametric Highlight Split : 75
Sharpen Radius : +1.0
Sharpen Detail : 25
Sharpen Edge Masking : 0
Post Crop Vignette Amount : 0
Grain Amount : 0
Color Noise Reduction Detail : 50
Color Noise Reduction Smoothness : 50
Lens Profile Enable : 0
Lens Manual Distortion Amount : 0
Perspective Vertical : 0
Perspective Horizontal : 0
Perspective Rotate : 0.0
Perspective Scale : 100
Perspective Aspect : 0
Perspective Upright : Off
Auto Lateral CA : 0
Exposure 2012 : 0.00
Contrast 2012 : 0
Highlights 2012 : -69
Shadows 2012 : -17
Whites 2012 : +19
Blacks 2012 : -17
Clarity 2012 : +95
Defringe Purple Amount : 0
Defringe Purple Hue Lo : 30
Defringe Purple Hue Hi : 70
Defringe Green Amount : 0
Defringe Green Hue Lo : 40
Defringe Green Hue Hi : 60
Convert To Grayscale : False
Tone Curve Name 2012 : Linear
Camera Profile : Adobe Standard
Lens Profile Setup : LensDefaults
Has Settings : True
Crop Top : 0
Crop Left : 0.005449
Crop Bottom : 1
Crop Right : 0.994551
Crop Angle : 0.290109
Crop Constrain To Warp : 0
Has Crop : True
Already Applied : True
Description : KONICA MINOLTA DIGITAL CAMERA
Tone Curve PV2012 : 0, 0, 255, 255
Tone Curve PV2012 Red : 0, 0, 255, 255
Tone Curve PV2012 Green : 0, 0, 255, 255
Tone Curve PV2012 Blue : 0, 0, 255, 255
Image Width : 300
Image Height : 200
Bits Per Sample : 8
Color Components : 3
Aperture : 8.0
Image Size : 300x200
Megapixels : 0.060
Scale Factor To 35 mm Equivalent : 1.5
Shutter Speed : 1/100
Circle Of Confusion : 0.020 mm
Field Of View : 73.7 deg
Focal Length : 16.0 mm (35 mm equivalent: 24.0 mm)
Hyperfocal Distance : 1.60 m
Light Value : 12.6