Uber Exif Photo
Object Name : Lunch
Keywords : 06_Lentes, 07_Máquinas, Carl Zeiss, Carl Zeiss 50mm f/1.4 ZF, ILFORD DELTA 100, Nikon FM2, Planar 50/1.4 ZF, Planar T* 1.4/50, ZF
By-line : Filipe J S Brandão
Copyright Notice : ©2013 Filipe Brandão
Copyright Flag : True
Make : FUJI PHOTO FILM CO., LTD.
Camera Model Name : SP-3000
Software : Adobe Photoshop Lightroom 4.1 (Windows)
Modify Date : 2013:10:29 13:15:42
Artist : Filipe J S Brandão
Copyright : ©2013 Filipe Brandão
Date/Time Original : 2013:03:20 13:00:00
Create Date : 2013:03:26 22:09:00
Scene Type : Directly photographed
Creator Tool : Adobe Photoshop Lightroom 4.1 (Windows)
Rating : 4
Format : image/jpeg
Marked : True
Date Created : 2013:03:20 13:00:00
Version : 7.1
Process Version : 6.7
White Balance : As Shot
Incremental Temperature : 0
Incremental Tint : 0
Sharpness : 52
Luminance Smoothing : 0
Color Noise Reduction : 0
Vignette Amount : 0
Shadow Tint : 0
Red Hue : 0
Red Saturation : 0
Green Hue : 0
Green Saturation : 0
Blue Hue : 0
Blue Saturation : 0
Gray Mixer Red : -10
Gray Mixer Orange : -19
Gray Mixer Yellow : -23
Gray Mixer Green : -27
Gray Mixer Aqua : -18
Gray Mixer Blue : +10
Gray Mixer Purple : +17
Gray Mixer Magenta : +5
Split Toning Shadow Hue : 0
Split Toning Shadow Saturation : 0
Split Toning Highlight Hue : 0
Split Toning Highlight Saturation : 0
Split Toning Balance : 0
Parametric Shadows : -11
Parametric Darks : +1
Parametric Lights : +11
Parametric Highlights : +18
Parametric Shadow Split : 25
Parametric Midtone Split : 50
Parametric Highlight Split : 75
Sharpen Radius : +0.5
Sharpen Detail : 25
Sharpen Edge Masking : 0
Post Crop Vignette Amount : 0
Grain Amount : 0
Lens Profile Enable : 0
Lens Manual Distortion Amount : 0
Perspective Vertical : 0
Perspective Horizontal : 0
Perspective Rotate : 0.0
Perspective Scale : 100
Auto Lateral CA : 0
Exposure 2012 : -1.00
Contrast 2012 : +15
Highlights 2012 : -2
Shadows 2012 : +43
Whites 2012 : +38
Blacks 2012 : -64
Clarity 2012 : +10
Convert To Grayscale : True
Tone Curve Name 2012 : Linear
Camera Profile : Embedded
Lens Profile Setup : LensDefaults
Has Settings : True
Has Crop : False
Already Applied : True
Creator : Filipe J S Brandão
Title : Lunch
Rights : ©2013 Filipe Brandão
Subject : 06_Lentes, 07_Máquinas, Carl Zeiss, Carl Zeiss 50mm f/1.4 ZF, ILFORD DELTA 100, Nikon FM2, Planar 50/1.4 ZF, Planar T* 1.4/50, ZF
Creator Country : Portugal
Creator City : Porto
Creator Work Email : filipejsbrandao@yahoo.co.uk
Creator Work URL : www.flickr.com/photos/mustha
Tone Curve PV2012 : 0, 0, 255, 255
Tone Curve PV2012 Red : 0, 0, 255, 255
Tone Curve PV2012 Green : 0, 0, 255, 255
Tone Curve PV2012 Blue : 0, 0, 255, 255
Image Width : 300
Image Height : 200
Bits Per Sample : 8
Color Components : 1
Image Size : 300x200
Megapixels : 0.060