Uber Exif Photo
By-line : Marino Mannarini
Copyright Notice : ©Marino Mannarini
Copyright Flag : True
URL : http://www.mydvaphoto.com
Make : SONY
Camera Model Name : DSC-RX100
Software : Adobe Photoshop Lightroom 4.4 (Macintosh)
Modify Date : 2013:08:31 19:21:07
Artist : Marino Mannarini
Copyright : ©Marino Mannarini
Exposure Time : 1/6
F Number : 4.9
Exposure Program : Program AE
ISO : 400
Sensitivity Type : Recommended Exposure Index
Recommended Exposure Index : 400
Date/Time Original : 2013:08:29 15:39:39
Create Date : 2013:08:29 15:39:39
Shutter Speed Value : 1/6
Aperture Value : 4.9
Brightness Value : 1.07578125
Exposure Compensation : -0.3
Max Aperture Value : 4.9
Metering Mode : Multi-segment
Light Source : Unknown
Flash : Off, Did not fire
Focal Length : 37.1 mm
Scene Type : Directly photographed
Custom Rendered : Normal
Exposure Mode : Auto
White Balance : Auto
Digital Zoom Ratio : 1.0625
Focal Length In 35mm Format : 100 mm
Scene Capture Type : Standard
Contrast : Normal
Saturation : Normal
Sharpness : Normal
Lens Info : 10.4-37.1mm f/1.8-4.9
Lens Model : 10.4-37.1 mm f/1.8-4.9
Profile Description : sRGB IEC61966-2.1
Creator Tool : Adobe Photoshop Lightroom 4.4 (Macintosh)
Lens : 10.4-37.1 mm f/1.8-4.9
Date Created : 2013:08:29 15:39:39
Format : image/jpeg
Marked : True
Web Statement : http://www.mydvaphoto.com
Version : 7.4
Process Version : 6.7
Incremental Temperature : 0
Incremental Tint : 0
Luminance Smoothing : 0
Color Noise Reduction : 0
Vignette Amount : -40
Vignette Midpoint : 50
Shadow Tint : 0
Red Hue : +20
Red Saturation : -5
Green Hue : -10
Green Saturation : 0
Blue Hue : -10
Blue Saturation : -15
Vibrance : 0
Hue Adjustment Red : +30
Hue Adjustment Orange : 0
Hue Adjustment Yellow : +12
Hue Adjustment Green : +25
Hue Adjustment Aqua : 0
Hue Adjustment Blue : -15
Hue Adjustment Purple : +25
Hue Adjustment Magenta : +25
Saturation Adjustment Red : -30
Saturation Adjustment Orange : -15
Saturation Adjustment Yellow : -25
Saturation Adjustment Green : -40
Saturation Adjustment Aqua : -25
Saturation Adjustment Blue : -25
Saturation Adjustment Purple : -80
Saturation Adjustment Magenta : -40
Luminance Adjustment Red : +16
Luminance Adjustment Orange : -5
Luminance Adjustment Yellow : 0
Luminance Adjustment Green : -20
Luminance Adjustment Aqua : -45
Luminance Adjustment Blue : -25
Luminance Adjustment Purple : +30
Luminance Adjustment Magenta : +10
Split Toning Shadow Hue : 0
Split Toning Shadow Saturation : 0
Split Toning Highlight Hue : 0
Split Toning Highlight Saturation : 0
Split Toning Balance : 0
Parametric Shadows : 0
Parametric Darks : 0
Parametric Lights : 0
Parametric Highlights : 0
Parametric Shadow Split : 14
Parametric Midtone Split : 60
Parametric Highlight Split : 75
Sharpen Radius : +1.0
Sharpen Detail : 25
Sharpen Edge Masking : 0
Post Crop Vignette Amount : 0
Grain Amount : 25
Grain Size : 50
Grain Frequency : 45
Lens Profile Enable : 0
Lens Manual Distortion Amount : 0
Perspective Vertical : 0
Perspective Horizontal : 0
Perspective Rotate : 0.0
Perspective Scale : 100
Auto Lateral CA : 0
Exposure 2012 : -0.35
Contrast 2012 : 0
Highlights 2012 : -60
Shadows 2012 : +15
Whites 2012 : -10
Blacks 2012 : -15
Clarity 2012 : +22
Defringe Purple Amount : 0
Defringe Purple Hue Lo : 30
Defringe Purple Hue Hi : 70
Defringe Green Amount : 0
Defringe Green Hue Lo : 40
Defringe Green Hue Hi : 60
Convert To Grayscale : False
Tone Curve Name 2012 : PX-680 Cold ++ Alt
Camera Profile : PX-680 N
Lens Profile Setup : LensDefaults
Has Settings : True
Has Crop : False
Already Applied : True
Creator : Marino Mannarini
Rights : ©Marino Mannarini
Usage Terms : all rights reserved Marino Mannarini
Creator Postal Code : 73100
Creator Work Telephone : +393338562061
Creator Region : LE
Creator Country : ITALY
Creator Work Email : marinomannarini@gmail.com
Creator City : LECCE
Creator Address : Via Salvatore Trinchese 52
Creator Work URL : www.mydvaphoto.com
Tone Curve PV2012 : 0, 66, 37, 69, 111, 103, 182, 167, 255, 255
Tone Curve PV2012 Red : 0, 0, 42, 27, 104, 119, 175, 191, 255, 232
Tone Curve PV2012 Green : 0, 10, 38, 38, 105, 120, 180, 196, 255, 239
Tone Curve PV2012 Blue : 0, 27, 34, 50, 102, 112, 210, 191, 255, 220
Image Width : 200
Image Height : 300
Bits Per Sample : 8
Color Components : 3
Aperture : 4.9
Image Size : 200x300
Megapixels : 0.060
Scale Factor To 35 mm Equivalent : 2.7
Shutter Speed : 1/6
Circle Of Confusion : 0.011 mm
Field Of View : 20.4 deg
Focal Length : 37.1 mm (35 mm equivalent: 100.0 mm)
Hyperfocal Distance : 25.20 m
Light Value : 5.2
Lens ID : 10.4-37.1mm f/1.8-4.9