Uber Exif Photo
Make : Canon
Camera Model Name : Canon EOS 5D Mark III
Orientation : Horizontal (normal)
Software : Adobe Photoshop CS6 (Windows)
Modify Date : 2013:11:11 16:33:48
Exposure Time : 1/8
F Number : 11.0
Exposure Program : Aperture-priority AE
ISO : 50
Sensitivity Type : Recommended Exposure Index
Recommended Exposure Index : 50
Date/Time Original : 2013:10:26 15:20:51
Create Date : 2013:10:26 15:20:51
Shutter Speed Value : 1/8
Aperture Value : 11.0
Exposure Compensation : +2/3
Max Aperture Value : 5.0
Metering Mode : Multi-segment
Flash : Off, Did not fire
Focal Length : 148.0 mm
Color Space : Uncalibrated
Exif Image Width : 3840
Exif Image Height : 5168
Custom Rendered : Normal
Exposure Mode : Auto
White Balance : Auto
Scene Capture Type : Standard
Serial Number : 028021000442
Lens Info : 70-300mm f/?
Lens Model : 70-300mm
Lens Serial Number : 0000000000
Profile Description : Adobe RGB (1998)
Rating : 0
Lens : 70-300mm
Image Number : 0
Approximate Focus Distance : 19
Flash Compensation : 0
Firmware : 1.2.1
Date Created : 2013:10:26 15:20:51
Color Mode : RGB
ICC Profile Name : Adobe RGB (1998)
Format : image/jpeg
Raw File Name : 182C7433.CR2
Version : 7.1
Process Version : 6.7
Color Temperature : 6450
Tint : +11
Saturation : +6
Sharpness : 25
Luminance Smoothing : 0
Color Noise Reduction : 25
Vignette Amount : 0
Shadow Tint : 0
Red Hue : 0
Red Saturation : 0
Green Hue : 0
Green Saturation : 0
Blue Hue : 0
Blue Saturation : 0
Vibrance : +5
Hue Adjustment Red : 0
Hue Adjustment Orange : 0
Hue Adjustment Yellow : 0
Hue Adjustment Green : 0
Hue Adjustment Aqua : 0
Hue Adjustment Blue : 0
Hue Adjustment Purple : 0
Hue Adjustment Magenta : 0
Saturation Adjustment Red : 0
Saturation Adjustment Orange : 0
Saturation Adjustment Yellow : 0
Saturation Adjustment Green : 0
Saturation Adjustment Aqua : 0
Saturation Adjustment Blue : 0
Saturation Adjustment Purple : 0
Saturation Adjustment Magenta : 0
Luminance Adjustment Red : 0
Luminance Adjustment Orange : 0
Luminance Adjustment Yellow : 0
Luminance Adjustment Green : 0
Luminance Adjustment Aqua : 0
Luminance Adjustment Blue : 0
Luminance Adjustment Purple : 0
Luminance Adjustment Magenta : 0
Split Toning Shadow Hue : 0
Split Toning Shadow Saturation : 0
Split Toning Highlight Hue : 0
Split Toning Highlight Saturation : 0
Split Toning Balance : 0
Parametric Shadows : 0
Parametric Darks : 0
Parametric Lights : 0
Parametric Highlights : 0
Parametric Shadow Split : 25
Parametric Midtone Split : 50
Parametric Highlight Split : 75
Sharpen Radius : +1.0
Sharpen Detail : 25
Sharpen Edge Masking : 0
Post Crop Vignette Amount : 0
Grain Amount : 0
Color Noise Reduction Detail : 50
Lens Profile Enable : 0
Lens Manual Distortion Amount : 0
Perspective Vertical : 0
Perspective Horizontal : 0
Perspective Rotate : 0.0
Perspective Scale : 100
Auto Lateral CA : 0
Exposure 2012 : -0.45
Contrast 2012 : +5
Highlights 2012 : -12
Shadows 2012 : +12
Whites 2012 : +34
Blacks 2012 : +23
Clarity 2012 : +15
Defringe Purple Amount : 0
Defringe Purple Hue Lo : 30
Defringe Purple Hue Hi : 70
Defringe Green Amount : 0
Defringe Green Hue Lo : 40
Defringe Green Hue Hi : 60
Convert To Grayscale : False
Tone Curve Name 2012 : Linear
Camera Profile : Adobe Standard
Lens Profile Setup : LensDefaults
Has Settings : True
Has Crop : False
Already Applied : True
Tone Curve PV2012 : 0, 0, 255, 255
Tone Curve PV2012 Red : 0, 0, 255, 255
Tone Curve PV2012 Green : 0, 0, 255, 255
Tone Curve PV2012 Blue : 0, 0, 255, 255
Image Width : 223
Image Height : 300
Bits Per Sample : 8
Color Components : 3
Aperture : 11.0
Image Size : 223x300
Megapixels : 0.067
Scale Factor To 35 mm Equivalent : 1.1
Shutter Speed : 1/8
Create Date : 2013:10:26 15:20:51.00
Date/Time Original : 2013:10:26 15:20:51.00
Modify Date : 2013:11:11 16:33:48.00
Circle Of Confusion : 0.028 mm
Depth Of Field : 10.81 m (15.02 - 25.83 m)
Field Of View : 12.9 deg
Focal Length : 148.0 mm (35 mm equivalent: 159.1 mm)
Hyperfocal Distance : 71.26 m
Light Value : 10.9
Lens ID : Canon 70-300mm