Uber Exif Photo
Object Name : Blue Mosque, Istanbul 2012
Keywords : Istanbul
By-line : Dave Curtis
Copyright Notice : © Dave Curtis
Copyright Flag : True
Make : Canon
Camera Model Name : Canon EOS 5D Mark III
Software : Adobe Photoshop Lightroom 5.0 (Windows)
Modify Date : 2013:11:23 12:36:13
Artist : Dave Curtis
Copyright : © Dave Curtis
Exposure Time : 2
F Number : 2.2
Exposure Program : Aperture-priority AE
ISO : 100
Sensitivity Type : Recommended Exposure Index
Recommended Exposure Index : 100
Date/Time Original : 2012:05:16 21:03:56
Create Date : 2012:05:16 21:03:56
Shutter Speed Value : 2
Aperture Value : 2.2
Exposure Compensation : 0
Max Aperture Value : 2.0
Metering Mode : Multi-segment
Flash : Off, Did not fire
Focal Length : 50.0 mm
Color Space : sRGB
Custom Rendered : Normal
Exposure Mode : Auto
White Balance : Auto
Scene Capture Type : Standard
Serial Number : 025021000030
Lens Info : 50mm f/?
Lens Model : Zeiss Makro-Planar T* 2/50 ZE
Lens Serial Number : 0000000000
Profile Description : sRGB IEC61966-2.1
Rating : 5
Creator Tool : Adobe Photoshop Lightroom 5.0 (Windows)
Lens : Zeiss Makro-Planar T* 2/50 ZE
Image Number : 0
Flash Compensation : 0
Firmware : 1.1.2
Date Created : 2012:05:16 21:03:56.00
Format : image/jpeg
Marked : True
Version : 8.2
Process Version : 6.7
Auto White Version : 134348800
Color Temperature : 3991
Tint : +17
Saturation : +2
Sharpness : 72
Luminance Smoothing : 0
Color Noise Reduction : 25
Vignette Amount : 0
Shadow Tint : 0
Red Hue : 0
Red Saturation : 0
Green Hue : 0
Green Saturation : 0
Blue Hue : 0
Blue Saturation : 0
Vibrance : +21
Hue Adjustment Red : 0
Hue Adjustment Orange : 0
Hue Adjustment Yellow : 0
Hue Adjustment Green : 0
Hue Adjustment Aqua : 0
Hue Adjustment Blue : 0
Hue Adjustment Purple : 0
Hue Adjustment Magenta : 0
Saturation Adjustment Red : 0
Saturation Adjustment Orange : 0
Saturation Adjustment Yellow : 0
Saturation Adjustment Green : 0
Saturation Adjustment Aqua : 0
Saturation Adjustment Blue : 0
Saturation Adjustment Purple : 0
Saturation Adjustment Magenta : 0
Luminance Adjustment Red : 0
Luminance Adjustment Orange : 0
Luminance Adjustment Yellow : 0
Luminance Adjustment Green : 0
Luminance Adjustment Aqua : 0
Luminance Adjustment Blue : 0
Luminance Adjustment Purple : 0
Luminance Adjustment Magenta : 0
Split Toning Shadow Hue : 0
Split Toning Shadow Saturation : 0
Split Toning Highlight Hue : 0
Split Toning Highlight Saturation : 0
Split Toning Balance : 0
Parametric Shadows : 0
Parametric Darks : 0
Parametric Lights : 0
Parametric Highlights : 0
Parametric Shadow Split : 25
Parametric Midtone Split : 50
Parametric Highlight Split : 75
Sharpen Radius : +0.5
Sharpen Detail : 25
Sharpen Edge Masking : 47
Post Crop Vignette Amount : -30
Post Crop Vignette Midpoint : 50
Post Crop Vignette Feather : 50
Post Crop Vignette Roundness : 0
Post Crop Vignette Style : Highlight Priority
Post Crop Vignette Highlight Contrast : 0
Grain Amount : 0
Color Noise Reduction Detail : 50
Color Noise Reduction Smoothness : 50
Lens Profile Enable : 0
Lens Manual Distortion Amount : 0
Perspective Vertical : 0
Perspective Horizontal : 0
Perspective Rotate : 0.0
Perspective Scale : 100
Perspective Aspect : 0
Perspective Upright : Off
Auto Lateral CA : 0
Exposure 2012 : -0.43
Contrast 2012 : +56
Highlights 2012 : -57
Shadows 2012 : +93
Whites 2012 : 0
Blacks 2012 : +31
Clarity 2012 : 0
Defringe Purple Amount : 0
Defringe Purple Hue Lo : 30
Defringe Purple Hue Hi : 70
Defringe Green Amount : 0
Defringe Green Hue Lo : 40
Defringe Green Hue Hi : 60
Convert To Grayscale : False
Tone Curve Name 2012 : Linear
Camera Profile : Adobe Standard
Lens Profile Setup : LensDefaults
Has Settings : True
Has Crop : False
Already Applied : True
Creator : Dave Curtis
Title : Blue Mosque, Istanbul 2012
Rights : © Dave Curtis
Subject : Istanbul
Creator Country : New Zealand
Creator City : Dunedin
Tone Curve PV2012 : 0, 0, 255, 255
Tone Curve PV2012 Red : 0, 0, 255, 255
Tone Curve PV2012 Green : 0, 0, 255, 255
Tone Curve PV2012 Blue : 0, 0, 255, 255
Paint Correction What : Correction
Paint Correction Amount : 1.000000
Paint Correction Active : true
Paint Correction Saturation : 0.000000
Paint Correction Sharpness : 0.000000
Paint Correction Brightness : 0.000000
Paint Correction Toning Hue : 207.500000
Paint Correction Toning Saturation : 0.000000
Paint Correction Exposure 2012 : -0.276000
Paint Correction Contrast 2012 : 0.000000
Paint Correction Highlights 2012 : 0.000000
Paint Correction Shadows 2012 : -0.004520
Paint Correction Clarity 2012 : 0.000000
Paint Correction Luminance Noise : 0.000000
Paint Correction Moire : 0.004570
Paint Correction Defringe : 0.031670
Paint Correction Temperature : 0.000000
Paint Correction Tint : 0.000000
Paint Correction Mask What : Mask/Paint
Paint Correction Mask Value : 1.000000
Paint Correction Mask Radius : 0.040218
Paint Correction Mask Flow : 0.300000
Paint Correction Mask Center Weight : 0.503082
Image Width : 300
Image Height : 200
Bits Per Sample : 8
Color Components : 3
Aperture : 2.2
Image Size : 300x200
Megapixels : 0.060
Scale Factor To 35 mm Equivalent : 19.2
Shutter Speed : 2
Create Date : 2012:05:16 21:03:56.00
Date/Time Original : 2012:05:16 21:03:56.00
Circle Of Confusion : 0.002 mm
Field Of View : 2.1 deg
Focal Length : 50.0 mm (35 mm equivalent: 960.0 mm)
Hyperfocal Distance : 726.15 m
Light Value : 1.3
Lens ID : Carl Zeiss Makro-Planar T* 50mm f/2 ZE