Uber Exif Photo
By-line : George Rosema
Copyright Notice : 519-845-1533
Make : NIKON CORPORATION
Camera Model Name : NIKON D800E
Orientation : Horizontal (normal)
Software : Adobe Photoshop CC (Windows)
Modify Date : 2013:11:21 12:49:27
Artist : George Rosema
Copyright : 519-845-1533
Exposure Time : 1/40
F Number : 1.4
Exposure Program : Manual
ISO : 500
Sensitivity Type : Recommended Exposure Index
Date/Time Original : 2013:11:20 17:28:53
Create Date : 2013:11:20 17:28:53
Shutter Speed Value : 1/40
Aperture Value : 1.4
Exposure Compensation : 0
Max Aperture Value : 1.4
Metering Mode : Multi-segment
Light Source : Unknown
Flash : Off, Did not fire
Focal Length : 55.0 mm
Color Space : sRGB
Exif Image Width : 1300
Exif Image Height : 868
Sensing Method : One-chip color area
Scene Type : Directly photographed
CFA Pattern : [Red,Green][Green,Blue]
Custom Rendered : Normal
Exposure Mode : Manual
White Balance : Auto
Digital Zoom Ratio : 1
Focal Length In 35mm Format : 55 mm
Scene Capture Type : Landscape
Gain Control : Low gain up
Contrast : Normal
Saturation : Normal
Sharpness : Normal
Subject Distance Range : Unknown
Serial Number : 5001881
Lens Info : 55mm f/1.4
Lens Model : 55.0 mm f/1.4
GPS Version ID : 2.3.0.0
GPS Latitude Ref : North
GPS Longitude Ref : West
GPS Altitude Ref : Above Sea Level
GPS Time Stamp : 22:28:53
GPS Satellites : 07
GPS Map Datum : WGS 84
GPS Date Stamp : 2013:11:20
Profile Description : sRGB IEC61966-2.1
Format : image/jpeg
Creator Tool : Ver.1.02
Rating : 0
Lens : 55.0 mm f/1.4
Image Number : 16105
Date Created : 2013:11:20 17:28:53
Color Mode : RGB
ICC Profile Name : sRGB IEC61966-2.1
Raw File Name : _GR16023.NEF
Version : 8.0
Process Version : 6.7
Color Temperature : 4050
Tint : +9
Luminance Smoothing : 0
Color Noise Reduction : 25
Vignette Amount : 0
Shadow Tint : 0
Red Hue : 0
Red Saturation : 0
Green Hue : 0
Green Saturation : 0
Blue Hue : 0
Blue Saturation : 0
Vibrance : 0
Hue Adjustment Red : 0
Hue Adjustment Orange : 0
Hue Adjustment Yellow : 0
Hue Adjustment Green : 0
Hue Adjustment Aqua : 0
Hue Adjustment Blue : 0
Hue Adjustment Purple : 0
Hue Adjustment Magenta : 0
Saturation Adjustment Red : 0
Saturation Adjustment Orange : 0
Saturation Adjustment Yellow : 0
Saturation Adjustment Green : 0
Saturation Adjustment Aqua : 0
Saturation Adjustment Blue : 0
Saturation Adjustment Purple : 0
Saturation Adjustment Magenta : 0
Luminance Adjustment Red : 0
Luminance Adjustment Orange : 0
Luminance Adjustment Yellow : 0
Luminance Adjustment Green : 0
Luminance Adjustment Aqua : 0
Luminance Adjustment Blue : 0
Luminance Adjustment Purple : 0
Luminance Adjustment Magenta : 0
Split Toning Shadow Hue : 0
Split Toning Shadow Saturation : 0
Split Toning Highlight Hue : 0
Split Toning Highlight Saturation : 0
Split Toning Balance : 0
Parametric Shadows : 0
Parametric Darks : 0
Parametric Lights : 0
Parametric Highlights : 0
Parametric Shadow Split : 25
Parametric Midtone Split : 50
Parametric Highlight Split : 75
Sharpen Radius : +1.0
Sharpen Detail : 25
Sharpen Edge Masking : 10
Post Crop Vignette Amount : 0
Grain Amount : 0
Color Noise Reduction Detail : 50
Lens Profile Enable : 1
Lens Manual Distortion Amount : 0
Perspective Vertical : 0
Perspective Horizontal : 0
Perspective Rotate : 0.0
Perspective Scale : 100
Perspective Aspect : 0
Perspective Upright : Auto
Auto Lateral CA : 1
Exposure 2012 : +0.65
Contrast 2012 : -5
Highlights 2012 : -23
Shadows 2012 : +23
Whites 2012 : +2
Blacks 2012 : +26
Clarity 2012 : 0
Defringe Purple Amount : 0
Defringe Purple Hue Lo : 30
Defringe Purple Hue Hi : 70
Defringe Green Amount : 0
Defringe Green Hue Lo : 40
Defringe Green Hue Hi : 60
Convert To Grayscale : False
Tone Curve Name 2012 : Linear
Camera Profile : Adobe Standard
Lens Profile Setup : Custom
Lens Profile Name : Adobe (Zeiss Distagon T* 1,4/35 ZF.2)
Lens Profile Filename : NIKON CORPORATION (Zeiss Distagon T 1.4-35 ZF.2) - RAW.lcp
Lens Profile Distortion Scale : 100
Lens Profile Chromatic Aberration Scale : 100
Lens Profile Vignetting Scale : 100
Has Settings : True
Has Crop : False
Already Applied : True
Creator : George Rosema
Rights : 519-845-1533
Tone Curve PV2012 : 0, 0, 255, 255
Tone Curve PV2012 Red : 0, 0, 255, 255
Tone Curve PV2012 Green : 0, 0, 255, 255
Tone Curve PV2012 Blue : 0, 0, 255, 255
Image Width : 300
Image Height : 200
Bits Per Sample : 8
Color Components : 3
Aperture : 1.4
Image Size : 300x200
Megapixels : 0.060
Scale Factor To 35 mm Equivalent : 1.0
Shutter Speed : 1/40
Create Date : 2013:11:20 17:28:53.00
Date/Time Original : 2013:11:20 17:28:53.00
Modify Date : 2013:11:21 12:49:27.00
GPS Altitude : 122 m Above Sea Level
GPS Date/Time : 2013:11:20 22:28:53Z
GPS Latitude : 43 deg 38' 31.68" N
GPS Longitude : 79 deg 23' 1.99" W
Circle Of Confusion : 0.030 mm
Field Of View : 36.2 deg
Focal Length : 55.0 mm (35 mm equivalent: 55.0 mm)
GPS Position : 43 deg 38' 31.68" N, 79 deg 23' 1.99" W
Hyperfocal Distance : 71.91 m
Light Value : 4.0
Lens ID : 55.0mm f/1.4