Uber Exif Photo
Make : Canon
Camera Model Name : Canon EOS 5D Mark III
Orientation : Horizontal (normal)
Software : Adobe Photoshop CS4 Macintosh
Modify Date : 2013:05:25 14:22:47
Exposure Time : 1/100
F Number : 2.0
Exposure Program : Aperture-priority AE
ISO : 100
Sensitivity Type : Recommended Exposure Index
Recommended Exposure Index : 100
Date/Time Original : 2013:05:04 14:28:41
Create Date : 2013:05:04 14:28:41
Shutter Speed Value : 1/100
Aperture Value : 2.0
Exposure Compensation : +1
Max Aperture Value : 1.8
Metering Mode : Multi-segment
Focal Length : 85.0 mm
Color Space : sRGB
Exif Image Width : 3026
Exif Image Height : 3847
Custom Rendered : Normal
Exposure Mode : Auto
White Balance : Auto
Scene Capture Type : Standard
Serial Number : 043023013861
Lens Info : 85mm f/?
Lens Model : EF85mm f/1.8 USM
Lens Serial Number : 0000000000
Profile Description : sRGB IEC61966-2.1
Rating : 0
Creator Tool : Adobe Photoshop CS6 (Macintosh)
Lens : EF85mm f/1.8 USM
Image Number : 0
Approximate Focus Distance : 2.14
Flash Compensation : 0
Firmware : 1.1.3
Date Created : 2013:05:04
Color Mode : RGB
ICC Profile Name : sRGB IEC61966-2.1
Format : image/jpeg
Raw File Name : 2I1B9674.CR2
Version : 7.4
Process Version : 6.7
Color Temperature : 4500
Tint : +14
Saturation : 0
Sharpness : 36
Luminance Smoothing : 0
Color Noise Reduction : 25
Vignette Amount : 0
Shadow Tint : 0
Red Hue : 0
Red Saturation : 0
Green Hue : 0
Green Saturation : 0
Blue Hue : 0
Blue Saturation : 0
Vibrance : 0
Hue Adjustment Red : 0
Hue Adjustment Orange : 0
Hue Adjustment Yellow : 0
Hue Adjustment Green : 0
Hue Adjustment Aqua : 0
Hue Adjustment Blue : 0
Hue Adjustment Purple : 0
Hue Adjustment Magenta : 0
Saturation Adjustment Red : 0
Saturation Adjustment Orange : 0
Saturation Adjustment Yellow : 0
Saturation Adjustment Green : 0
Saturation Adjustment Aqua : 0
Saturation Adjustment Blue : 0
Saturation Adjustment Purple : 0
Saturation Adjustment Magenta : 0
Luminance Adjustment Red : 0
Luminance Adjustment Orange : 0
Luminance Adjustment Yellow : 0
Luminance Adjustment Green : 0
Luminance Adjustment Aqua : 0
Luminance Adjustment Blue : 0
Luminance Adjustment Purple : 0
Luminance Adjustment Magenta : 0
Split Toning Shadow Hue : 0
Split Toning Shadow Saturation : 0
Split Toning Highlight Hue : 0
Split Toning Highlight Saturation : 0
Split Toning Balance : 0
Parametric Shadows : 0
Parametric Darks : 0
Parametric Lights : 0
Parametric Highlights : 0
Parametric Shadow Split : 25
Parametric Midtone Split : 50
Parametric Highlight Split : 75
Sharpen Radius : +1.2
Sharpen Detail : 25
Sharpen Edge Masking : 0
Post Crop Vignette Amount : 0
Grain Amount : 0
Color Noise Reduction Detail : 50
Lens Profile Enable : 0
Lens Manual Distortion Amount : 0
Perspective Vertical : 0
Perspective Horizontal : 0
Perspective Rotate : 0.0
Perspective Scale : 100
Auto Lateral CA : 0
Exposure 2012 : 0.00
Contrast 2012 : +28
Highlights 2012 : +18
Shadows 2012 : +5
Whites 2012 : 0
Blacks 2012 : -12
Clarity 2012 : +3
Defringe Purple Amount : 0
Defringe Purple Hue Lo : 30
Defringe Purple Hue Hi : 70
Defringe Green Amount : 0
Defringe Green Hue Lo : 40
Defringe Green Hue Hi : 60
Convert To Grayscale : False
Tone Curve Name 2012 : Linear
Camera Profile : Adobe Standard
Lens Profile Setup : LensDefaults
Has Settings : True
Has Crop : False
Already Applied : True
Date/Time Digitized : 2013:05:04 14:28:41+02:00
Tone Curve PV2012 : 0, 0, 255, 255
Tone Curve PV2012 Red : 0, 0, 255, 255
Tone Curve PV2012 Green : 0, 0, 255, 255
Tone Curve PV2012 Blue : 0, 0, 255, 255
Flash Fired : False
Flash Return : No return detection
Flash Mode : Off
Flash Function : False
Flash Red Eye Mode : False
Image Width : 236
Image Height : 300
Bits Per Sample : 8
Color Components : 3
Aperture : 2.0
Image Size : 236x300
Megapixels : 0.071
Scale Factor To 35 mm Equivalent : 1.4
Shutter Speed : 1/100
Create Date : 2013:05:04 14:28:41.08
Date/Time Original : 2013:05:04 14:28:41.08
Modify Date : 2013:05:25 14:22:47.08
Flash : Off, Did not fire
Circle Of Confusion : 0.021 mm
Depth Of Field : 0.05 m (2.11 - 2.17 m)
Field Of View : 17.0 deg
Focal Length : 85.0 mm (35 mm equivalent: 120.2 mm)
Hyperfocal Distance : 170.05 m
Light Value : 8.6
Lens ID : Canon EF 85mm f/1.8 USM