Uber Exif Photo
By-line : Jakob Zsigmond 1984
Copyright Notice : © Jakob Zsigmond (James Zigmond)_2010
Copyright Flag : True
Photometric Interpretation : RGB
Make : Canon
Camera Model Name : Canon EOS 5D Mark II
Orientation : Horizontal (normal)
Samples Per Pixel : 3
Planar Configuration : Chunky
Software : Adobe Photoshop CS4 Macintosh
Modify Date : 2013:12:13 04:02:35
Artist : Jakob Zsigmond 1984
Copyright : © Jakob Zsigmond (James Zigmond)_2010
Exposure Time : 1/15
F Number : 1.8
Exposure Program : Aperture-priority AE
ISO : 1600
Date/Time Original : 2009:11:30 17:50:02
Create Date : 2009:11:30 17:50:02
Shutter Speed Value : 1/15
Aperture Value : 1.8
Exposure Compensation : +1/3
Max Aperture Value : 1.8
Metering Mode : Center-weighted average
Focal Length : 50.0 mm
Color Space : sRGB
Exif Image Width : 1205
Exif Image Height : 803
Custom Rendered : Normal
Exposure Mode : Auto
White Balance : Auto
Scene Capture Type : Standard
Profile Description : sRGB IEC61966-2.1
Date/Time Digitized : 2009:11:30 17:50:02.65-08:00
Creator Tool : Adobe Photoshop Lightroom
Rating : 0
Format : image/jpeg
Serial Number : 520305381
Lens Info : 50mm f/?
Lens : EF50mm f/1.8 II
Image Number : 0
Flash Compensation : 0
Owner Name : Jakob Zsigmond 1984
Firmware : 1.1.0
Marked : True
Color Mode : RGB
ICC Profile Name : sRGB IEC61966-2.1
Raw File Name : The Muslim darker.tif
Version : 5.6
Incremental Temperature : 0
Incremental Tint : 0
Exposure : 0.00
Shadows : 0
Brightness : 0
Contrast : +20
Saturation : 0
Sharpness : 21
Luminance Smoothing : 0
Color Noise Reduction : 0
Chromatic Aberration R : 0
Chromatic Aberration B : 0
Vignette Amount : 0
Shadow Tint : 0
Red Hue : 0
Red Saturation : 0
Green Hue : 0
Green Saturation : 0
Blue Hue : 0
Blue Saturation : 0
Fill Light : 0
Vibrance : 0
Highlight Recovery : 0
Clarity : +23
Defringe : 0
Hue Adjustment Red : 0
Hue Adjustment Orange : 0
Hue Adjustment Yellow : 0
Hue Adjustment Green : 0
Hue Adjustment Aqua : 0
Hue Adjustment Blue : 0
Hue Adjustment Purple : 0
Hue Adjustment Magenta : 0
Saturation Adjustment Red : 0
Saturation Adjustment Orange : 0
Saturation Adjustment Yellow : 0
Saturation Adjustment Green : 0
Saturation Adjustment Aqua : 0
Saturation Adjustment Blue : 0
Saturation Adjustment Purple : 0
Saturation Adjustment Magenta : 0
Luminance Adjustment Red : 0
Luminance Adjustment Orange : 0
Luminance Adjustment Yellow : 0
Luminance Adjustment Green : 0
Luminance Adjustment Aqua : 0
Luminance Adjustment Blue : 0
Luminance Adjustment Purple : 0
Luminance Adjustment Magenta : 0
Split Toning Shadow Hue : 0
Split Toning Shadow Saturation : 0
Split Toning Highlight Hue : 0
Split Toning Highlight Saturation : 0
Split Toning Balance : 0
Parametric Shadows : -14
Parametric Darks : -5
Parametric Lights : +19
Parametric Highlights : +8
Parametric Shadow Split : 25
Parametric Midtone Split : 50
Parametric Highlight Split : 75
Sharpen Radius : +1.0
Sharpen Detail : 25
Sharpen Edge Masking : 0
Post Crop Vignette Amount : 0
Convert To Grayscale : False
Tone Curve Name : Custom
Camera Profile : Embedded
Has Settings : True
Has Crop : False
Already Applied : True
Flash Fired : False
Flash Return : No return detection
Flash Mode : Off
Flash Function : False
Flash Red Eye Mode : False
Creator : Jakob Zsigmond 1984
Rights : © Jakob Zsigmond (James Zigmond)_2010
Usage Terms : All Rights Reserved
Tone Curve : 0, 20, 70, 76, 255, 236
Image Width : 300
Image Height : 200
Bits Per Sample : 8
Color Components : 3
Aperture : 1.8
Image Size : 300x200
Megapixels : 0.060
Scale Factor To 35 mm Equivalent : 1.0
Shutter Speed : 1/15
Create Date : 2009:11:30 17:50:02.65
Date/Time Original : 2009:11:30 17:50:02.65
Flash : Off, Did not fire
Circle Of Confusion : 0.031 mm
Field Of View : 40.5 deg
Focal Length : 50.0 mm (35 mm equivalent: 48.8 mm)
Hyperfocal Distance : 45.11 m
Light Value : 1.6
Lens ID : EF50mm f/1.8 II