Uber Exif Photo
By-line : TCC
Copyright Notice : Copyright (C) IvanR
Copyright Flag : False
Photometric Interpretation : RGB
Make : Canon
Camera Model Name : Canon EOS 60D
Orientation : Horizontal (normal)
Samples Per Pixel : 3
Software : Adobe Photoshop CS6 (Windows)
Modify Date : 2013:12:22 23:58:36
Artist : TCC
Copyright : Copyright (C) IvanR
Exposure Time : 1/3200
F Number : 1.4
Exposure Program : Aperture-priority AE
ISO : 200
Sensitivity Type : Recommended Exposure Index
Recommended Exposure Index : 200
Date/Time Original : 2011:11:17 03:02:03
Create Date : 2011:11:17 03:02:03
Shutter Speed Value : 1/3200
Aperture Value : 1.4
Exposure Compensation : -1/3
Max Aperture Value : 1.4
Metering Mode : Spot
Flash : Off, Did not fire
Focal Length : 50.0 mm
Color Space : Uncalibrated
Exif Image Width : 1200
Exif Image Height : 800
Custom Rendered : Normal
Exposure Mode : Auto
White Balance : Auto
Scene Capture Type : Standard
Serial Number : 0780401362
Lens Info : 50mm f/?
Lens Model : 50-50mm
Lens Serial Number : 0000000000
Creator Tool : Adobe Photoshop Lightroom 4.3 (Windows)
Format : image/jpeg
Lens : 50-50mm
Image Number : 0
Flash Compensation : 0
Firmware : 1.0.9
Date Created : 2011:11:17 03:02:03.062
Color Mode : RGB
Version : 7.3
Process Version : 6.7
Color Temperature : 4857
Tint : -25
Saturation : 0
Sharpness : 34
Luminance Smoothing : 0
Color Noise Reduction : 8
Vignette Amount : 0
Shadow Tint : 0
Red Hue : 0
Red Saturation : +8
Green Hue : 0
Green Saturation : +8
Blue Hue : 0
Blue Saturation : +25
Vibrance : -36
Hue Adjustment Red : 0
Hue Adjustment Orange : 0
Hue Adjustment Yellow : 0
Hue Adjustment Green : 0
Hue Adjustment Aqua : 0
Hue Adjustment Blue : 0
Hue Adjustment Purple : 0
Hue Adjustment Magenta : 0
Saturation Adjustment Red : 0
Saturation Adjustment Orange : 0
Saturation Adjustment Yellow : 0
Saturation Adjustment Green : 0
Saturation Adjustment Aqua : 0
Saturation Adjustment Blue : 0
Saturation Adjustment Purple : 0
Saturation Adjustment Magenta : 0
Luminance Adjustment Red : 0
Luminance Adjustment Orange : 0
Luminance Adjustment Yellow : 0
Luminance Adjustment Green : 0
Luminance Adjustment Aqua : 0
Luminance Adjustment Blue : 0
Luminance Adjustment Purple : 0
Luminance Adjustment Magenta : 0
Split Toning Shadow Hue : 0
Split Toning Shadow Saturation : 0
Split Toning Highlight Hue : 0
Split Toning Highlight Saturation : 0
Split Toning Balance : 0
Parametric Shadows : 0
Parametric Darks : 0
Parametric Lights : 0
Parametric Highlights : 0
Parametric Shadow Split : 25
Parametric Midtone Split : 50
Parametric Highlight Split : 75
Sharpen Radius : +0.9
Sharpen Detail : 23
Sharpen Edge Masking : 9
Post Crop Vignette Amount : 0
Grain Amount : 30
Grain Size : 38
Grain Frequency : 50
Color Noise Reduction Detail : 50
Lens Profile Enable : 1
Lens Manual Distortion Amount : 0
Perspective Vertical : 0
Perspective Horizontal : 0
Perspective Rotate : 0.0
Perspective Scale : 100
Auto Lateral CA : 1
Exposure 2012 : -0.71
Contrast 2012 : -31
Highlights 2012 : +100
Shadows 2012 : +90
Whites 2012 : -40
Blacks 2012 : +2
Clarity 2012 : +7
Defringe Purple Amount : 2
Defringe Purple Hue Lo : 30
Defringe Purple Hue Hi : 70
Defringe Green Amount : 3
Defringe Green Hue Lo : 40
Defringe Green Hue Hi : 60
Convert To Grayscale : False
Tone Curve Name 2012 : Custom
Camera Profile : Camera Standard
Lens Profile Setup : Custom
Lens Profile Name : Adobe (Zeiss Makro-Planar T* 2/100 ZE)
Lens Profile Filename : Canon (Zeiss Makro-Planar T 100 f2 ZE).lcp
Lens Profile Distortion Scale : 100
Lens Profile Chromatic Aberration Scale : 100
Lens Profile Vignetting Scale : 100
Has Settings : True
Has Crop : False
Already Applied : True
Marked : False
Rights : Copyright (C) IvanR
Creator : TCC
Tone Curve PV2012 : 32, 83, 58, 130, 154, 208, 255, 255
Tone Curve PV2012 Red : 0, 0, 86, 49, 154, 115, 255, 255
Tone Curve PV2012 Green : 0, 0, 160, 103, 255, 255
Tone Curve PV2012 Blue : 0, 0, 66, 20, 123, 60, 161, 95, 214, 166, 255, 255
Location Created City : Sydney
Image Width : 300
Image Height : 200
Bits Per Sample : 8
Color Components : 3
Aperture : 1.4
Image Size : 300x200
Megapixels : 0.060
Scale Factor To 35 mm Equivalent : 1.6
Shutter Speed : 1/3200
Create Date : 2011:11:17 03:02:03.62
Date/Time Original : 2011:11:17 03:02:03.62
Circle Of Confusion : 0.019 mm
Field Of View : 25.8 deg
Focal Length : 50.0 mm (35 mm equivalent: 78.6 mm)
Hyperfocal Distance : 93.47 m
Light Value : 11.6
Lens ID : Canon EF 35-80mm f/4-5.6