Uber Exif Photo
By-line : .... ........
Copyright Notice : Canon LXD 2012. I.R. & A.R.
Make : Canon
Camera Model Name : Canon EOS 60D
Orientation : Horizontal (normal)
Software : Adobe Photoshop CS6 (Windows)
Modify Date : 2013:12:24 02:49:41
Artist : .... ........
Copyright : Canon LXD 2012. I.R. & A.R.
Exposure Time : 1/80
F Number : 2.2
Exposure Program : Aperture-priority AE
ISO : 320
Sensitivity Type : Recommended Exposure Index
Recommended Exposure Index : 320
Date/Time Original : 2012:08:10 23:32:47
Create Date : 2012:08:10 23:32:47
Shutter Speed Value : 1/80
Aperture Value : 2.2
Exposure Compensation : +5/3
Max Aperture Value : 2.0
Metering Mode : Spot
Flash : Off, Did not fire
Focal Length : 100.0 mm
Color Space : sRGB
Exif Image Width : 1200
Exif Image Height : 800
Custom Rendered : Normal
Exposure Mode : Auto
White Balance : Manual
Scene Capture Type : Standard
Serial Number : 0780401362
Lens Info : 100mm f/?
Lens Model : Zeiss Makro-Planar T* 2/100 ZE
Lens Serial Number : 0000000000
Profile Description : sRGB IEC61966-2.1
Rating : 0
Format : image/jpeg
Lens : Zeiss Makro-Planar T* 2/100 ZE
Image Number : 0
Flash Compensation : 0
Firmware : 1.0.9
Date Created : 2012:08:10 23:32:47.068
Color Mode : RGB
ICC Profile Name : sRGB IEC61966-2.1
Raw File Name : flowers uni.CR2
Version : 8.3
Process Version : 6.7
Auto White Version : 134348800
Color Temperature : 3250
Tint : -32
Saturation : 0
Sharpness : 25
Luminance Smoothing : 0
Color Noise Reduction : 25
Vignette Amount : 0
Shadow Tint : 0
Red Hue : 0
Red Saturation : 0
Green Hue : 0
Green Saturation : 0
Blue Hue : 0
Blue Saturation : 0
Vibrance : 0
Hue Adjustment Red : 0
Hue Adjustment Orange : 0
Hue Adjustment Yellow : 0
Hue Adjustment Green : 0
Hue Adjustment Aqua : 0
Hue Adjustment Blue : 0
Hue Adjustment Purple : 0
Hue Adjustment Magenta : 0
Saturation Adjustment Red : 0
Saturation Adjustment Orange : 0
Saturation Adjustment Yellow : 0
Saturation Adjustment Green : 0
Saturation Adjustment Aqua : 0
Saturation Adjustment Blue : 0
Saturation Adjustment Purple : 0
Saturation Adjustment Magenta : 0
Luminance Adjustment Red : 0
Luminance Adjustment Orange : 0
Luminance Adjustment Yellow : 0
Luminance Adjustment Green : 0
Luminance Adjustment Aqua : 0
Luminance Adjustment Blue : 0
Luminance Adjustment Purple : 0
Luminance Adjustment Magenta : 0
Split Toning Shadow Hue : 200
Split Toning Shadow Saturation : 8
Split Toning Highlight Hue : 96
Split Toning Highlight Saturation : 25
Split Toning Balance : -63
Parametric Shadows : 0
Parametric Darks : 0
Parametric Lights : 0
Parametric Highlights : 0
Parametric Shadow Split : 25
Parametric Midtone Split : 50
Parametric Highlight Split : 75
Sharpen Radius : +1.0
Sharpen Detail : 25
Sharpen Edge Masking : 0
Post Crop Vignette Amount : 0
Grain Amount : 0
Color Noise Reduction Detail : 50
Color Noise Reduction Smoothness : 50
Lens Profile Enable : 1
Lens Manual Distortion Amount : 0
Perspective Vertical : 0
Perspective Horizontal : 0
Perspective Rotate : 0.0
Perspective Scale : 100
Perspective Aspect : 0
Perspective Upright : Off
Auto Lateral CA : 1
Exposure 2012 : -0.20
Contrast 2012 : +3
Highlights 2012 : -17
Shadows 2012 : -15
Whites 2012 : +8
Blacks 2012 : 0
Clarity 2012 : 0
Defringe Purple Amount : 0
Defringe Purple Hue Lo : 30
Defringe Purple Hue Hi : 70
Defringe Green Amount : 0
Defringe Green Hue Lo : 40
Defringe Green Hue Hi : 60
Convert To Grayscale : False
Tone Curve Name 2012 : Linear
Camera Profile : Adobe Standard
Lens Profile Setup : Custom
Lens Profile Name : Adobe (Zeiss Makro-Planar T* 2/100 ZE)
Lens Profile Filename : Canon (Zeiss Makro-Planar T 100 f2 ZE).lcp
Lens Profile Distortion Scale : 27
Lens Profile Chromatic Aberration Scale : 100
Lens Profile Vignetting Scale : 109
Has Settings : True
Has Crop : False
Already Applied : True
Creator : .... ........
Rights : Canon LXD 2012. I.R. & A.R.
Tone Curve PV2012 : 0, 0, 255, 255
Tone Curve PV2012 Red : 0, 0, 255, 255
Tone Curve PV2012 Green : 0, 0, 255, 255
Tone Curve PV2012 Blue : 0, 0, 255, 255
Image Width : 300
Image Height : 200
Bits Per Sample : 8
Color Components : 3
Aperture : 2.2
Image Size : 300x200
Megapixels : 0.060
Scale Factor To 35 mm Equivalent : 1.6
Shutter Speed : 1/80
Create Date : 2012:08:10 23:32:47.68
Date/Time Original : 2012:08:10 23:32:47.68
Modify Date : 2013:12:24 02:49:41.68
Circle Of Confusion : 0.019 mm
Field Of View : 13.1 deg
Focal Length : 100.0 mm (35 mm equivalent: 157.3 mm)
Hyperfocal Distance : 237.93 m
Light Value : 6.9
Lens ID : Carl Zeiss Makro-Planar T* 100mm f/2 ZE