Uber Exif Photo
Keywords : 1829, 2013, 21, 21-09-2013, 40 ste VERJAARDAG, BELGIË, MARIENBOURG, REPLICA MARC SEGUIN LOCOMOTIEF 1829, SEPTEMBER, STOOMTREIN, STOOMTREIN DER DRIE VALLEIÊN, TREIGNES
By-line : dirk vernemmen
Province-State : Waals Gewest
Country-Primary Location Name : België
Make : Canon
Camera Model Name : Canon EOS-1Ds Mark III
Orientation : Horizontal (normal)
Software : Digital Photo Professional
Modify Date : 2013:09:21 13:46:37
Artist : dirk vernemmen
White Point : 0.313 0.329
Primary Chromaticities : 0.64 0.33 0.21 0.71 0.15 0.06
Exposure Time : 1/160
F Number : 5.6
Date/Time Original : 2013:09:21 13:46:37
Create Date : 2013:09:21 13:46:37
Shutter Speed Value : 1/160
Aperture Value : 5.6
Flash : Off, Did not fire
Macro Mode : Unknown (0)
Self Timer : Off
Quality : Fine
Canon Flash Mode : n/a
Continuous Drive : Unknown (-1)
Focus Mode : Single
Canon Image Size : n/a
Easy Mode : Unknown (-1)
Digital Zoom : None
Metering Mode : Unknown (-1)
Focus Range : Not Known
Canon Exposure Mode : Unknown (-1)
Lens Type : n/a
Max Focal Length : 0 mm
Min Focal Length : 0 mm
Focal Units : 32/mm
Flash Bits : (none)
Zoom Source Width : 0
Zoom Target Width : 0
Manual Flash Output : n/a
SRAW Quality : n/a
Auto ISO : 100
Base ISO : 0
Measured EV : 5.00
Target Aperture : 5.6
Target Exposure Time : 1/159
Exposure Compensation : 0
White Balance : Unknown (-1)
Slow Shutter : None
Shot Number In Continuous Burst : 0
Optical Zoom Code : n/a
Flash Guide Number : 0
Flash Exposure Compensation : 0
Auto Exposure Bracketing : Off
AEB Bracket Value : 0
Control Mode : n/a
Bulb Duration : 0
Camera Type : n/a
ND Filter : n/a
Canon Image Type :
Canon Firmware Version :
File Number : 0
User Comment :
Color Space : Uncalibrated
Exif Image Width : 2850
Exif Image Height : 1603
Related Image Width : 2850
Related Image Height : 1603
Custom Rendered : Normal
Exposure Mode : Manual
Scene Capture Type : Standard
Owner Name : dirk vernemmen
Serial Number : 615841
Lens Info : 15mm f/?
Lens Model : Zeiss Distagon T* 2.8/15 ZE
Gamma : 2.2
GPS Version ID : 2.2.0.0
GPS Latitude Ref : North
GPS Longitude Ref : East
Profile Description : Adobe RGB (1998)
Format : image/tiff
Image Number : 0
Flash Compensation : 0
Firmware : 1.2.0
Creator Tool : Adobe Photoshop Lightroom 5.3 (Windows)
Date Created : 2013:09:21 13:46:37.00
City : Viroinval
State : Waals Gewest
Country : België
Version : 8.3
Process Version : 6.7
Auto White Version : 134348800
Incremental Temperature : +18
Incremental Tint : 0
Saturation : +23
Sharpness : 25
Luminance Smoothing : 0
Color Noise Reduction : 25
Vignette Amount : 0
Shadow Tint : 0
Red Hue : 0
Red Saturation : 0
Green Hue : 0
Green Saturation : 0
Blue Hue : 0
Blue Saturation : 0
Vibrance : -100
Hue Adjustment Red : 0
Hue Adjustment Orange : 0
Hue Adjustment Yellow : 0
Hue Adjustment Green : 0
Hue Adjustment Aqua : 0
Hue Adjustment Blue : 0
Hue Adjustment Purple : 0
Hue Adjustment Magenta : 0
Saturation Adjustment Red : 0
Saturation Adjustment Orange : 0
Saturation Adjustment Yellow : 0
Saturation Adjustment Green : 0
Saturation Adjustment Aqua : 0
Saturation Adjustment Blue : 0
Saturation Adjustment Purple : 0
Saturation Adjustment Magenta : 0
Luminance Adjustment Red : 0
Luminance Adjustment Orange : 0
Luminance Adjustment Yellow : 0
Luminance Adjustment Green : 0
Luminance Adjustment Aqua : 0
Luminance Adjustment Blue : 0
Luminance Adjustment Purple : 0
Luminance Adjustment Magenta : 0
Split Toning Shadow Hue : 0
Split Toning Shadow Saturation : 0
Split Toning Highlight Hue : 0
Split Toning Highlight Saturation : 0
Split Toning Balance : 0
Parametric Shadows : 0
Parametric Darks : 0
Parametric Lights : 0
Parametric Highlights : 0
Parametric Shadow Split : 25
Parametric Midtone Split : 50
Parametric Highlight Split : 75
Sharpen Radius : +1.0
Sharpen Detail : 25
Sharpen Edge Masking : 0
Post Crop Vignette Amount : 0
Grain Amount : 0
Color Noise Reduction Detail : 50
Color Noise Reduction Smoothness : 50
Lens Profile Enable : 1
Lens Manual Distortion Amount : 0
Perspective Vertical : 0
Perspective Horizontal : 0
Perspective Rotate : 0.0
Perspective Scale : 100
Perspective Aspect : 0
Perspective Upright : Off
Auto Lateral CA : 0
Exposure 2012 : +0.73
Contrast 2012 : +32
Highlights 2012 : -81
Shadows 2012 : 0
Whites 2012 : -91
Blacks 2012 : 0
Clarity 2012 : +62
Defringe Purple Amount : 0
Defringe Purple Hue Lo : 30
Defringe Purple Hue Hi : 70
Defringe Green Amount : 0
Defringe Green Hue Lo : 40
Defringe Green Hue Hi : 60
Convert To Grayscale : False
Tone Curve Name 2012 : Linear
Camera Profile : Embedded
Lens Profile Setup : LensDefaults
Has Settings : True
Has Crop : False
Already Applied : True
Creator : dirk vernemmen
Subject : 1829, 2013, 21, 21-09-2013, 40 ste VERJAARDAG, BELGIË, MARIENBOURG, REPLICA MARC SEGUIN LOCOMOTIEF 1829, SEPTEMBER, STOOMTREIN, STOOMTREIN DER DRIE VALLEIÊN, TREIGNES
Tone Curve PV2012 : 0, 0, 255, 255
Tone Curve PV2012 Red : 0, 0, 255, 255
Tone Curve PV2012 Green : 0, 0, 255, 255
Tone Curve PV2012 Blue : 0, 0, 255, 255
Image Width : 300
Image Height : 169
Bits Per Sample : 8
Color Components : 3
Drive Mode : Continuous Shooting
ISO : 0
Lens : 0.0 mm
Shooting Mode : Unknown (-1)
Aperture : 5.6
Image Size : 300x169
Lens ID : n/a
Megapixels : 0.051
Shutter Speed : 1/160
GPS Latitude : 50 deg 5' 26.00" N
GPS Longitude : 4 deg 40' 57.00" E
GPS Position : 50 deg 5' 26.00" N, 4 deg 40' 57.00" E