Uber Exif Photo
Keywords : CVKC, aichi, alpha7, fashion, girl, glasses, japan, nagoya, nakatinha, store, sunglasses
By-line : Rodrigo Mitsuru Utimura Herweg
By-line Title : Photographer
Copyright Notice : ©Rodrigo Herweg - 2014
Copyright Flag : True
URL : http://www.planalto.gov.br/ccivil_03/leis/l9610.htmtermos
Make : SONY
Camera Model Name : ILCE-7
Software : Adobe Photoshop Lightroom 5.3 (Macintosh)
Modify Date : 2014:02:04 22:15:46
Artist : Rodrigo Mitsuru Utimura Herweg
Copyright : ©Rodrigo Herweg - 2014
Exposure Time : 1/250
F Number : 1.8
Exposure Program : Manual
ISO : 50
Sensitivity Type : Recommended Exposure Index
Recommended Exposure Index : 50
Date/Time Original : 2014:02:01 23:11:03
Create Date : 2014:02:01 23:11:03
Shutter Speed Value : 1/250
Aperture Value : 1.8
Brightness Value : 7.43515625
Exposure Compensation : 0
Max Aperture Value : 1.8
Metering Mode : Center-weighted average
Light Source : Unknown
Flash : Off, Did not fire
Focal Length : 55.0 mm
Color Space : sRGB
Scene Type : Directly photographed
Custom Rendered : Normal
Exposure Mode : Manual
White Balance : Auto
Digital Zoom Ratio : 1
Focal Length In 35mm Format : 55 mm
Scene Capture Type : Standard
Contrast : Normal
Saturation : Normal
Sharpness : Normal
Lens Info : 55mm f/1.8
Lens Model : FE 55mm F1.8 ZA
Profile Description : sRGB IEC61966-2.1
Creator Tool : Adobe Photoshop Lightroom 5.3 (Macintosh)
Rating : 5
Lens : FE 55mm F1.8 ZA
Lens Distort Info : 1067620009/1073741824 20138996/1073741824 -14199923/1073741824 -4179616/1073741824
Date Created : 2014:02:01 23:11:03
Authors Position : Photographer
Format : image/jpeg
Marked : True
Web Statement : http://www.planalto.gov.br/ccivil_03/leis/l9610.htmtermos
Version : 8.3
Process Version : 6.7
Auto White Version : 134348800
Color Temperature : 5450
Tint : +5
Luminance Smoothing : 0
Color Noise Reduction : 25
Vignette Amount : 0
Shadow Tint : 0
Red Hue : 0
Red Saturation : 0
Green Hue : 0
Green Saturation : 0
Blue Hue : 0
Blue Saturation : 0
Gray Mixer Red : +10
Gray Mixer Orange : +17
Gray Mixer Yellow : -23
Gray Mixer Green : -27
Gray Mixer Aqua : -18
Gray Mixer Blue : +9
Gray Mixer Purple : +15
Gray Mixer Magenta : +4
Split Toning Shadow Hue : 0
Split Toning Shadow Saturation : 0
Split Toning Highlight Hue : 0
Split Toning Highlight Saturation : 0
Split Toning Balance : 0
Parametric Shadows : 0
Parametric Darks : +6
Parametric Lights : +18
Parametric Highlights : 0
Parametric Shadow Split : 25
Parametric Midtone Split : 50
Parametric Highlight Split : 75
Sharpen Radius : +1.2
Sharpen Detail : 25
Sharpen Edge Masking : 0
Post Crop Vignette Amount : -37
Post Crop Vignette Midpoint : 11
Post Crop Vignette Feather : 100
Post Crop Vignette Roundness : 0
Post Crop Vignette Style : Highlight Priority
Post Crop Vignette Highlight Contrast : 0
Grain Amount : 0
Color Noise Reduction Detail : 50
Color Noise Reduction Smoothness : 50
Lens Profile Enable : 0
Lens Manual Distortion Amount : 0
Perspective Vertical : 0
Perspective Horizontal : 0
Perspective Rotate : 0.0
Perspective Scale : 100
Perspective Aspect : 0
Perspective Upright : Off
Auto Lateral CA : 0
Exposure 2012 : +0.15
Contrast 2012 : +50
Highlights 2012 : -98
Shadows 2012 : -17
Whites 2012 : +28
Blacks 2012 : +21
Clarity 2012 : 0
Convert To Grayscale : True
Tone Curve Name 2012 : Linear
Camera Profile : Sony ILCE-7 alpha A7 ISO 100
Lens Profile Setup : LensDefaults
Has Settings : True
Has Crop : False
Already Applied : True
Creator : Rodrigo Mitsuru Utimura Herweg
Rights : ©Rodrigo Herweg - 2014
Subject : CVKC, aichi, alpha7, fashion, girl, glasses, japan, nagoya, nakatinha, store, sunglasses
Creator Region : Aichi
Creator City : Toyota
Creator Country : Japão
Tone Curve PV2012 : 0, 0, 255, 255
Tone Curve PV2012 Red : 0, 0, 255, 255
Tone Curve PV2012 Green : 0, 0, 255, 255
Tone Curve PV2012 Blue : 0, 0, 255, 255
Circ Grad Based Corr What : Correction
Circ Grad Based Corr Amount : 1.000000
Circ Grad Based Corr Active : true
Circ Grad Based Corr Saturation : 0.000000
Circ Grad Based Corr Sharpness : 0.000000
Circ Grad Based Corr Brightness : 0.000000
Circ Grad Based Corr Toning Hue : 0.000000
Circ Grad Based Corr Toning Saturation : 0.000000
Circ Grad Based Corr Exposure 2012 : -0.220908
Circ Grad Based Corr Contrast 2012 : 0.100967
Circ Grad Based Corr Highlights 2012 : -1.000000
Circ Grad Based Corr Shadows 2012 : -0.023884
Circ Grad Based Corr Clarity 2012 : 0.000000
Circ Grad Based Corr Luminance Noise : 0.000000
Circ Grad Based Corr Moire : 0.000000
Circ Grad Based Corr Defringe : 0.000000
Circ Grad Based Corr Temperature : 0.000000
Circ Grad Based Corr Tint : 0.000000
Circ Grad Based Corr Mask What : Mask/CircularGradient
Circ Grad Based Corr Mask Value : 1.000000
Circ Grad Based Corr Mask Top : -0.148747
Circ Grad Based Corr Mask Left : 0.041954
Circ Grad Based Corr Mask Bottom : 0.806143
Circ Grad Based Corr Mask Right : 0.881933
Circ Grad Based Corr Mask Angle : 7.483320
Circ Grad Based Corr Mask Midpoint : +50
Circ Grad Based Corr Mask Roundness : 0
Circ Grad Based Corr Mask Feather : +74
Circ Grad Based Corr Mask Flipped : false
Circ Grad Based Corr Mask Version : +2
Image Width : 200
Image Height : 300
Bits Per Sample : 8
Color Components : 3
Aperture : 1.8
Image Size : 200x300
Megapixels : 0.060
Scale Factor To 35 mm Equivalent : 1.0
Shutter Speed : 1/250
Circle Of Confusion : 0.030 mm
Field Of View : 36.2 deg
Focal Length : 55.0 mm (35 mm equivalent: 55.0 mm)
Hyperfocal Distance : 55.93 m
Light Value : 10.7
Lens ID : FE 55mm F1.8 ZA