Uber Exif Photo
Keywords : 50mm, A7R, Hong Kong, Landscape, Sonnar, Sony, Sunset, Zeiss
Make : SONY
Camera Model Name : ILCE-7R
Software : Adobe Photoshop Lightroom 5.0 (Macintosh)
Modify Date : 2013:11:24 23:45:35
Exposure Time : 1/250
Exposure Program : Aperture-priority AE
ISO : 100
Sensitivity Type : Recommended Exposure Index
Recommended Exposure Index : 100
Date/Time Original : 2013:11:23 16:42:38
Create Date : 2013:11:23 16:42:38
Shutter Speed Value : 1/250
Brightness Value : 2.9234375
Exposure Compensation : 0
Max Aperture Value : 1.0
Metering Mode : Multi-segment
Light Source : Unknown
Flash : Off, Did not fire
Scene Type : Directly photographed
Custom Rendered : Normal
Exposure Mode : Auto
White Balance : Auto
Digital Zoom Ratio : 1
Scene Capture Type : Standard
Contrast : Normal
Saturation : Normal
Sharpness : Normal
Lens Model : ----
Profile Description : sRGB IEC61966-2.1
Creator Tool : Adobe Photoshop Lightroom 5.0 (Macintosh)
Lens : ----
Date Created : 2013:11:23 16:42:38
Format : image/jpeg
Version : 8.3
Process Version : 6.7
Auto White Version : 134348800
Color Temperature : 7100
Tint : +26
Luminance Smoothing : 0
Color Noise Reduction : 25
Vignette Amount : 0
Shadow Tint : 0
Red Hue : +10
Red Saturation : +30
Green Hue : +10
Green Saturation : -10
Blue Hue : -10
Blue Saturation : +30
Vibrance : 0
Hue Adjustment Red : +12
Hue Adjustment Orange : -20
Hue Adjustment Yellow : -20
Hue Adjustment Green : +20
Hue Adjustment Aqua : +10
Hue Adjustment Blue : +20
Hue Adjustment Purple : +30
Hue Adjustment Magenta : +15
Saturation Adjustment Red : -10
Saturation Adjustment Orange : 0
Saturation Adjustment Yellow : 0
Saturation Adjustment Green : -10
Saturation Adjustment Aqua : 0
Saturation Adjustment Blue : 0
Saturation Adjustment Purple : 0
Saturation Adjustment Magenta : -15
Luminance Adjustment Red : -20
Luminance Adjustment Orange : -15
Luminance Adjustment Yellow : 0
Luminance Adjustment Green : -25
Luminance Adjustment Aqua : -20
Luminance Adjustment Blue : -30
Luminance Adjustment Purple : -5
Luminance Adjustment Magenta : -15
Split Toning Shadow Hue : 0
Split Toning Shadow Saturation : 0
Split Toning Highlight Hue : 275
Split Toning Highlight Saturation : 0
Split Toning Balance : 0
Parametric Shadows : 0
Parametric Darks : 0
Parametric Lights : 0
Parametric Highlights : 0
Parametric Shadow Split : 14
Parametric Midtone Split : 60
Parametric Highlight Split : 75
Sharpen Radius : +1.1
Sharpen Detail : 10
Sharpen Edge Masking : 52
Post Crop Vignette Amount : 0
Grain Amount : 15
Grain Size : 35
Grain Frequency : 35
Color Noise Reduction Detail : 50
Color Noise Reduction Smoothness : 50
Lens Profile Enable : 1
Lens Manual Distortion Amount : 0
Perspective Vertical : 0
Perspective Horizontal : 0
Perspective Rotate : +0.5
Perspective Scale : 100
Perspective Aspect : 0
Perspective Upright : Auto
Auto Lateral CA : 1
Exposure 2012 : 0.00
Contrast 2012 : 0
Highlights 2012 : -35
Shadows 2012 : +15
Whites 2012 : 0
Blacks 2012 : +25
Clarity 2012 : 0
Defringe Purple Amount : 0
Defringe Purple Hue Lo : 30
Defringe Purple Hue Hi : 70
Defringe Green Amount : 0
Defringe Green Hue Lo : 40
Defringe Green Hue Hi : 60
Convert To Grayscale : False
Tone Curve Name 2012 : Custom
Camera Profile : Adobe Standard
Lens Profile Setup : LensDefaults
Has Settings : True
Crop Top : 0.006257
Crop Left : 0.006274
Crop Bottom : 0.993726
Crop Right : 0.993743
Crop Angle : 0
Crop Constrain To Warp : 1
Has Crop : True
Already Applied : True
Subject : 50mm, A7R, Hong Kong, Landscape, Sonnar, Sony, Sunset, Zeiss
Tone Curve PV2012 : 0, 0, 255, 255
Tone Curve PV2012 Red : 0, 0, 39, 5, 61, 22, 110, 123, 175, 207, 255, 255
Tone Curve PV2012 Green : 0, 0, 39, 5, 63, 22, 113, 123, 175, 205, 255, 255
Tone Curve PV2012 Blue : 0, 0, 39, 5, 62, 22, 114, 123, 178, 208, 255, 255
Image Width : 200
Image Height : 300
Bits Per Sample : 8
Color Components : 3
Image Size : 200x300
Megapixels : 0.060
Scale Factor To 35 mm Equivalent : 24.6
Shutter Speed : 1/250
Circle Of Confusion : 0.001 mm