Uber Exif Photo
Photometric Interpretation : RGB
Make : Canon
Camera Model Name : Canon EOS 5D Mark III
Orientation : Horizontal (normal)
Samples Per Pixel : 3
Software : Adobe Photoshop CS6 (Macintosh)
Modify Date : 2014:03:24 05:37:56
Exposure Time : 1/1000
F Number : 2.0
Exposure Program : Manual
ISO : 250
Sensitivity Type : Recommended Exposure Index
Recommended Exposure Index : 250
Date/Time Original : 2014:03:22 06:34:23
Create Date : 2014:03:22 06:34:23
Shutter Speed Value : 1/1000
Aperture Value : 2.0
Exposure Compensation : 0
Max Aperture Value : 2.0
Metering Mode : Multi-segment
Flash : Off, Did not fire
Focal Length : 135.0 mm
Color Space : Uncalibrated
Exif Image Width : 1200
Exif Image Height : 868
Custom Rendered : Normal
Exposure Mode : Manual
White Balance : Manual
Scene Capture Type : Standard
Serial Number : 128025002415
Lens Info : 135mm f/?
Lens Model : Zeiss Apo Sonnar T* 2/135 ZE
Lens Serial Number : 0000000000
Profile Description : Adobe RGB (1998)
Rating : 0
Creator Tool : Adobe Photoshop CS6 (Macintosh)
Lens : Zeiss Apo Sonnar T* 2/135 ZE
Image Number : 0
Flash Compensation : 0
Firmware : 1.1.3
Date Created : 2014:03:22 06:34:23.072
Color Mode : RGB
ICC Profile Name : Adobe RGB (1998)
Format : image/jpeg
Raw File Name : 6P5A4098.CR2
Version : 8.1
Process Version : 6.7
Color Temperature : 4800
Tint : +30
Saturation : 0
Sharpness : 25
Luminance Smoothing : 0
Color Noise Reduction : 25
Vignette Amount : 0
Shadow Tint : 0
Red Hue : 0
Red Saturation : 0
Green Hue : 0
Green Saturation : 0
Blue Hue : 0
Blue Saturation : 0
Vibrance : 0
Hue Adjustment Red : 0
Hue Adjustment Orange : 0
Hue Adjustment Yellow : 0
Hue Adjustment Green : 0
Hue Adjustment Aqua : 0
Hue Adjustment Blue : 0
Hue Adjustment Purple : 0
Hue Adjustment Magenta : 0
Saturation Adjustment Red : 0
Saturation Adjustment Orange : 0
Saturation Adjustment Yellow : 0
Saturation Adjustment Green : 0
Saturation Adjustment Aqua : 0
Saturation Adjustment Blue : 0
Saturation Adjustment Purple : 0
Saturation Adjustment Magenta : 0
Luminance Adjustment Red : 0
Luminance Adjustment Orange : 0
Luminance Adjustment Yellow : 0
Luminance Adjustment Green : 0
Luminance Adjustment Aqua : 0
Luminance Adjustment Blue : 0
Luminance Adjustment Purple : 0
Luminance Adjustment Magenta : 0
Split Toning Shadow Hue : 0
Split Toning Shadow Saturation : 0
Split Toning Highlight Hue : 0
Split Toning Highlight Saturation : 0
Split Toning Balance : 0
Parametric Shadows : 0
Parametric Darks : 0
Parametric Lights : 0
Parametric Highlights : 0
Parametric Shadow Split : 25
Parametric Midtone Split : 50
Parametric Highlight Split : 75
Sharpen Radius : +1.0
Sharpen Detail : 25
Sharpen Edge Masking : 0
Post Crop Vignette Amount : 0
Grain Amount : 0
Color Noise Reduction Detail : 50
Lens Profile Enable : 0
Lens Manual Distortion Amount : 0
Perspective Vertical : 0
Perspective Horizontal : 0
Perspective Rotate : 0.0
Perspective Scale : 100
Perspective Aspect : 0
Perspective Upright : Off
Auto Lateral CA : 0
Exposure 2012 : -0.55
Contrast 2012 : 0
Highlights 2012 : 0
Shadows 2012 : 0
Whites 2012 : 0
Blacks 2012 : -55
Clarity 2012 : 0
Defringe Purple Amount : 0
Defringe Purple Hue Lo : 30
Defringe Purple Hue Hi : 70
Defringe Green Amount : 0
Defringe Green Hue Lo : 40
Defringe Green Hue Hi : 60
Convert To Grayscale : False
Tone Curve Name 2012 : Linear
Camera Profile : Adobe Standard
Lens Profile Setup : LensDefaults
Has Settings : True
Crop Top : 0.017465
Crop Left : 0.1434
Crop Bottom : 0.958929
Crop Right : 0.988399
Crop Angle : 0.716065
Crop Constrain To Warp : 1
Has Crop : True
Already Applied : True
Tone Curve PV2012 : 0, 0, 255, 255
Tone Curve PV2012 Red : 0, 0, 255, 255
Tone Curve PV2012 Green : 0, 0, 255, 255
Tone Curve PV2012 Blue : 0, 0, 255, 255
Image Width : 300
Image Height : 217
Bits Per Sample : 8
Color Components : 3
Aperture : 2.0
Image Size : 300x217
Megapixels : 0.065
Scale Factor To 35 mm Equivalent : 4.7
Shutter Speed : 1/1000
Create Date : 2014:03:22 06:34:23.72
Date/Time Original : 2014:03:22 06:34:23.72
Modify Date : 2014:03:24 05:37:56.72
Circle Of Confusion : 0.006 mm
Field Of View : 3.3 deg
Focal Length : 135.0 mm (35 mm equivalent: 631.0 mm)
Hyperfocal Distance : 1417.62 m
Light Value : 10.6
Lens ID : Carl Zeiss Apo-Sonnar T* 135mm f/2 ZE