Uber Exif Photo
By-line : Photographer: Michael Wong
Make : Canon
Camera Model Name : Canon EOS 5D Mark II
Software : Adobe Photoshop Lightroom 4.4 (Windows)
Modify Date : 2014:03:14 11:09:36
Artist : Photographer: Michael Wong
Exposure Time : 1/250
F Number : 3.2
ISO : 800
Date/Time Original : 2014:03:07 17:27:08
Create Date : 2014:03:07 17:27:08
Shutter Speed Value : 1/250
Aperture Value : 3.2
Exposure Compensation : +1
Max Aperture Value : 3.2
Flash : Off, Did not fire
Focal Length : 7021.0 mm
Custom Rendered : Normal
Exposure Mode : Auto
White Balance : Manual
Scene Capture Type : Standard
Owner Name : Simon Wong
Serial Number : 1631003950
Lens Info : 7021mm f/?
Lens Model : 7021-7021mm
Profile Description : sRGB IEC61966-2.1
Format : image/jpeg
Creator Tool : Adobe Photoshop Lightroom 4.4 (Windows)
Lens : 7021-7021mm
Image Number : 0
Flash Compensation : 0
Firmware : 2.0.9
Date Created : 2014:03:07 17:27:08
Version : 7.4
Process Version : 6.7
Incremental Temperature : -7
Incremental Tint : -12
Saturation : 0
Sharpness : 0
Luminance Smoothing : 0
Color Noise Reduction : 0
Vignette Amount : 0
Shadow Tint : 0
Red Hue : 0
Red Saturation : 0
Green Hue : 0
Green Saturation : 0
Blue Hue : 0
Blue Saturation : 0
Vibrance : 0
Hue Adjustment Red : 0
Hue Adjustment Orange : 0
Hue Adjustment Yellow : 0
Hue Adjustment Green : 0
Hue Adjustment Aqua : 0
Hue Adjustment Blue : 0
Hue Adjustment Purple : 0
Hue Adjustment Magenta : 0
Saturation Adjustment Red : 0
Saturation Adjustment Orange : 0
Saturation Adjustment Yellow : 0
Saturation Adjustment Green : 0
Saturation Adjustment Aqua : 0
Saturation Adjustment Blue : 0
Saturation Adjustment Purple : 0
Saturation Adjustment Magenta : 0
Luminance Adjustment Red : 0
Luminance Adjustment Orange : 0
Luminance Adjustment Yellow : 0
Luminance Adjustment Green : 0
Luminance Adjustment Aqua : 0
Luminance Adjustment Blue : 0
Luminance Adjustment Purple : 0
Luminance Adjustment Magenta : 0
Split Toning Shadow Hue : 0
Split Toning Shadow Saturation : 0
Split Toning Highlight Hue : 0
Split Toning Highlight Saturation : 0
Split Toning Balance : 0
Parametric Shadows : 0
Parametric Darks : 0
Parametric Lights : 0
Parametric Highlights : 0
Parametric Shadow Split : 25
Parametric Midtone Split : 50
Parametric Highlight Split : 75
Sharpen Radius : +1.0
Sharpen Detail : 25
Sharpen Edge Masking : 0
Post Crop Vignette Amount : 0
Grain Amount : 0
Lens Profile Enable : 0
Lens Manual Distortion Amount : 0
Perspective Vertical : 0
Perspective Horizontal : 0
Perspective Rotate : +1.7
Perspective Scale : 100
Auto Lateral CA : 0
Exposure 2012 : +0.24
Contrast 2012 : 0
Highlights 2012 : +10
Shadows 2012 : +36
Whites 2012 : +50
Blacks 2012 : 0
Clarity 2012 : +43
Defringe Purple Amount : 0
Defringe Purple Hue Lo : 30
Defringe Purple Hue Hi : 70
Defringe Green Amount : 0
Defringe Green Hue Lo : 40
Defringe Green Hue Hi : 60
Convert To Grayscale : False
Tone Curve Name 2012 : Linear
Camera Profile : Embedded
Lens Profile Setup : LensDefaults
Has Settings : True
Crop Top : 0.142857
Crop Left : 0.042017
Crop Bottom : 0.756303
Crop Right : 0.886554
Crop Angle : 0
Crop Constrain To Warp : 0
Crop Width : 3162
Crop Height : 3445
Crop Unit : pixels
Has Crop : True
Already Applied : True
Creator : Photographer: Michael Wong
Tone Curve PV2012 : 0, 0, 255, 255
Tone Curve PV2012 Red : 0, 0, 255, 255
Tone Curve PV2012 Green : 0, 0, 255, 255
Tone Curve PV2012 Blue : 0, 0, 255, 255
Image Width : 275
Image Height : 300
Bits Per Sample : 8
Color Components : 3
Aperture : 3.2
Image Size : 275x300
Megapixels : 0.083
Scale Factor To 35 mm Equivalent : 16.2
Shutter Speed : 1/250
Circle Of Confusion : 0.002 mm
Field Of View : 0.0 deg
Focal Length : 7021.0 mm (35 mm equivalent: 114048.0 mm)
Hyperfocal Distance : 8328107.23 m
Light Value : 8.3
Lens ID : 7021-7021mm