Uber Exif Photo
Photometric Interpretation : RGB
Make : NIKON CORPORATION
Camera Model Name : NIKON D800
Orientation : Horizontal (normal)
Samples Per Pixel : 3
Software : Adobe Photoshop CS6 (Windows)
Modify Date : 2014:03:22 16:39:25
Exposure Time : 1.6
F Number : 11.0
Exposure Program : Manual
ISO : 100
Sensitivity Type : Recommended Exposure Index
Date/Time Original : 2013:02:18 07:41:25
Create Date : 2013:02:18 07:41:25
Shutter Speed Value : 1.6
Aperture Value : 11.0
Exposure Compensation : -2/3
Max Aperture Value : 2.0
Metering Mode : Multi-segment
Light Source : Unknown
Flash : Off, Did not fire
Focal Length : 100.0 mm
Color Space : sRGB
Exif Image Width : 1100
Exif Image Height : 733
Sensing Method : One-chip color area
Scene Type : Directly photographed
CFA Pattern : [Red,Green][Green,Blue]
Custom Rendered : Normal
Exposure Mode : Manual
White Balance : Auto
Digital Zoom Ratio : 1
Focal Length In 35mm Format : 100 mm
Scene Capture Type : Standard
Gain Control : None
Contrast : Normal
Saturation : Normal
Sharpness : Normal
Subject Distance Range : Unknown
Serial Number : 6038902
Lens Info : 100mm f/2
Lens Model : Zeiss Makro-Planar T* 2/100 ZF.2
Profile Description : sRGB IEC61966-2.1
Rating : 4
Label :
Creator Tool : Adobe Photoshop CS6 (Windows)
Lens : Zeiss Makro-Planar T* 2/100 ZF.2
Image Number : 7213
Date Created : 2013:02:18 07:41:25.004
Color Mode : RGB
ICC Profile Name : sRGB IEC61966-2.1
Format : image/jpeg
Raw File Name : DSC_6085.NEF
Version : 7.2
Process Version : 6.7
Color Temperature : 9500
Tint : -4
Luminance Smoothing : 0
Color Noise Reduction : 25
Vignette Amount : 0
Shadow Tint : 0
Red Hue : 0
Red Saturation : 0
Green Hue : 0
Green Saturation : 0
Blue Hue : 0
Blue Saturation : 0
Vibrance : +15
Hue Adjustment Red : 0
Hue Adjustment Orange : 0
Hue Adjustment Yellow : 0
Hue Adjustment Green : 0
Hue Adjustment Aqua : 0
Hue Adjustment Blue : 0
Hue Adjustment Purple : 0
Hue Adjustment Magenta : 0
Saturation Adjustment Red : 0
Saturation Adjustment Orange : +6
Saturation Adjustment Yellow : +65
Saturation Adjustment Green : 0
Saturation Adjustment Aqua : 0
Saturation Adjustment Blue : 0
Saturation Adjustment Purple : 0
Saturation Adjustment Magenta : 0
Luminance Adjustment Red : 0
Luminance Adjustment Orange : 0
Luminance Adjustment Yellow : 0
Luminance Adjustment Green : 0
Luminance Adjustment Aqua : 0
Luminance Adjustment Blue : 0
Luminance Adjustment Purple : 0
Luminance Adjustment Magenta : 0
Split Toning Shadow Hue : 0
Split Toning Shadow Saturation : 0
Split Toning Highlight Hue : 0
Split Toning Highlight Saturation : 0
Split Toning Balance : 0
Parametric Shadows : 0
Parametric Darks : -2
Parametric Lights : +6
Parametric Highlights : 0
Parametric Shadow Split : 25
Parametric Midtone Split : 50
Parametric Highlight Split : 75
Sharpen Radius : +0.6
Sharpen Detail : 60
Sharpen Edge Masking : 20
Post Crop Vignette Amount : -7
Post Crop Vignette Midpoint : 50
Post Crop Vignette Feather : 50
Post Crop Vignette Roundness : 0
Post Crop Vignette Style : Highlight Priority
Post Crop Vignette Highlight Contrast : 0
Grain Amount : 0
Color Noise Reduction Detail : 50
Lens Profile Enable : 1
Lens Manual Distortion Amount : 0
Perspective Vertical : 0
Perspective Horizontal : 0
Perspective Rotate : 0.0
Perspective Scale : 100
Auto Lateral CA : 0
Exposure 2012 : +0.48
Contrast 2012 : +10
Highlights 2012 : +14
Shadows 2012 : 0
Whites 2012 : +31
Blacks 2012 : 0
Clarity 2012 : 0
Defringe Purple Amount : 0
Defringe Purple Hue Lo : 30
Defringe Purple Hue Hi : 70
Defringe Green Amount : 0
Defringe Green Hue Lo : 40
Defringe Green Hue Hi : 60
Convert To Grayscale : False
Tone Curve Name 2012 : Linear
Camera Profile : Camera Standard
Lens Profile Setup : LensDefaults
Lens Profile Name : Adobe (Zeiss Makro-Planar T* 2/100 ZF.2)
Lens Profile Filename : NIKON CORPORATION (Zeiss Makro-Planar T 2-100 ZF.2).lcp
Lens Profile Distortion Scale : 100
Lens Profile Chromatic Aberration Scale : 100
Lens Profile Vignetting Scale : 100
Has Settings : True
Crop Top : 0.001518
Crop Left : 0.02082
Crop Bottom : 0.979635
Crop Right : 1
Crop Angle : 0
Crop Constrain To Warp : 0
Has Crop : True
Already Applied : True
Tone Curve PV2012 : 0, 0, 255, 255
Tone Curve PV2012 Red : 0, 0, 255, 255
Tone Curve PV2012 Green : 0, 0, 255, 255
Tone Curve PV2012 Blue : 0, 0, 255, 255
Image Width : 300
Image Height : 200
Bits Per Sample : 8
Color Components : 3
Aperture : 11.0
Image Size : 300x200
Megapixels : 0.060
Scale Factor To 35 mm Equivalent : 1.0
Shutter Speed : 1.6
Create Date : 2013:02:18 07:41:25.40
Date/Time Original : 2013:02:18 07:41:25.40
Modify Date : 2014:03:22 16:39:25.40
Circle Of Confusion : 0.030 mm
Field Of View : 20.4 deg
Focal Length : 100.0 mm (35 mm equivalent: 100.0 mm)
Hyperfocal Distance : 30.26 m
Light Value : 6.2