Uber Exif Photo
Copyright Notice : Jonathan Paul Jones
Copyright Flag : True
URL : jpjones56@btinternet.com
Make : Leica Camera AG
Camera Model Name : M Monochrom
Orientation : Horizontal (normal)
Software : Adobe Photoshop Elements 10.0 Windows
Modify Date : 2014:04:26 22:10:58
Copyright : Jonathan Paul Jones
Exposure Time : 1/125
F Number : 1.4
Exposure Program : Aperture-priority AE
ISO : 320
Date/Time Original : 2014:04:26 01:33:08
Create Date : 2014:04:26 01:33:08
Shutter Speed Value : 1/125
Aperture Value : 1.4
Exposure Compensation : 0
Max Aperture Value : 1.0
Metering Mode : Center-weighted average
Light Source : Unknown
Color Space : sRGB
Exif Image Width : 1200
Exif Image Height : 780
Scene Type : Directly photographed
Exposure Mode : Manual
Digital Zoom Ratio : 0
Scene Capture Type : Standard
Serial Number : 4348315
Creator Tool : Adobe Photoshop Lightroom 5.4 (Windows)
Date Created : 2014:04:26
Color Mode : RGB
ICC Profile Name : sRGB IEC61966-2.1
Format : image/jpeg
Web Statement : jpjones56@btinternet.com
Marked : True
Version : 8.4
Process Version : 6.7
Sharpness : 34
Luminance Smoothing : 0
Vignette Amount : -48
Vignette Midpoint : 50
Split Toning Shadow Hue : 0
Split Toning Shadow Saturation : 0
Split Toning Highlight Hue : 0
Split Toning Highlight Saturation : 0
Split Toning Balance : 0
Parametric Shadows : 0
Parametric Darks : 0
Parametric Lights : 0
Parametric Highlights : 0
Parametric Shadow Split : 25
Parametric Midtone Split : 50
Parametric Highlight Split : 75
Sharpen Radius : +1.0
Sharpen Detail : 25
Sharpen Edge Masking : 0
Post Crop Vignette Amount : -57
Post Crop Vignette Midpoint : 50
Post Crop Vignette Feather : 50
Post Crop Vignette Roundness : 0
Post Crop Vignette Style : Highlight Priority
Post Crop Vignette Highlight Contrast : 0
Grain Amount : 0
Lens Profile Enable : 0
Lens Manual Distortion Amount : 0
Perspective Vertical : 0
Perspective Horizontal : 0
Perspective Rotate : 0.0
Perspective Scale : 100
Perspective Aspect : 0
Perspective Upright : Off
Exposure 2012 : -0.60
Contrast 2012 : +40
Highlights 2012 : -36
Shadows 2012 : 0
Whites 2012 : -38
Blacks 2012 : -36
Clarity 2012 : +19
Tone Curve Name : Linear
Tone Curve Name 2012 : Linear
Lens Profile Setup : LensDefaults
Has Settings : True
Crop Top : 0.035382
Crop Left : 0.011153
Crop Bottom : 1
Crop Right : 0.998761
Crop Angle : 0
Crop Constrain To Warp : 0
Has Crop : True
Already Applied : True
Rights : Jonathan Paul Jones
Usage Terms : All Rights Reserved
Tone Curve : 0, 0, 255, 255
Tone Curve Red : 0, 0, 255, 255
Tone Curve Green : 0, 0, 255, 255
Tone Curve Blue : 0, 0, 255, 255
Tone Curve PV2012 : 0, 0, 255, 255
Tone Curve PV2012 Red : 0, 0, 255, 255
Tone Curve PV2012 Green : 0, 0, 255, 255
Tone Curve PV2012 Blue : 0, 0, 255, 255
Paint Correction What : Correction
Paint Correction Amount : 1.000000
Paint Correction Active : true
Paint Correction Saturation : 0.000000
Paint Correction Sharpness : 0.000000
Paint Correction Brightness : 0.000000
Paint Correction Toning Hue : 0.000000
Paint Correction Toning Saturation : 0.000000
Paint Correction Exposure 2012 : -1.000000
Paint Correction Contrast 2012 : 0.142860
Paint Correction Highlights 2012 : -0.119050
Paint Correction Shadows 2012 : 0.000000
Paint Correction Clarity 2012 : 0.214290
Paint Correction Luminance Noise : 0.000000
Paint Correction Moire : 0.000000
Paint Correction Defringe : 0.000000
Paint Correction Temperature : 0.000000
Paint Correction Tint : 0.000000
Paint Correction Mask What : Mask/Paint
Paint Correction Mask Value : 1.000000
Paint Correction Mask Radius : 0.233298
Paint Correction Mask Flow : 1.000000
Paint Correction Mask Center Weight : 0.051007
Gradient Based Corr What : Correction
Gradient Based Corr Amount : 1.000000
Gradient Based Corr Active : true
Gradient Based Corr Saturation : 0.000000
Gradient Based Corr Sharpness : 0.000000
Gradient Based Corr Brightness : 0.000000
Gradient Based Corr Toning Hue : 0.000000
Gradient Based Corr Toning Saturation : 0.000000
Gradient Based Corr Exposure 2012 : -1.000000
Gradient Based Corr Contrast 2012 : 0.142860
Gradient Based Corr Highlights 2012 : -0.119050
Gradient Based Corr Shadows 2012 : 0.023810
Gradient Based Corr Clarity 2012 : 0.214290
Gradient Based Corr Luminance Noise : 0.000000
Gradient Based Corr Moire : 0.000000
Gradient Based Corr Defringe : 0.000000
Gradient Based Corr Temperature : 0.000000
Gradient Based Corr Tint : 0.000000
Gradient Based Corr Mask What : Mask/Gradient
Gradient Based Corr Mask Value : 1.000000
Gradient Based Corr Mask Zero X : 0.224466
Gradient Based Corr Mask Zero Y : 0.360995
Gradient Based Corr Mask Full X : 0.218885
Gradient Based Corr Mask Full Y : -0.008141
Flash Fired : False
Flash Return : No return detection
Flash Mode : Unknown
Flash Function : False
Flash Red Eye Mode : False
Image Width : 300
Image Height : 195
Bits Per Sample : 8
Color Components : 1
Aperture : 1.4
Image Size : 300x195
Megapixels : 0.059
Scale Factor To 35 mm Equivalent : 4.4
Shutter Speed : 1/125
Flash : No Flash
Circle Of Confusion : 0.007 mm
Light Value : 6.3