Uber Exif Photo
By-line : MIKE HOWLETT
Photometric Interpretation : RGB
Make : Canon
Camera Model Name : Canon EOS 5D Mark III
Orientation : Horizontal (normal)
Samples Per Pixel : 3
Software : Adobe Photoshop Elements 11.0 Windows
Modify Date : 2014:08:27 16:59:19
Artist : MIKE HOWLETT
Exposure Time : 1/60
F Number : 11.0
Exposure Program : Aperture-priority AE
ISO : 640
Sensitivity Type : Recommended Exposure Index
Recommended Exposure Index : 640
Date/Time Original : 2014:08:27 15:05:44
Create Date : 2014:08:27 15:05:44
Shutter Speed Value : 1/60
Aperture Value : 11.0
Exposure Compensation : 0
Max Aperture Value : 2.0
Metering Mode : Multi-segment
Flash : Off, Did not fire
Focal Length : 100.0 mm
Color Space : sRGB
Exif Image Width : 4986
Exif Image Height : 3324
Custom Rendered : Normal
Exposure Mode : Auto
White Balance : Auto
Scene Capture Type : Standard
Serial Number : 052024002286
Lens Info : 100mm f/?
Lens Model : Zeiss Makro-Planar T* 2/100 ZE
Lens Serial Number : 0000000000
Profile Description : sRGB IEC61966-2.1
Creator Tool : Adobe Photoshop Lightroom 4.4 (Windows)
Format : image/jpeg
Lens : Zeiss Makro-Planar T* 2/100 ZE
Image Number : 0
Flash Compensation : 0
Firmware : 1.2.3
Date Created : 2014:08:27 15:05:44.001
Color Mode : RGB
ICC Profile Name : sRGB IEC61966-2.1
Version : 7.4
Process Version : 6.7
Color Temperature : 4400
Tint : +8
Saturation : -5
Sharpness : 46
Luminance Smoothing : 25
Color Noise Reduction : 25
Vignette Amount : 0
Shadow Tint : 0
Red Hue : 0
Red Saturation : 0
Green Hue : 0
Green Saturation : 0
Blue Hue : 0
Blue Saturation : 0
Vibrance : +25
Hue Adjustment Red : 0
Hue Adjustment Orange : 0
Hue Adjustment Yellow : 0
Hue Adjustment Green : +20
Hue Adjustment Aqua : 0
Hue Adjustment Blue : 0
Hue Adjustment Purple : 0
Hue Adjustment Magenta : 0
Saturation Adjustment Red : 0
Saturation Adjustment Orange : 0
Saturation Adjustment Yellow : 0
Saturation Adjustment Green : 0
Saturation Adjustment Aqua : 0
Saturation Adjustment Blue : 0
Saturation Adjustment Purple : 0
Saturation Adjustment Magenta : 0
Luminance Adjustment Red : 0
Luminance Adjustment Orange : 0
Luminance Adjustment Yellow : 0
Luminance Adjustment Green : 0
Luminance Adjustment Aqua : 0
Luminance Adjustment Blue : 0
Luminance Adjustment Purple : 0
Luminance Adjustment Magenta : 0
Split Toning Shadow Hue : 0
Split Toning Shadow Saturation : 0
Split Toning Highlight Hue : 0
Split Toning Highlight Saturation : 0
Split Toning Balance : 0
Parametric Shadows : 0
Parametric Darks : 0
Parametric Lights : 0
Parametric Highlights : 0
Parametric Shadow Split : 25
Parametric Midtone Split : 50
Parametric Highlight Split : 75
Sharpen Radius : +1.0
Sharpen Detail : 25
Sharpen Edge Masking : 0
Post Crop Vignette Amount : 0
Grain Amount : 0
Luminance Noise Reduction Detail : 50
Color Noise Reduction Detail : 50
Luminance Noise Reduction Contrast : 0
Lens Profile Enable : 0
Lens Manual Distortion Amount : 0
Perspective Vertical : 0
Perspective Horizontal : 0
Perspective Rotate : 0.0
Perspective Scale : 100
Auto Lateral CA : 0
Exposure 2012 : 0.00
Contrast 2012 : +21
Highlights 2012 : 0
Shadows 2012 : 0
Whites 2012 : 0
Blacks 2012 : 0
Clarity 2012 : +30
Defringe Purple Amount : 0
Defringe Purple Hue Lo : 30
Defringe Purple Hue Hi : 70
Defringe Green Amount : 0
Defringe Green Hue Lo : 40
Defringe Green Hue Hi : 60
Convert To Grayscale : False
Tone Curve Name 2012 : Linear
Camera Profile : Adobe Standard
Lens Profile Setup : LensDefaults
Has Settings : True
Crop Top : 0.07563
Crop Left : 0.035481
Crop Bottom : 0.941177
Crop Right : 0.901027
Crop Angle : 0
Crop Constrain To Warp : 0
Crop Width : 4986
Crop Height : 3324
Crop Unit : pixels
Has Crop : True
Already Applied : True
Creator : MIKE HOWLETT
Tone Curve PV2012 : 0, 0, 255, 255
Tone Curve PV2012 Red : 0, 0, 255, 255
Tone Curve PV2012 Green : 0, 0, 255, 255
Tone Curve PV2012 Blue : 0, 0, 255, 255
Image Width : 300
Image Height : 200
Bits Per Sample : 8
Color Components : 3
Aperture : 11.0
Image Size : 300x200
Megapixels : 0.060
Scale Factor To 35 mm Equivalent : 1.2
Shutter Speed : 1/60
Create Date : 2014:08:27 15:05:44.01
Date/Time Original : 2014:08:27 15:05:44.01
Circle Of Confusion : 0.026 mm
Field Of View : 17.7 deg
Focal Length : 100.0 mm (35 mm equivalent: 115.5 mm)
Hyperfocal Distance : 34.95 m
Light Value : 10.1
Lens ID : Carl Zeiss Makro-Planar T* 100mm f/2 ZE