Uber Exif Photo
Photometric Interpretation : RGB
Make : SONY
Camera Model Name : ILCE-7R
Orientation : Horizontal (normal)
Samples Per Pixel : 3
Software : Adobe Photoshop Elements 12.0 Windows
Modify Date : 2014:12:01 23:05:39
Exposure Time : 1/250
F Number : 11.0
Exposure Program : Aperture-priority AE
ISO : 100
Sensitivity Type : Recommended Exposure Index
Recommended Exposure Index : 100
Date/Time Original : 2014:11:23 14:38:32
Create Date : 2014:11:23 14:38:32
Shutter Speed Value : 1/250
Aperture Value : 11.0
Brightness Value : 11.11875
Exposure Compensation : +0.3
Max Aperture Value : 4.0
Metering Mode : Multi-segment
Light Source : Unknown
Flash : Off, Did not fire
Focal Length : 16.0 mm
Color Space : sRGB
Exif Image Width : 1200
Exif Image Height : 801
Scene Type : Directly photographed
Custom Rendered : Normal
Exposure Mode : Auto
White Balance : Auto
Digital Zoom Ratio : 1
Focal Length In 35mm Format : 16 mm
Scene Capture Type : Standard
Contrast : Normal
Saturation : Normal
Sharpness : Normal
Lens Info : 16-35mm f/4
Lens Model : FE 16-35mm F4 ZA OSS
Profile Description : sRGB IEC61966-2.1
Creator Tool : Adobe Photoshop Lightroom 5.7 (Windows)
Lens : FE 16-35mm F4 ZA OSS
Lens Distort Info : 33616/32768 -125462627/1073741824 128791769/1073741824 -49925223/1073741824
Date Created : 2014:11:23 14:38:32
Color Mode : RGB
ICC Profile Name : sRGB IEC61966-2.1
Format : image/jpeg
Version : 8.7
Process Version : 6.7
Auto White Version : 134348800
Color Temperature : 5750
Tint : +3
Luminance Smoothing : 0
Color Noise Reduction : 0
Vignette Amount : 0
Shadow Tint : 0
Red Hue : 0
Red Saturation : 0
Green Hue : 0
Green Saturation : 0
Blue Hue : 0
Blue Saturation : 0
Vibrance : +10
Hue Adjustment Red : +5
Hue Adjustment Orange : -5
Hue Adjustment Yellow : -5
Hue Adjustment Green : 0
Hue Adjustment Aqua : +5
Hue Adjustment Blue : -5
Hue Adjustment Purple : 0
Hue Adjustment Magenta : 0
Saturation Adjustment Red : 0
Saturation Adjustment Orange : +10
Saturation Adjustment Yellow : +15
Saturation Adjustment Green : 0
Saturation Adjustment Aqua : 0
Saturation Adjustment Blue : +5
Saturation Adjustment Purple : 0
Saturation Adjustment Magenta : 0
Luminance Adjustment Red : 0
Luminance Adjustment Orange : +25
Luminance Adjustment Yellow : +20
Luminance Adjustment Green : 0
Luminance Adjustment Aqua : 0
Luminance Adjustment Blue : -5
Luminance Adjustment Purple : 0
Luminance Adjustment Magenta : 0
Split Toning Shadow Hue : 0
Split Toning Shadow Saturation : 0
Split Toning Highlight Hue : 0
Split Toning Highlight Saturation : 0
Split Toning Balance : 0
Parametric Shadows : -5
Parametric Darks : 0
Parametric Lights : +20
Parametric Highlights : +25
Parametric Shadow Split : 25
Parametric Midtone Split : 50
Parametric Highlight Split : 75
Sharpen Radius : +1.0
Sharpen Detail : 25
Sharpen Edge Masking : 0
Post Crop Vignette Amount : 0
Grain Amount : 0
Lens Profile Enable : 1
Lens Manual Distortion Amount : 0
Perspective Vertical : 0
Perspective Horizontal : 0
Perspective Rotate : 0.0
Perspective Scale : 100
Perspective Aspect : 0
Perspective Upright : Off
Auto Lateral CA : 1
Exposure 2012 : -0.30
Contrast 2012 : +10
Highlights 2012 : 0
Shadows 2012 : +65
Whites 2012 : 0
Blacks 2012 : -5
Clarity 2012 : +10
Defringe Purple Amount : 0
Defringe Purple Hue Lo : 30
Defringe Purple Hue Hi : 70
Defringe Green Amount : 0
Defringe Green Hue Lo : 40
Defringe Green Hue Hi : 60
Convert To Grayscale : False
Tone Curve Name : Linear
Tone Curve Name 2012 : Linear
Camera Profile : Camera Neutral
Lens Profile Setup : LensDefaults
Lens Profile Name : Adobe (Sony FE 16-35mm F4 ZA OSS)
Lens Profile Filename : SONY (Sony FE 16-35mm F4 ZA OSS) - RAW.lcp
Lens Profile Distortion Scale : 100
Lens Profile Chromatic Aberration Scale : 100
Lens Profile Vignetting Scale : 100
Has Settings : True
Has Crop : False
Already Applied : True
Tone Curve : 0, 0, 255, 255
Tone Curve Red : 0, 0, 255, 255
Tone Curve Green : 0, 0, 255, 255
Tone Curve Blue : 0, 0, 255, 255
Tone Curve PV2012 : 0, 0, 255, 255
Tone Curve PV2012 Red : 0, 0, 255, 255
Tone Curve PV2012 Green : 0, 0, 255, 255
Tone Curve PV2012 Blue : 0, 0, 255, 255
Image Width : 300
Image Height : 200
Bits Per Sample : 8
Color Components : 3
Aperture : 11.0
Image Size : 300x200
Megapixels : 0.060
Scale Factor To 35 mm Equivalent : 1.0
Shutter Speed : 1/250
Circle Of Confusion : 0.030 mm
Field Of View : 96.7 deg
Focal Length : 16.0 mm (35 mm equivalent: 16.0 mm)
Hyperfocal Distance : 0.77 m
Light Value : 14.9
Lens ID : FE 16-35mm F4 ZA OSS