Uber Exif Photo
Image Description :
Make : SONY
Camera Model Name : NEX-7
Orientation : Horizontal (normal)
Software : DxO OpticsPro 10.0
Modify Date : 2014:12:08 11:47:44
Other Image Start : 144064
Other Image Length : 651238
Exposure Time : 1/500
F Number : 0
Exposure Program : Manual
ISO : 100
Sensitivity Type : Recommended Exposure Index
Recommended Exposure Index : 100
Date/Time Original : 2014:12:08 11:47:44
Create Date : 2014:12:08 11:47:44
Compressed Bits Per Pixel : 8
Brightness Value : 4.43125
Exposure Compensation : 0
Max Aperture Value : 1.0
Metering Mode : Spot
Light Source : Daylight
Focal Length : 0.0 mm
Quality : RAW
Flash Exposure Compensation : inf
Teleconverter : None
White Balance Fine Tune : 0
White Balance : Daylight
Brightness : 0
Long Exposure Noise Reduction : Off
High ISO Noise Reduction : Off
HDR : Off; Uncorrected image
Multi Frame Noise Reduction : Off
Picture Effect : Off
Soft Skin Effect : Off
Sequence Image Number : 1
Sequence File Number : 3
Release Mode 3 : Bracketing
Self Timer : Self-timer 2 s
Flash Mode : Autoflash
Stops Above Base ISO : 16.0
HDR Setting : Off
Picture Profile : Gamma Still - Light
Picture Effect 2 : Pop Color
Quality 2 : Unknown (3)
WB RGB Levels : 361 0 1
Sony ISO : 0
Distortion Corr Params : 0 0 0 0 0 0 0 0 0 0 0 0 0 0 2 0
Vignetting Correction : Off
Lateral Chromatic Aberration : Off
Distortion Correction Setting : Off
WB Shift AB GM : 0 6179145
Face Info Offset : 12338
Sony Date Time : :12:08 11:47:44
Sony Image Height : 0
Sony Image Width : 3026
Faces Detected : 17220
Face Info Length : 13111
Meta Version : 03320222000
Shutter : Mechanical (6847 0 0)
Flash Status : No Flash present
Shutter Count : 0
Sony Exposure Time : 16384
Sony F Number : 0.0
Release Mode 2 : Unknown (14)
Lens Mount : Unknown
Lens Format : Unknown
Distortion Corr Params Present : No
Lens Spec Features :
Shutter Count 3 : 3590708225
Focus Mode : Unknown (127)
AF Area Mode : Multi
Focus Position 2 : 0
Lens Mount 2 : A-mount (1)
Lens Type 3 : Unknown (288)
Camera E-mount Version : 0.ff
Lens E-mount Version : 0.00
Lens Firmware Version : Ver.00.000
File Format : ARW 2.3.1
Sony Model ID : NEX-7
Creative Style : dard
Color Compensation Filter : 0
Scene Mode : Standard
Zone Matching : ISO Setting Used
Dynamic Range Optimizer : Off
Image Stabilization : Off
Lens Type : E-Mount, T-Mount, Other Lens or no lens
Color Mode : Standard
Lens Spec : Unknown (00 0 1 0 0 00)
Full Image Size : 1080x6000
Flash Level : Normal
Release Mode : Exposure Bracketing
Sequence Number : 1
Anti-Blur : Off
Intelligent Auto : Off
User Comment :
Color Space : Uncalibrated
Exif Image Width : 2048
Exif Image Height : 1364
Scene Type : Directly photographed
Custom Rendered : Normal
Exposure Mode : Auto bracket
Focal Length In 35mm Format : 0 mm
Scene Capture Type : Standard
Contrast : Normal
Saturation : Normal
Sharpness : Normal
Lens Model : ----
PrintIM Version : 0300
Subfile Type : Reduced-resolution image
Profile Description : Adobe RGB (1998)
Shutter Speed Value : 1/500
Flash Fired : False
Flash Return : No return detection
Flash Function : False
Flash Red Eye Mode : False
Creator Tool : NEX-7 v1.03
Rating : 0
Lens : ----
Date Created : 2014:12:08 11:47:44
Sidecar For Extension : ARW
Format : image/x-sony-arw
Raw File Name : _DSC0344.ARW
Version : 8.6
Process Version : 6.7
Auto White Version : 134348800
Color Temperature : 5200
Tint : +2
Luminance Smoothing : 50
Color Noise Reduction : 45
Vignette Amount : 0
Shadow Tint : 0
Red Hue : 0
Red Saturation : 0
Green Hue : 0
Green Saturation : 0
Blue Hue : 0
Blue Saturation : 0
Vibrance : 0
Hue Adjustment Red : 0
Hue Adjustment Orange : 0
Hue Adjustment Yellow : 0
Hue Adjustment Green : 0
Hue Adjustment Aqua : 0
Hue Adjustment Blue : +23
Hue Adjustment Purple : -15
Hue Adjustment Magenta : -46
Saturation Adjustment Red : 0
Saturation Adjustment Orange : +68
Saturation Adjustment Yellow : -48
Saturation Adjustment Green : +17
Saturation Adjustment Aqua : 0
Saturation Adjustment Blue : +38
Saturation Adjustment Purple : -32
Saturation Adjustment Magenta : -88
Luminance Adjustment Red : 0
Luminance Adjustment Orange : +53
Luminance Adjustment Yellow : -41
Luminance Adjustment Green : +63
Luminance Adjustment Aqua : -17
Luminance Adjustment Blue : -86
Luminance Adjustment Purple : -12
Luminance Adjustment Magenta : -100
Split Toning Shadow Hue : 0
Split Toning Shadow Saturation : 0
Split Toning Highlight Hue : 0
Split Toning Highlight Saturation : 0
Split Toning Balance : 0
Parametric Shadows : 0
Parametric Darks : 0
Parametric Lights : 0
Parametric Highlights : 0
Parametric Shadow Split : 25
Parametric Midtone Split : 50
Parametric Highlight Split : 75
Sharpen Radius : +0.9
Sharpen Detail : 73
Sharpen Edge Masking : 0
Post Crop Vignette Amount : 0
Grain Amount : 0
Luminance Noise Reduction Detail : 50
Color Noise Reduction Detail : 46
Luminance Noise Reduction Contrast : 0
Color Noise Reduction Smoothness : 50
Lens Profile Enable : 0
Lens Manual Distortion Amount : 0
Perspective Vertical : 0
Perspective Horizontal : 0
Perspective Rotate : 0.0
Perspective Scale : 100
Perspective Aspect : 0
Perspective Upright : Off
Auto Lateral CA : 1
Exposure 2012 : 0.00
Contrast 2012 : 0
Highlights 2012 : 0
Shadows 2012 : 0
Whites 2012 : +64
Blacks 2012 : 0
Clarity 2012 : +50
Defringe Purple Amount : 2
Defringe Purple Hue Lo : 30
Defringe Purple Hue Hi : 70
Defringe Green Amount : 0
Defringe Green Hue Lo : 40
Defringe Green Hue Hi : 60
Convert To Grayscale : False
Tone Curve Name : Medium Contrast
Tone Curve Name 2012 : Linear
Camera Profile : Adobe Standard
Lens Profile Setup : LensDefaults
Has Settings : True
Has Crop : False
Already Applied : True
Tone Curve : 0, 0, 32, 22, 64, 56, 128, 128, 192, 196, 255, 255
Tone Curve Red : 0, 0, 255, 255
Tone Curve Green : 0, 0, 255, 255
Tone Curve Blue : 0, 0, 255, 255
Tone Curve PV2012 : 0, 0, 255, 255
Tone Curve PV2012 Red : 0, 0, 255, 255
Tone Curve PV2012 Green : 0, 0, 255, 255
Tone Curve PV2012 Blue : 0, 0, 255, 255
Image Width : 300
Image Height : 200
Bits Per Sample : 8
Color Components : 3
Image Size : 300x200
Lens ID : Unknown E-mount lens
Megapixels : 0.060
Scale Factor To 35 mm Equivalent : 4.5
Shutter Speed : 1/500
Flash : Off, Did not fire
Circle Of Confusion : 0.007 mm
Focal Length : 0.0 mm (35 mm equivalent: 0.0 mm)