Uber Exif Photo
By-line : Yeh
Copyright Notice : T.Y.Yeh
Make : Canon
Camera Model Name : Canon EOS 5D Mark III
Orientation : Horizontal (normal)
Software : Adobe Photoshop CS6 (Windows)
Modify Date : 2014:12:06 15:06:22
Artist : Yeh
Copyright : T.Y.Yeh
Exposure Time : 1/250
F Number : 4.5
Exposure Program : Aperture-priority AE
ISO : 100
Sensitivity Type : Recommended Exposure Index
Recommended Exposure Index : 100
Date/Time Original : 2014:10:31 10:43:09
Create Date : 2014:10:31 10:43:09
Shutter Speed Value : 1/250
Aperture Value : 4.5
Exposure Compensation : 0
Max Aperture Value : 4.6
Metering Mode : Spot
Flash : Off, Did not fire
Focal Length : 88.0 mm
Color Space : Uncalibrated
Exif Image Width : 4163
Exif Image Height : 2778
Custom Rendered : Normal
Exposure Mode : Auto
White Balance : Auto
Scene Capture Type : Standard
Owner Name : Yeh Toh Yen
Serial Number : 068024007799
Lens Info : 45-90mm f/?
Lens Model : 45-90mm
Lens Serial Number : 0000000000
Profile Description : Adobe RGB (1998)
Rating : 0
Format : image/jpeg
Lens : 45-90mm
Image Number : 0
Approximate Focus Distance : 4294967295
Flash Compensation : 0
Firmware : 1.2.3
Date Created : 2014:10:31 10:43:09
Color Mode : RGB
ICC Profile Name : Adobe RGB (1998)
Raw File Name : LN9A6503.CR2
Version : 7.1
Process Version : 6.7
Color Temperature : 4850
Tint : +13
Saturation : 0
Sharpness : 25
Luminance Smoothing : 0
Color Noise Reduction : 25
Vignette Amount : 0
Shadow Tint : 0
Red Hue : 0
Red Saturation : 0
Green Hue : 0
Green Saturation : 0
Blue Hue : 0
Blue Saturation : 0
Vibrance : 0
Hue Adjustment Red : 0
Hue Adjustment Orange : 0
Hue Adjustment Yellow : 0
Hue Adjustment Green : 0
Hue Adjustment Aqua : 0
Hue Adjustment Blue : 0
Hue Adjustment Purple : 0
Hue Adjustment Magenta : 0
Saturation Adjustment Red : 0
Saturation Adjustment Orange : 0
Saturation Adjustment Yellow : 0
Saturation Adjustment Green : 0
Saturation Adjustment Aqua : 0
Saturation Adjustment Blue : 0
Saturation Adjustment Purple : 0
Saturation Adjustment Magenta : 0
Luminance Adjustment Red : 0
Luminance Adjustment Orange : 0
Luminance Adjustment Yellow : 0
Luminance Adjustment Green : 0
Luminance Adjustment Aqua : 0
Luminance Adjustment Blue : 0
Luminance Adjustment Purple : 0
Luminance Adjustment Magenta : 0
Split Toning Shadow Hue : 0
Split Toning Shadow Saturation : 0
Split Toning Highlight Hue : 0
Split Toning Highlight Saturation : 0
Split Toning Balance : 0
Parametric Shadows : 0
Parametric Darks : 0
Parametric Lights : 0
Parametric Highlights : 0
Parametric Shadow Split : 25
Parametric Midtone Split : 50
Parametric Highlight Split : 75
Sharpen Radius : +1.0
Sharpen Detail : 25
Sharpen Edge Masking : 0
Post Crop Vignette Amount : 0
Grain Amount : 0
Color Noise Reduction Detail : 50
Lens Profile Enable : 0
Lens Manual Distortion Amount : 0
Perspective Vertical : 0
Perspective Horizontal : 0
Perspective Rotate : 0.0
Perspective Scale : 100
Auto Lateral CA : 0
Exposure 2012 : -0.45
Contrast 2012 : 0
Highlights 2012 : -20
Shadows 2012 : +60
Whites 2012 : 0
Blacks 2012 : 0
Clarity 2012 : +33
Defringe Purple Amount : 0
Defringe Purple Hue Lo : 30
Defringe Purple Hue Hi : 70
Defringe Green Amount : 0
Defringe Green Hue Lo : 40
Defringe Green Hue Hi : 60
Convert To Grayscale : False
Tone Curve Name 2012 : Linear
Camera Profile : Adobe Standard
Lens Profile Setup : LensDefaults
Has Settings : True
Has Crop : False
Already Applied : True
Creator : Yeh
Rights : T.Y.Yeh
Tone Curve PV2012 : 0, 0, 255, 255
Tone Curve PV2012 Red : 0, 0, 255, 255
Tone Curve PV2012 Green : 0, 0, 255, 255
Tone Curve PV2012 Blue : 0, 0, 255, 255
Image Width : 300
Image Height : 200
Bits Per Sample : 8
Color Components : 3
Aperture : 4.5
Image Size : 300x200
Megapixels : 0.060
Scale Factor To 35 mm Equivalent : 1.4
Shutter Speed : 1/250
Create Date : 2014:10:31 10:43:09.00
Date/Time Original : 2014:10:31 10:43:09.00
Modify Date : 2014:12:06 15:06:22.00
Circle Of Confusion : 0.022 mm
Depth Of Field : inf (79.22 m - inf)
Field Of View : 16.8 deg
Focal Length : 88.0 mm (35 mm equivalent: 121.7 mm)
Hyperfocal Distance : 79.22 m
Light Value : 12.3
Lens ID : Canon 45-90mm