Uber Exif Photo
Object Name : Gas
Keywords : 25 mm, D810, Portrait, ZF2, Zeiss, girl, madrid, nikon, people, retrato, woman, zeiss distagon 25
By-line : jamesmd
Copyright Notice : jamesmd21013
Make : NIKON CORPORATION
Camera Model Name : NIKON D810
Software : Adobe Photoshop Lightroom 5.7 (Macintosh)
Modify Date : 2014:12:14 23:26:37
Artist : jamesmd
Copyright : jamesmd21013
Exposure Time : 1/200
F Number : 5.6
Exposure Program : Aperture-priority AE
ISO : 800
Date/Time Original : 2014:12:13 16:08:26
Create Date : 2014:12:13 16:08:26
Shutter Speed Value : 1/200
Aperture Value : 5.6
Exposure Compensation : -1/3
Max Aperture Value : 2.8
Metering Mode : Multi-segment
Light Source : Unknown
Flash : Off, Did not fire
Focal Length : 25.0 mm
Sensing Method : One-chip color area
Scene Type : Directly photographed
Exposure Mode : Auto
White Balance : Auto
Digital Zoom Ratio : 1
Focal Length In 35mm Format : 25 mm
Scene Capture Type : Standard
Gain Control : Low gain up
Contrast : Normal
Saturation : Normal
Sharpness : Normal
Subject Distance Range : Unknown
Serial Number : 6009618
Lens Info : 25mm f/2.8
Lens Model : Zeiss Distagon T* 2.8/25 ZF.2
Profile Description : sRGB IEC61966-2.1
Image Number : 1670
Lens : Zeiss Distagon T* 2.8/25 ZF.2
Format : image/jpeg
Creator Tool : Adobe Photoshop Lightroom 5.7 (Macintosh)
Label : Rojo
Date Created : 2014:12:13 16:08:26.52
Photographic Sensitivity : 800
Version : 8.7
Process Version : 6.7
Auto White Version : 134348800
Incremental Temperature : 0
Incremental Tint : 0
Luminance Smoothing : 0
Color Noise Reduction : 0
Vignette Amount : 0
Shadow Tint : 0
Red Hue : 0
Red Saturation : 0
Green Hue : 0
Green Saturation : 0
Blue Hue : 0
Blue Saturation : 0
Vibrance : +4
Hue Adjustment Red : 0
Hue Adjustment Orange : 0
Hue Adjustment Yellow : 0
Hue Adjustment Green : 0
Hue Adjustment Aqua : 0
Hue Adjustment Blue : 0
Hue Adjustment Purple : 0
Hue Adjustment Magenta : 0
Saturation Adjustment Red : 0
Saturation Adjustment Orange : 0
Saturation Adjustment Yellow : 0
Saturation Adjustment Green : 0
Saturation Adjustment Aqua : 0
Saturation Adjustment Blue : 0
Saturation Adjustment Purple : 0
Saturation Adjustment Magenta : 0
Luminance Adjustment Red : 0
Luminance Adjustment Orange : 0
Luminance Adjustment Yellow : 0
Luminance Adjustment Green : 0
Luminance Adjustment Aqua : 0
Luminance Adjustment Blue : 0
Luminance Adjustment Purple : 0
Luminance Adjustment Magenta : 0
Split Toning Shadow Hue : 0
Split Toning Shadow Saturation : 0
Split Toning Highlight Hue : 0
Split Toning Highlight Saturation : 0
Split Toning Balance : 0
Parametric Shadows : 0
Parametric Darks : 0
Parametric Lights : 0
Parametric Highlights : 0
Parametric Shadow Split : 25
Parametric Midtone Split : 50
Parametric Highlight Split : 75
Sharpen Radius : +1.0
Sharpen Detail : 25
Sharpen Edge Masking : 0
Post Crop Vignette Amount : 0
Grain Amount : 0
Lens Profile Enable : 0
Lens Manual Distortion Amount : 0
Perspective Vertical : 0
Perspective Horizontal : 0
Perspective Rotate : 0.0
Perspective Scale : 100
Perspective Aspect : 0
Perspective Upright : Off
Auto Lateral CA : 0
Exposure 2012 : 0.00
Contrast 2012 : 0
Highlights 2012 : 0
Shadows 2012 : 0
Whites 2012 : +7
Blacks 2012 : 0
Clarity 2012 : 0
Defringe Purple Amount : 0
Defringe Purple Hue Lo : 30
Defringe Purple Hue Hi : 70
Defringe Green Amount : 0
Defringe Green Hue Lo : 40
Defringe Green Hue Hi : 60
Convert To Grayscale : False
Tone Curve Name : Linear
Tone Curve Name 2012 : Linear
Camera Profile : Embedded
Lens Profile Setup : LensDefaults
Has Settings : True
Has Crop : False
Already Applied : True
Creator : jamesmd
Title : Gas
Rights : jamesmd21013
Subject : 25 mm, D810, Portrait, ZF2, Zeiss, girl, madrid, nikon, people, retrato, woman, zeiss distagon 25
Tone Curve : 0, 0, 255, 255
Tone Curve Red : 0, 0, 255, 255
Tone Curve Green : 0, 0, 255, 255
Tone Curve Blue : 0, 0, 255, 255
Tone Curve PV2012 : 0, 0, 255, 255
Tone Curve PV2012 Red : 0, 0, 255, 255
Tone Curve PV2012 Green : 0, 0, 255, 255
Tone Curve PV2012 Blue : 0, 0, 255, 255
Circ Grad Based Corr What : Correction
Circ Grad Based Corr Amount : 1.000000
Circ Grad Based Corr Active : true
Circ Grad Based Corr Saturation : 0.542373
Circ Grad Based Corr Sharpness : 0.000000
Circ Grad Based Corr Brightness : 0.000000
Circ Grad Based Corr Toning Hue : 240.000000
Circ Grad Based Corr Toning Saturation : 0.000000
Circ Grad Based Corr Exposure 2012 : 0.000000
Circ Grad Based Corr Contrast 2012 : 0.000000
Circ Grad Based Corr Highlights 2012 : 0.000000
Circ Grad Based Corr Shadows 2012 : 0.000000
Circ Grad Based Corr Clarity 2012 : 0.000000
Circ Grad Based Corr Luminance Noise : 0.000000
Circ Grad Based Corr Moire : 0.000000
Circ Grad Based Corr Defringe : 0.000000
Circ Grad Based Corr Temperature : 0.000000
Circ Grad Based Corr Tint : 0.000000
Circ Grad Based Corr Mask What : Mask/CircularGradient
Circ Grad Based Corr Mask Value : 1.000000
Circ Grad Based Corr Mask Top : 0.357946
Circ Grad Based Corr Mask Left : 0.000991
Circ Grad Based Corr Mask Bottom : 0.975991
Circ Grad Based Corr Mask Right : 0.496307
Circ Grad Based Corr Mask Angle : -9.997610
Circ Grad Based Corr Mask Midpoint : +50
Circ Grad Based Corr Mask Roundness : 0
Circ Grad Based Corr Mask Feather : +42
Circ Grad Based Corr Mask Flipped : false
Circ Grad Based Corr Mask Version : +2
Image Width : 200
Image Height : 300
Bits Per Sample : 8
Color Components : 3
Aperture : 5.6
Image Size : 200x300
Megapixels : 0.060
Scale Factor To 35 mm Equivalent : 1.0
Shutter Speed : 1/200
Create Date : 2014:12:13 16:08:26.52
Date/Time Original : 2014:12:13 16:08:26.52
Circle Of Confusion : 0.030 mm
Field Of View : 71.5 deg
Focal Length : 25.0 mm (35 mm equivalent: 25.0 mm)
Hyperfocal Distance : 3.71 m
Light Value : 9.6